BEGIN:VCALENDAR
VERSION:2.0
PRODID:-//Teatro Metamorfosis - ECPv6.15.20//NONSGML v1.0//EN
CALSCALE:GREGORIAN
METHOD:PUBLISH
X-WR-CALNAME:Teatro Metamorfosis
X-ORIGINAL-URL:https://teatrometamorfosis.com/es/
X-WR-CALDESC:Eventos para Teatro Metamorfosis
REFRESH-INTERVAL;VALUE=DURATION:PT1H
X-Robots-Tag:noindex
X-PUBLISHED-TTL:PT1H
BEGIN:VTIMEZONE
TZID:Europe/Madrid
BEGIN:DAYLIGHT
TZOFFSETFROM:+0100
TZOFFSETTO:+0200
TZNAME:CEST
DTSTART:20240331T010000
END:DAYLIGHT
BEGIN:STANDARD
TZOFFSETFROM:+0200
TZOFFSETTO:+0100
TZNAME:CET
DTSTART:20241027T010000
END:STANDARD
BEGIN:DAYLIGHT
TZOFFSETFROM:+0100
TZOFFSETTO:+0200
TZNAME:CEST
DTSTART:20250330T010000
END:DAYLIGHT
BEGIN:STANDARD
TZOFFSETFROM:+0200
TZOFFSETTO:+0100
TZNAME:CET
DTSTART:20251026T010000
END:STANDARD
BEGIN:DAYLIGHT
TZOFFSETFROM:+0100
TZOFFSETTO:+0200
TZNAME:CEST
DTSTART:20260329T010000
END:DAYLIGHT
BEGIN:STANDARD
TZOFFSETFROM:+0200
TZOFFSETTO:+0100
TZNAME:CET
DTSTART:20261025T010000
END:STANDARD
END:VTIMEZONE
BEGIN:VEVENT
DTSTART;TZID=Europe/Madrid:20251108T190000
DTEND;TZID=Europe/Madrid:20251108T200000
DTSTAMP:20260424T203807
CREATED:20251014T152321Z
LAST-MODIFIED:20251014T152321Z
UID:10002897-1762628400-1762632000@teatrometamorfosis.com
SUMMARY:Dragatha Christie y el Envenenamiento en la Oficina
DESCRIPTION:Work Can Be MURDER! \nIt’s the annual Gala Event at “Slay”\, the biggest record company in the world — but not everyone in the office is celebrating. \nIn fact\, someone has murder on their mind and is ready to kill anyone who gets in their way! \n💀 Six suspects. Six weapons. Six motives. \nCan you help Dragatha Christie uncover the killer? \n🎭 Dragatha Christie & the Office Poisoning \n🗓️ 8th November \n🕖 19:00 & 21:30 \n📍 Teatro Metamorfosis \n⸻ \n¡Trabajar puede ser un ASESINATO! \nEs la gala anual de “Slay”\, la discográfica más grande del mundo… pero no todos en la oficina están de celebración. \nDe hecho\, alguien tiene el asesinato en mente y está dispuesto a eliminar a quien se cruce en su camino. \n💀 Seis sospechosos. Seis armas. Seis motivos. \n¿Podrás ayudar a Dragatha Christie a descubrir al culpable? \n🎭 Dragatha Christie y el Envenenamiento en la Oficina \n🗓️ 8 de noviembre \n🕖 19:00 y 21:30 \n📍 Teatro Metamorfosis \nEste será un espectáculo en Spanglish — una mezcla divertidísima de inglés y español —
URL:https://teatrometamorfosis.com/es/event/dragatha-christie-y-el-envenenamiento-en-la-oficina/2025-11-08/1/
ATTACH;FMTTYPE=image/jpeg:https://teatrometamorfosis.com/wp-content/uploads/2025/10/WhatsApp-Image-2025-10-13-at-10.03.39.jpeg
END:VEVENT
END:VCALENDAR