BEGIN:VCALENDAR
VERSION:2.0
PRODID:-//Teatro Metamorfosis - ECPv6.15.20//NONSGML v1.0//EN
CALSCALE:GREGORIAN
METHOD:PUBLISH
X-WR-CALNAME:Teatro Metamorfosis
X-ORIGINAL-URL:https://teatrometamorfosis.com/es/
X-WR-CALDESC:Eventos para Teatro Metamorfosis
REFRESH-INTERVAL;VALUE=DURATION:PT1H
X-Robots-Tag:noindex
X-PUBLISHED-TTL:PT1H
BEGIN:VTIMEZONE
TZID:Europe/Madrid
BEGIN:DAYLIGHT
TZOFFSETFROM:+0100
TZOFFSETTO:+0200
TZNAME:CEST
DTSTART:20240331T010000
END:DAYLIGHT
BEGIN:STANDARD
TZOFFSETFROM:+0200
TZOFFSETTO:+0100
TZNAME:CET
DTSTART:20241027T010000
END:STANDARD
BEGIN:DAYLIGHT
TZOFFSETFROM:+0100
TZOFFSETTO:+0200
TZNAME:CEST
DTSTART:20250330T010000
END:DAYLIGHT
BEGIN:STANDARD
TZOFFSETFROM:+0200
TZOFFSETTO:+0100
TZNAME:CET
DTSTART:20251026T010000
END:STANDARD
BEGIN:DAYLIGHT
TZOFFSETFROM:+0100
TZOFFSETTO:+0200
TZNAME:CEST
DTSTART:20260329T010000
END:DAYLIGHT
BEGIN:STANDARD
TZOFFSETFROM:+0200
TZOFFSETTO:+0100
TZNAME:CET
DTSTART:20261025T010000
END:STANDARD
END:VTIMEZONE
BEGIN:VEVENT
DTSTART;TZID=Europe/Madrid:20250622T183000
DTEND;TZID=Europe/Madrid:20250622T193000
DTSTAMP:20260425T021912
CREATED:20250603T113804Z
LAST-MODIFIED:20250603T113805Z
UID:10002207-1750617000-1750620600@teatrometamorfosis.com
SUMMARY:Fiesta teatral
DESCRIPTION:Teatro Metamorfosis – Tapioles 12 \n17/06 – 20:30 hs \n22/06 – 18:30 hs y 20:30 hs \nEntrada con consumición \nCastellano y Catalán \nSINOPSIS E INVITACIÓN \n¡Bienvenidxs a la Fiesta Teatral! \nLa muestra de fin de año del taller de interpretación del Teatro Metamorfosis\, dirigido por Julián Galli Guillen\, llega para hacerte reír\, emocionar\, pensar y\, sobre todo\, disfrutar. \nEsta función es una verdadera celebración del teatro vivo: vas a ver monólogos\, escenas\, improvisaciones\, ejercicios teatrales y hasta coreografías que nacen del juego\, la entrega y la creatividad de sus participantes. \n¿Querés ver cómo es una clase de teatro desde adentro? ¿Te gustaría viajar de escena en escena\, de un personaje al otro\, en cuestión de segundos? \nEntonces esta fiesta es para vos. \nTodos los textos y personajes han sido creados e interpretados por lxs mismxs actuantes del taller\, en un espacio de exploración artística colectiva\, libertad y pasión por la escena. \nUna invitación a compartir el cierre de un proceso lleno de emoción\, humor\, esfuerzo y mucho arte. ¡Vení a celebrarlo con nosotrxs! \n⸻ \nActúan (por orden alfabético): \nAnna Civit · Julieta De Lorenzo · Maguie F Alzogaray · Julián Taleti Flores · Quintin Valiente · Raquel Raquel · Rafa Reynoso · Lorenzo Roscio · Santiago Brunetti · Xavi Cuello \nLuces y sonido: Equipo Metamorfosis
URL:https://teatrometamorfosis.com/es/event/fiesta-teatral/2025-06-22/1/
ATTACH;FMTTYPE=image/png:https://teatrometamorfosis.com/wp-content/uploads/2025/06/event_m_FIESTA_TEATRAL_1.png
END:VEVENT
END:VCALENDAR