BEGIN:VCALENDAR
VERSION:2.0
PRODID:-//Teatro Metamorfosis - ECPv6.15.20//NONSGML v1.0//EN
CALSCALE:GREGORIAN
METHOD:PUBLISH
X-WR-CALNAME:Teatro Metamorfosis
X-ORIGINAL-URL:https://teatrometamorfosis.com/es/
X-WR-CALDESC:Eventos para Teatro Metamorfosis
REFRESH-INTERVAL;VALUE=DURATION:PT1H
X-Robots-Tag:noindex
X-PUBLISHED-TTL:PT1H
BEGIN:VTIMEZONE
TZID:Europe/Madrid
BEGIN:DAYLIGHT
TZOFFSETFROM:+0100
TZOFFSETTO:+0200
TZNAME:CEST
DTSTART:20250330T010000
END:DAYLIGHT
BEGIN:STANDARD
TZOFFSETFROM:+0200
TZOFFSETTO:+0100
TZNAME:CET
DTSTART:20251026T010000
END:STANDARD
BEGIN:DAYLIGHT
TZOFFSETFROM:+0100
TZOFFSETTO:+0200
TZNAME:CEST
DTSTART:20260329T010000
END:DAYLIGHT
BEGIN:STANDARD
TZOFFSETFROM:+0200
TZOFFSETTO:+0100
TZNAME:CET
DTSTART:20261025T010000
END:STANDARD
BEGIN:DAYLIGHT
TZOFFSETFROM:+0100
TZOFFSETTO:+0200
TZNAME:CEST
DTSTART:20270328T010000
END:DAYLIGHT
BEGIN:STANDARD
TZOFFSETFROM:+0200
TZOFFSETTO:+0100
TZNAME:CET
DTSTART:20271031T010000
END:STANDARD
END:VTIMEZONE
BEGIN:VEVENT
DTSTART;TZID=Europe/Madrid:20260409T190000
DTEND;TZID=Europe/Madrid:20260409T210000
DTSTAMP:20260424T102638
CREATED:20260403T225827Z
LAST-MODIFIED:20260403T225827Z
UID:5960-1775761200-1775768400@teatrometamorfosis.com
SUMMARY:2-DUAL
DESCRIPTION:Quinto encuentro y cierre del ciclo 2·DUAL en Metamorfosis El ciclo 2·DUAL llega a su quinto encuentro y sesión de cierre en Metamorfosis\, un espacio donde la música improvisada se fusiona con distintas disciplinas artísticas —como la pintura\, la danza y la escritura creativa— dando lugar a experiencias únicas e irrepetibles. Para esta última sesión contaremos con la pintura proyectada en directo del artista Txema Rico\, que creará una obra visual influenciada en tiempo real por la música\, el espacio y la energía del público. Su propuesta transita por una estética de belleza líquida\, orgánica\, natural y selvática\, explorando atmósferas y paisajes sensoriales en constante transformación. La música\, basada en la improvisación de percusión\, teclado y voz\, dialoga con las visuales en tiempo real para construir un viaje inmersivo donde imagen y sonido se entrelazan. \nTomàs Becket\, piano y sintetizador \nJoao Vieira\, bateria y percusión \nJordi Rabascall\, voz y efectos \nTxema Rico\, visuales \nLas puertas se abrirán a las 18:45 \nLa barra estará abierta durante todo el evento. \nLas opciones para la consumición incluída en la entrada serán : cerveza\, vino\, cava\, vermut o refresco. \nLas entradas compradas con código de descuento NO incluyen bebidas
URL:https://teatrometamorfosis.com/es/eventos/2-dual/
ATTACH;FMTTYPE=image/jpeg:https://teatrometamorfosis.com/wp-content/uploads/2026/04/event_m_IMG-20260327-WA0032.jpg
END:VEVENT
END:VCALENDAR