BEGIN:VCALENDAR
VERSION:2.0
PRODID:-//Teatro Metamorfosis - ECPv6.15.20//NONSGML v1.0//EN
CALSCALE:GREGORIAN
METHOD:PUBLISH
X-WR-CALNAME:Teatro Metamorfosis
X-ORIGINAL-URL:https://teatrometamorfosis.com/es/
X-WR-CALDESC:Eventos para Teatro Metamorfosis
REFRESH-INTERVAL;VALUE=DURATION:PT1H
X-Robots-Tag:noindex
X-PUBLISHED-TTL:PT1H
BEGIN:VTIMEZONE
TZID:Europe/Madrid
BEGIN:DAYLIGHT
TZOFFSETFROM:+0100
TZOFFSETTO:+0200
TZNAME:CEST
DTSTART:20240331T010000
END:DAYLIGHT
BEGIN:STANDARD
TZOFFSETFROM:+0200
TZOFFSETTO:+0100
TZNAME:CET
DTSTART:20241027T010000
END:STANDARD
BEGIN:DAYLIGHT
TZOFFSETFROM:+0100
TZOFFSETTO:+0200
TZNAME:CEST
DTSTART:20250330T010000
END:DAYLIGHT
BEGIN:STANDARD
TZOFFSETFROM:+0200
TZOFFSETTO:+0100
TZNAME:CET
DTSTART:20251026T010000
END:STANDARD
BEGIN:DAYLIGHT
TZOFFSETFROM:+0100
TZOFFSETTO:+0200
TZNAME:CEST
DTSTART:20260329T010000
END:DAYLIGHT
BEGIN:STANDARD
TZOFFSETFROM:+0200
TZOFFSETTO:+0100
TZNAME:CET
DTSTART:20261025T010000
END:STANDARD
END:VTIMEZONE
BEGIN:VEVENT
DTSTART;TZID=Europe/Madrid:20250201T200000
DTEND;TZID=Europe/Madrid:20250201T213000
DTSTAMP:20260424T103552
CREATED:20241212T164906Z
LAST-MODIFIED:20241212T164909Z
UID:4086-1738440000-1738445400@teatrometamorfosis.com
SUMMARY:30 Años\, un acto poético de resistencia.
DESCRIPTION:30 años\, un acto poético de resistencia es un recordatorio: un referente de nuestra historia europea del siglo XX que nos habla también de la memoria de lo que somos\, de lo que queremos ser\, de los olvidos\, las crueldades y de la esperanza a pesar de todo. Una existencia cruda y a la vez llena de belleza. Con la palabra de Ingeborg Bachmann nos adentramos en nuestra más profunda humanidad. El público asiste al testimonio de una mujer que\, a los 30 años\, abre una rendija donde luz y oscuridad danzan en un encuentro íntimo y verdadero. Toni Cots y Esther Freixa i Ràfols colaboran desde el 2007\, estableciendo un diálogo continuo sobre la creación escénica. Juntos crean un lenguaje artístico que se confronta con la mirada del espectador a partir de diferentes aproximaciones al cuerpo y al texto\, caracterizadas por una poética de la intimidad\, buscando la manera en que el hecho teatral pueda llegar a constituirse en un lugar compartido. Creación e investigación: Toni Cots y Esther Freixa i Ràfols Dramaturgia: Toni Cots En escena: Esther Freixa i Ràfols Con el apoyo de: CRA’P – Prácticas de creación e investigación artística Residencias artísticas: Teatro Potlatch (Fara Sabina\, Italia)\, Escena Mazatlán (Mazatlán\, México) y Teatro La Rendija (Mérida\, México) Agradecimientos: Kika Rodríguez\, Óscar Urrutia\, Josep Maria Jordana\, Lis Costa
URL:https://teatrometamorfosis.com/es/eventos/30-anos-un-acto-poetico-de-resistencia/
ATTACH;FMTTYPE=image/jpeg:https://teatrometamorfosis.com/wp-content/uploads/2024/12/WhatsApp-Image-2024-12-12-at-10.46.21-AM.jpeg
END:VEVENT
END:VCALENDAR