BEGIN:VCALENDAR
VERSION:2.0
PRODID:-//Teatro Metamorfosis - ECPv6.15.18//NONSGML v1.0//EN
CALSCALE:GREGORIAN
METHOD:PUBLISH
X-WR-CALNAME:Teatro Metamorfosis
X-ORIGINAL-URL:https://teatrometamorfosis.com/es/
X-WR-CALDESC:Eventos para Teatro Metamorfosis
REFRESH-INTERVAL;VALUE=DURATION:PT1H
X-Robots-Tag:noindex
X-PUBLISHED-TTL:PT1H
BEGIN:VTIMEZONE
TZID:Europe/Madrid
BEGIN:DAYLIGHT
TZOFFSETFROM:+0100
TZOFFSETTO:+0200
TZNAME:CEST
DTSTART:20230326T010000
END:DAYLIGHT
BEGIN:STANDARD
TZOFFSETFROM:+0200
TZOFFSETTO:+0100
TZNAME:CET
DTSTART:20231029T010000
END:STANDARD
BEGIN:DAYLIGHT
TZOFFSETFROM:+0100
TZOFFSETTO:+0200
TZNAME:CEST
DTSTART:20240331T010000
END:DAYLIGHT
BEGIN:STANDARD
TZOFFSETFROM:+0200
TZOFFSETTO:+0100
TZNAME:CET
DTSTART:20241027T010000
END:STANDARD
BEGIN:DAYLIGHT
TZOFFSETFROM:+0100
TZOFFSETTO:+0200
TZNAME:CEST
DTSTART:20250330T010000
END:DAYLIGHT
BEGIN:STANDARD
TZOFFSETFROM:+0200
TZOFFSETTO:+0100
TZNAME:CET
DTSTART:20251026T010000
END:STANDARD
END:VTIMEZONE
BEGIN:VEVENT
DTSTART;TZID=Europe/Madrid:20240119T200000
DTEND;TZID=Europe/Madrid:20240119T220000
DTSTAMP:20260420T015140
CREATED:20240103T182059Z
LAST-MODIFIED:20240103T182100Z
UID:2071-1705694400-1705701600@teatrometamorfosis.com
SUMMARY:ALADDIN El despertar de Shiva
DESCRIPTION:Espectáculo multidisciplinario de danza\, poesía\, música e imagen. Una nueva creación de Orlando Whales. “Deseo desear”\, le confesó el opulento Aladdin a Shiva… Pero sólo el Deseo que arde en la lámpara propia abre la puerta. El deseo tiene mil y una formas. Tantos como engaños tiene la mente y caprichos recorren el cuerpo. El deseo o su hermana la culpa\, nos sale por los ojos y nos corroe el alma.  Deseamos seguir soñando atrapados en el ruido de las ciudades\, lejos del desierto y del silencio… Si alzamos los ojos en esta noche hermosa y terrible\, ¿sabremos ver su luz entre tantos satélites y escuchar su murmullo en la madrugada\, cuando el sultán perdone la vida a Sherezade para escuchar los deseos de Shiva y asistir a las dudas de Arjuna? Y cuando el Genio despertó y las mil y una noches llegaron a su fin\, las estrellas descendieron. Y Dios empezó a danzar sobre el caos como una serpiente que se enrosca…“Yo Soy el que Danza. El destructor de mundos. El creador. ¿Y tú? ¿Cuál es tu Deseo?” Entradas en boleteria el dia del evento 20 euros Espectáculo multidisciplinario de danza\, poesía\, música e imagen. Una nueva creación de Orlando Whales. “Deseo desear”\, le confesó el opulento Aladdin a Shiva… Pero sólo el Deseo que arde en la lámpara propia abre la puerta. El deseo tiene mil y una formas. Tantos como engaños tiene la mente y caprichos recorren el cuerpo. El deseo o su hermana la culpa\, nos sale por los ojos y nos corroe el alma.  Deseamos seguir soñando atrapados en el ruido de las ciudades\, lejos del desierto y del silencio… Si alzamos los ojos en esta noche hermosa y terrible\, ¿sabremos ver su luz entre tantos satélites y escuchar su murmullo en la madrugada\, cuando el sultán perdone la vida a Sherezade para escuchar los deseos de Shiva y asistir a las dudas de Arjuna? Y cuando el Genio despertó y las mil y una noches llegaron a su fin\, las estrellas descendieron. Y Dios empezó a danzar sobre el caos como una serpiente que se enrosca…“Yo Soy el que Danza. El destructor de mundos. El creador. ¿Y tú? ¿Cuál es tu Deseo?” Entradas en boleteria el dia del evento 20 euros
URL:https://teatrometamorfosis.com/es/eventos/aladdin-el-despertar-de-shiva/
LOCATION:Teatro Metamorfosis\, Carrer de Tapioles\, 12\, Bajo\, Barcelona\, Barcelona\, 08004\, Spain
ATTACH;FMTTYPE=image/jpeg:https://teatrometamorfosis.com/wp-content/uploads/2024/01/WhatsApp-Image-2024-01-02-at-17.35.24.jpeg
END:VEVENT
END:VCALENDAR