BEGIN:VCALENDAR
VERSION:2.0
PRODID:-//Teatro Metamorfosis - ECPv6.15.20//NONSGML v1.0//EN
CALSCALE:GREGORIAN
METHOD:PUBLISH
X-WR-CALNAME:Teatro Metamorfosis
X-ORIGINAL-URL:https://teatrometamorfosis.com/es/
X-WR-CALDESC:Eventos para Teatro Metamorfosis
REFRESH-INTERVAL;VALUE=DURATION:PT1H
X-Robots-Tag:noindex
X-PUBLISHED-TTL:PT1H
BEGIN:VTIMEZONE
TZID:Europe/Madrid
BEGIN:DAYLIGHT
TZOFFSETFROM:+0100
TZOFFSETTO:+0200
TZNAME:CEST
DTSTART:20230326T010000
END:DAYLIGHT
BEGIN:STANDARD
TZOFFSETFROM:+0200
TZOFFSETTO:+0100
TZNAME:CET
DTSTART:20231029T010000
END:STANDARD
BEGIN:DAYLIGHT
TZOFFSETFROM:+0100
TZOFFSETTO:+0200
TZNAME:CEST
DTSTART:20240331T010000
END:DAYLIGHT
BEGIN:STANDARD
TZOFFSETFROM:+0200
TZOFFSETTO:+0100
TZNAME:CET
DTSTART:20241027T010000
END:STANDARD
BEGIN:DAYLIGHT
TZOFFSETFROM:+0100
TZOFFSETTO:+0200
TZNAME:CEST
DTSTART:20250330T010000
END:DAYLIGHT
BEGIN:STANDARD
TZOFFSETFROM:+0200
TZOFFSETTO:+0100
TZNAME:CET
DTSTART:20251026T010000
END:STANDARD
END:VTIMEZONE
BEGIN:VEVENT
DTSTART;TZID=Europe/Madrid:20240705T210000
DTEND;TZID=Europe/Madrid:20240705T223000
DTSTAMP:20260424T162027
CREATED:20240618T023659Z
LAST-MODIFIED:20240618T023700Z
UID:3123-1720213200-1720218600@teatrometamorfosis.com
SUMMARY:Arremangados tango
DESCRIPTION:Duo conformado en la ciudad de Barcelona por musicos marplatenses que\, amasando un repertorio amplio de la música ciudadana de Buenos Aires\, se mueve entre tangos clásicos de lírica universal y obras de profunda carga autóctona y arrabalera. Una guitarra\, una voz… poesía… música… TANGO! Entradas en boleteria 15€
URL:https://teatrometamorfosis.com/es/eventos/arremangados-tango/
LOCATION:teatro metamorfosis
ATTACH;FMTTYPE=image/jpeg:https://teatrometamorfosis.com/wp-content/uploads/2024/06/event_86a00575-68af-46cc-b8fa-a3a7eafa016d.jpeg
END:VEVENT
END:VCALENDAR