BEGIN:VCALENDAR
VERSION:2.0
PRODID:-//Teatro Metamorfosis - ECPv6.15.20//NONSGML v1.0//EN
CALSCALE:GREGORIAN
METHOD:PUBLISH
X-WR-CALNAME:Teatro Metamorfosis
X-ORIGINAL-URL:https://teatrometamorfosis.com/es/
X-WR-CALDESC:Eventos para Teatro Metamorfosis
REFRESH-INTERVAL;VALUE=DURATION:PT1H
X-Robots-Tag:noindex
X-PUBLISHED-TTL:PT1H
BEGIN:VTIMEZONE
TZID:Europe/Madrid
BEGIN:DAYLIGHT
TZOFFSETFROM:+0100
TZOFFSETTO:+0200
TZNAME:CEST
DTSTART:20240331T010000
END:DAYLIGHT
BEGIN:STANDARD
TZOFFSETFROM:+0200
TZOFFSETTO:+0100
TZNAME:CET
DTSTART:20241027T010000
END:STANDARD
BEGIN:DAYLIGHT
TZOFFSETFROM:+0100
TZOFFSETTO:+0200
TZNAME:CEST
DTSTART:20250330T010000
END:DAYLIGHT
BEGIN:STANDARD
TZOFFSETFROM:+0200
TZOFFSETTO:+0100
TZNAME:CET
DTSTART:20251026T010000
END:STANDARD
BEGIN:DAYLIGHT
TZOFFSETFROM:+0100
TZOFFSETTO:+0200
TZNAME:CEST
DTSTART:20260329T010000
END:DAYLIGHT
BEGIN:STANDARD
TZOFFSETFROM:+0200
TZOFFSETTO:+0100
TZNAME:CET
DTSTART:20261025T010000
END:STANDARD
END:VTIMEZONE
BEGIN:VEVENT
DTSTART;TZID=Europe/Madrid:20251005T120000
DTEND;TZID=Europe/Madrid:20251005T160000
DTSTAMP:20260424T034809
CREATED:20250911T150409Z
LAST-MODIFIED:20250911T150409Z
UID:5215-1759665600-1759680000@teatrometamorfosis.com
SUMMARY:Atanor flamenco
DESCRIPTION:ATANOR FLAMENCO’ es el nombre elegido por la bailaora Isabel Rivera Cuenca para titular una función Alquímica en la que se funden tradición y modernidad con flamenco fusión y la escuela clásica y de raíz en un espectáculo tradicional de tablao. \nEn esta i ocasión ell elenco que la acompaña en su vibrante baile es la voz desgarradora de Cristian Saucedo y la expresiva guitarra de Tomas Lorenzo.
URL:https://teatrometamorfosis.com/es/eventos/atanor-flamenco/
ATTACH;FMTTYPE=image/jpeg:https://teatrometamorfosis.com/wp-content/uploads/2025/09/WhatsApp-Image-2025-09-10-at-15.28.16.jpeg
END:VEVENT
END:VCALENDAR