BEGIN:VCALENDAR
VERSION:2.0
PRODID:-//Teatro Metamorfosis - ECPv6.15.18//NONSGML v1.0//EN
CALSCALE:GREGORIAN
METHOD:PUBLISH
X-WR-CALNAME:Teatro Metamorfosis
X-ORIGINAL-URL:https://teatrometamorfosis.com/es/
X-WR-CALDESC:Eventos para Teatro Metamorfosis
REFRESH-INTERVAL;VALUE=DURATION:PT1H
X-Robots-Tag:noindex
X-PUBLISHED-TTL:PT1H
BEGIN:VTIMEZONE
TZID:Europe/Madrid
BEGIN:DAYLIGHT
TZOFFSETFROM:+0100
TZOFFSETTO:+0200
TZNAME:CEST
DTSTART:20220327T010000
END:DAYLIGHT
BEGIN:STANDARD
TZOFFSETFROM:+0200
TZOFFSETTO:+0100
TZNAME:CET
DTSTART:20221030T010000
END:STANDARD
BEGIN:DAYLIGHT
TZOFFSETFROM:+0100
TZOFFSETTO:+0200
TZNAME:CEST
DTSTART:20230326T010000
END:DAYLIGHT
BEGIN:STANDARD
TZOFFSETFROM:+0200
TZOFFSETTO:+0100
TZNAME:CET
DTSTART:20231029T010000
END:STANDARD
BEGIN:DAYLIGHT
TZOFFSETFROM:+0100
TZOFFSETTO:+0200
TZNAME:CEST
DTSTART:20240331T010000
END:DAYLIGHT
BEGIN:STANDARD
TZOFFSETFROM:+0200
TZOFFSETTO:+0100
TZNAME:CET
DTSTART:20241027T010000
END:STANDARD
END:VTIMEZONE
BEGIN:VEVENT
DTSTART;TZID=Europe/Madrid:20231014T210000
DTEND;TZID=Europe/Madrid:20231014T220000
DTSTAMP:20260420T050827
CREATED:20231003T124400Z
LAST-MODIFIED:20231003T124401Z
UID:1909-1697317200-1697320800@teatrometamorfosis.com
SUMMARY:Bad Decisions
DESCRIPTION:Bad Decisions is an Americana flavored band: original song-based music with a bluesy\, folksy\, popsy feel. Founders Sheridan Hindley (vocals\, harmonica\, USA) and Alejandro Labandera (guitar\, Uruguay) have been cultivating their own style and sound for years: songs that bring you to the open highway\, lonely gasoline stations\, stories born in bars long after closing hours with the blinds down… Live\, they take the audience on a journey with them\, each song a chapter from “The Book of Bad Decisions” In quartet\, the sound of Bad Decisions grows with the contribution of two great musicians based in Barcelona\, Nicolás López on bass and Luis «Chuli» Miranda on drums. Remember: Bad Decisions make good songs! CASTELLANO «Bad Decisions es un proyecto de música «americana» original. Temas propios nadando entre el blues\, el folk\, el pop\, el swing… Fundadores Sheridan Hindley (voz\, armónica\, EE.UU.) y Alejandro Labandera (guitarra\, Uruguay) llevan años cultivando un estilo y sonido propio muy particular: canciones que recuerdan a la carretera abierta\, gasolineras perdidas\, historias nacidas en bares con las persianas bajadas… En directo llevan el público de viaje con ellos\, cada canción un capítulo de “The Book of Bad Decisions” En cuarteto\, el sonido de Bad Decisions crece con la aportación de dos grandes músicos afincados en Barcelona\, Nicolás López en el bajo y Luis «Chuli» Miranda en la batería. Recuerde: Bad Decisions make good songs! (las malas decisiones hacen buenas canciones) CATALAN «Bad Decisions és un projecte de música «americana» original. Temes amb un caràcter propi nedant entre el blues\, el folk\, el pop\, el swing… Fundadors Sheridan Hindley (veu\, harmònica\, EUA) i Alejandro Labandera (guitarra\, Uruguay) porten anys cultivant un estil i so propi molt particular: cançons que recorden a la carretera oberta\, benzineres perdudes\, històries nascudes en bars amb les persianes baixades. En directe agafen al públic i els porta de viatge amb ells\, cada cançó un capítol de “The Book of Bad Decisions”. En quartet\, el so de Bad Decisions creix amb l’aportació de dos grans músics afincats a Barcelona\, Nicolás López al baix i Luis «Chuli» Miranda a la batería. Recordeu: Bad Decisions make good songs! (les males decisions fan bones cançons). \n\n\n\n\n\nDisco: https://baddecisions.hearnow.com/ Facebook : https://www.facebook.com/BadDecisionsBanda Instagram: https://www.instagram.com/@bad_decisions_banda Entradas anticipadas 10 euros – en boleteria el dia del evento 12 euros Ver menos
URL:https://teatrometamorfosis.com/es/eventos/bad-decisions/
LOCATION:Teatro Metamorfosis\, Carrer de Tapioles\, 12\, Bajo\, Barcelona\, Barcelona\, 08004\, Spain
ATTACH;FMTTYPE=image/jpeg:https://teatrometamorfosis.com/wp-content/uploads/2023/10/METAMORFOSISINSTA.jpg
END:VEVENT
END:VCALENDAR