BEGIN:VCALENDAR
VERSION:2.0
PRODID:-//Teatro Metamorfosis - ECPv6.15.18//NONSGML v1.0//EN
CALSCALE:GREGORIAN
METHOD:PUBLISH
X-WR-CALNAME:Teatro Metamorfosis
X-ORIGINAL-URL:https://teatrometamorfosis.com/es/
X-WR-CALDESC:Eventos para Teatro Metamorfosis
REFRESH-INTERVAL;VALUE=DURATION:PT1H
X-Robots-Tag:noindex
X-PUBLISHED-TTL:PT1H
BEGIN:VTIMEZONE
TZID:Europe/Madrid
BEGIN:DAYLIGHT
TZOFFSETFROM:+0100
TZOFFSETTO:+0200
TZNAME:CEST
DTSTART:20220327T010000
END:DAYLIGHT
BEGIN:STANDARD
TZOFFSETFROM:+0200
TZOFFSETTO:+0100
TZNAME:CET
DTSTART:20221030T010000
END:STANDARD
BEGIN:DAYLIGHT
TZOFFSETFROM:+0100
TZOFFSETTO:+0200
TZNAME:CEST
DTSTART:20230326T010000
END:DAYLIGHT
BEGIN:STANDARD
TZOFFSETFROM:+0200
TZOFFSETTO:+0100
TZNAME:CET
DTSTART:20231029T010000
END:STANDARD
BEGIN:DAYLIGHT
TZOFFSETFROM:+0100
TZOFFSETTO:+0200
TZNAME:CEST
DTSTART:20240331T010000
END:DAYLIGHT
BEGIN:STANDARD
TZOFFSETFROM:+0200
TZOFFSETTO:+0100
TZNAME:CET
DTSTART:20241027T010000
END:STANDARD
END:VTIMEZONE
BEGIN:VEVENT
DTSTART;TZID=Europe/Madrid:20231029T190000
DTEND;TZID=Europe/Madrid:20231029T230000
DTSTAMP:20260420T052730
CREATED:20231006T163330Z
LAST-MODIFIED:20231006T163331Z
UID:1915-1698606000-1698620400@teatrometamorfosis.com
SUMMARY:Bella Gaia
DESCRIPTION:Bella Gaia Sessions & Metamosfosis Theatre presents: ‘Future Self’. Join us for an immersive 4-hour event that seamlessly blends live electronic music\, profound meditation\, captivating visuals\, live artistry\, and entrancing rhythms. Our voyage begins with an hour of mesmerizing downtempo melodies that will envelop your senses\, creating the perfect atmosphere for a 45-minute meditation and a live ambient performance that will transport you to new realms of consciousness. Throughout the night\, there will also be live painting by Aliona Art. As the night unfolds\, be prepared to groove to the uplifting rhythms of our DJs\, Steve Ferrand and Tres Manos\, with violinist Kenji Williams providing some cosmic accompaniment. ‘Future Self’ is all about transformation\, a celebration of self-discovery\, and a voyage of visualization into the person you aspire to become. Leading our 45-minute meditation is mindset and manifestation coach Katie Valentine\, accompanied by a live performance by electronic duo Jessica Saves. Expect the hypnotizing embrace of binaural beats and ambient music\, which will guide you on your path towards self- realization. Experience an evening of music\, visuals\, live performance\, self-exploration\, and boundless possibilities at Bella Gaia Sessions’ ‘Future Self’. Your journey to the future starts here.————————————————————————-Bella Gaia Sessions & Metamosfosis Theatre presenta: Future Self. Únase a nosotros en un evento inmersivo de 4 horas que combina a la perfección música electrónica en vivo\, meditación profunda\, imágenes cautivadoras\, arte en vivo y ritmos hipnotizantes. Nuestro viaje comienza con una hora de fascinantes melodías downtempo que envolverán tus sentidos\, creando la atmósfera perfecta para una meditación de 45 minutos y una actuación ambiental en vivo que te transportará a nuevos reinos de conciencia. A lo largo de la noche\, también habrá pintura en vivo de Aliona Art. A medida que avanza la noche\, prepárate para disfrutar de los ritmos inspiradores de nuestros DJ\, Steve Ferrand y Tres Manos\, con el violinista Kenji Williams brindando un acompañamiento cósmico. Future Self tiene que ver con la transformación\, una celebración del autodescubrimiento y un viaje de visualización hacia la persona en la que aspiras convertirte. Liderando nuestra meditación de 45 minutos está la entrenadora de mentalidad y manifestación Katie Valentine\, acompañada por una actuación en vivo del dúo electrónico en vivo Jessica Saves. Espere el abrazo hipnotizante de los ritmos binaurales y la música ambiental\, que lo guiarán en su camino hacia la autorrealización. Experimente una velada de música\, imágenes\, presentaciones en vivo\, autoexploración y posibilidades ilimitadas en Future Self de Bella Gaia Sessions. Tu viaje hacia el futuro comienza aquí.
URL:https://teatrometamorfosis.com/es/eventos/bella-gaia/
LOCATION:Teatro Metamorfosis\, Carrer de Tapioles\, 12\, Bajo\, Barcelona\, Barcelona\, 08004\, Spain
ATTACH;FMTTYPE=image/png:https://teatrometamorfosis.com/wp-content/uploads/2023/10/BELLA-GAIA-1.png
END:VEVENT
END:VCALENDAR