BEGIN:VCALENDAR
VERSION:2.0
PRODID:-//Teatro Metamorfosis - ECPv6.15.20//NONSGML v1.0//EN
CALSCALE:GREGORIAN
METHOD:PUBLISH
X-WR-CALNAME:Teatro Metamorfosis
X-ORIGINAL-URL:https://teatrometamorfosis.com/es/
X-WR-CALDESC:Eventos para Teatro Metamorfosis
REFRESH-INTERVAL;VALUE=DURATION:PT1H
X-Robots-Tag:noindex
X-PUBLISHED-TTL:PT1H
BEGIN:VTIMEZONE
TZID:Europe/Madrid
BEGIN:DAYLIGHT
TZOFFSETFROM:+0100
TZOFFSETTO:+0200
TZNAME:CEST
DTSTART:20230326T010000
END:DAYLIGHT
BEGIN:STANDARD
TZOFFSETFROM:+0200
TZOFFSETTO:+0100
TZNAME:CET
DTSTART:20231029T010000
END:STANDARD
BEGIN:DAYLIGHT
TZOFFSETFROM:+0100
TZOFFSETTO:+0200
TZNAME:CEST
DTSTART:20240331T010000
END:DAYLIGHT
BEGIN:STANDARD
TZOFFSETFROM:+0200
TZOFFSETTO:+0100
TZNAME:CET
DTSTART:20241027T010000
END:STANDARD
BEGIN:DAYLIGHT
TZOFFSETFROM:+0100
TZOFFSETTO:+0200
TZNAME:CEST
DTSTART:20250330T010000
END:DAYLIGHT
BEGIN:STANDARD
TZOFFSETFROM:+0200
TZOFFSETTO:+0100
TZNAME:CET
DTSTART:20251026T010000
END:STANDARD
END:VTIMEZONE
BEGIN:VEVENT
DTSTART;TZID=Europe/Madrid:20241027T200000
DTEND;TZID=Europe/Madrid:20241027T213000
DTSTAMP:20260424T132534
CREATED:20241001T202346Z
LAST-MODIFIED:20241001T202348Z
UID:3675-1730059200-1730064600@teatrometamorfosis.com
SUMMARY:CANGEMI NARVAEZ DÚO
DESCRIPTION:CANGEMI NARVAEZ DÚO El dúo nace en el 2023 interpretando un repertorio de Tango\, Folklore y composiciones de Sebastián. La búsqueda de conectar la expresión con la profundidad del alma es el resultado de versiones intimistas con una sonoridad de cámara en donde la sutileza suena a través del canto y la guitarra. Patricia Cangemi es una cantante de amplia trayectoria y referente del tango en la ciudad de Mendoza. Sebastian Narvaez es guitarrista y compositor especializado en música popular argentina y latinoamericana Valor en taquilla el dia del evento 15 euros.
URL:https://teatrometamorfosis.com/es/eventos/cangemi-narvaez-duo/
LOCATION:Teatro Metamofosis\, Carrer de Tapioles 12\, Bajo\, Barcelona\, Barcelona\, 08004\, Spain
ATTACH;FMTTYPE=image/jpeg:https://teatrometamorfosis.com/wp-content/uploads/2024/10/WhatsApp-Image-2024-10-01-at-1.45.23-PM.jpeg
END:VEVENT
END:VCALENDAR