BEGIN:VCALENDAR
VERSION:2.0
PRODID:-//Teatro Metamorfosis - ECPv6.15.18//NONSGML v1.0//EN
CALSCALE:GREGORIAN
METHOD:PUBLISH
X-WR-CALNAME:Teatro Metamorfosis
X-ORIGINAL-URL:https://teatrometamorfosis.com/es/
X-WR-CALDESC:Eventos para Teatro Metamorfosis
REFRESH-INTERVAL;VALUE=DURATION:PT1H
X-Robots-Tag:noindex
X-PUBLISHED-TTL:PT1H
BEGIN:VTIMEZONE
TZID:Europe/Madrid
BEGIN:DAYLIGHT
TZOFFSETFROM:+0100
TZOFFSETTO:+0200
TZNAME:CEST
DTSTART:20220327T010000
END:DAYLIGHT
BEGIN:STANDARD
TZOFFSETFROM:+0200
TZOFFSETTO:+0100
TZNAME:CET
DTSTART:20221030T010000
END:STANDARD
BEGIN:DAYLIGHT
TZOFFSETFROM:+0100
TZOFFSETTO:+0200
TZNAME:CEST
DTSTART:20230326T010000
END:DAYLIGHT
BEGIN:STANDARD
TZOFFSETFROM:+0200
TZOFFSETTO:+0100
TZNAME:CET
DTSTART:20231029T010000
END:STANDARD
BEGIN:DAYLIGHT
TZOFFSETFROM:+0100
TZOFFSETTO:+0200
TZNAME:CEST
DTSTART:20240331T010000
END:DAYLIGHT
BEGIN:STANDARD
TZOFFSETFROM:+0200
TZOFFSETTO:+0100
TZNAME:CET
DTSTART:20241027T010000
END:STANDARD
END:VTIMEZONE
BEGIN:VEVENT
DTSTART;TZID=Europe/Madrid:20230929T210000
DTEND;TZID=Europe/Madrid:20230929T223000
DTSTAMP:20260420T065816
CREATED:20230929T104827Z
LAST-MODIFIED:20230929T123942Z
UID:1868-1696021200-1696026600@teatrometamorfosis.com
SUMMARY:Carn crua
DESCRIPTION:Artista multidisciplinaria catalana\, conocida por sus actuaciones provocativas y poderosas. Su trabajo a menudo reflexiona sobre los temas del placer y el hedonismo\, ofreciendo un vívido comentario sobre el dominio tentador pero complejo del autodescubrimiento. Las actuaciones de Crua\, llenas de imágenes crudas y sensuales y una intensa energía emocional\, empujan intencionalmente los límites de la comodidad del espectador. Ella obliga a su público a enfrentar temas tabú\, principalmente alrededor del erotismo y el deseo\, presentando una audaz exploración de la intimidad y la pasión humanas. Su trabajo\, aunque disruptivo en su franca representación del erotismo\, critica indirectamente las normas y convenciones sociales sobre lo que se considera aceptable expresar o representar en el arte. La audaz actuación de Crua desafía la conformidad\, alentando a los espectadores a cuestionar estos límites y normas mientras luchan con sus propias reacciones a la crudeza de la experiencia humana que ella presenta. Subrayando las posibles consecuencias y el riesgo emocionante de traspasar los límites personales\, el trabajo de Crua es un testimonio del poder de la interpretación para evocar\, desafiar e incluso excitar\, dejando al público lidiar con sus percepciones de los límites normativos\, las limitaciones personales y la complejidad seductora del deseo.
URL:https://teatrometamorfosis.com/es/eventos/carn-crua/
LOCATION:Teatro Metamorfosis\, Carrer de Tapioles\, 12\, Bajo\, Barcelona\, Barcelona\, 08004\, Spain
ATTACH;FMTTYPE=image/jpeg:https://teatrometamorfosis.com/wp-content/uploads/2023/09/carn-crua.jpg
END:VEVENT
END:VCALENDAR