BEGIN:VCALENDAR
VERSION:2.0
PRODID:-//Teatro Metamorfosis - ECPv6.15.20//NONSGML v1.0//EN
CALSCALE:GREGORIAN
METHOD:PUBLISH
X-WR-CALNAME:Teatro Metamorfosis
X-ORIGINAL-URL:https://teatrometamorfosis.com/es/
X-WR-CALDESC:Eventos para Teatro Metamorfosis
REFRESH-INTERVAL;VALUE=DURATION:PT1H
X-Robots-Tag:noindex
X-PUBLISHED-TTL:PT1H
BEGIN:VTIMEZONE
TZID:Europe/Madrid
BEGIN:DAYLIGHT
TZOFFSETFROM:+0100
TZOFFSETTO:+0200
TZNAME:CEST
DTSTART:20240331T010000
END:DAYLIGHT
BEGIN:STANDARD
TZOFFSETFROM:+0200
TZOFFSETTO:+0100
TZNAME:CET
DTSTART:20241027T010000
END:STANDARD
BEGIN:DAYLIGHT
TZOFFSETFROM:+0100
TZOFFSETTO:+0200
TZNAME:CEST
DTSTART:20250330T010000
END:DAYLIGHT
BEGIN:STANDARD
TZOFFSETFROM:+0200
TZOFFSETTO:+0100
TZNAME:CET
DTSTART:20251026T010000
END:STANDARD
BEGIN:DAYLIGHT
TZOFFSETFROM:+0100
TZOFFSETTO:+0200
TZNAME:CEST
DTSTART:20260329T010000
END:DAYLIGHT
BEGIN:STANDARD
TZOFFSETFROM:+0200
TZOFFSETTO:+0100
TZNAME:CET
DTSTART:20261025T010000
END:STANDARD
END:VTIMEZONE
BEGIN:VEVENT
DTSTART;TZID=Europe/Madrid:20250620T210000
DTEND;TZID=Europe/Madrid:20250620T220000
DTSTAMP:20260424T063413
CREATED:20250529T115504Z
LAST-MODIFIED:20250529T115504Z
UID:5010-1750453200-1750456800@teatrometamorfosis.com
SUMMARY:CUANDO EL TIEMPO CANTA
DESCRIPTION:Un Café Concierto escrito por Carolina Román para Mónica Pelay \n¿Cuánto tiempo nos queda si no lo habitamos? \nEntre lo que fue y lo que aún no es\, Cuando el Tiempo Canta nos invita a un viaje \nescénico por las distintas formas de habitar —o desperdiciar— nuestra existencia. \nCon humor sutil\, poesía y música en vivo\, la obra explora cuatro dimensiones del \ntiempo: \nel olvidado\, ese que dejamos escapar sin darnos cuenta; \nel atrapado en la memoria\, que a veces duele\, a veces ilumina; \nel que se escapa\, ese que corre más rápido que nosotros; \ny el tiempo consciente\, donde todo finalmente se aquieta y revela su sentido. \nEn escena\, Mónica Pelay junto a Iván Hermes transitan estos paisajes temporales \na través de diálogos íntimos\, silencios que dicen\, y canciones que no interrumpen\, \nsino que respiran con el texto. \nLa propuesta\, escrita especialmente por la reconocida dramaturga Carolina \nRomán (IG: @carolinanamor)\, es una invitación a recordar que no somos víctimas \ndel tiempo\, sino artesanos de cómo lo vivimos.
URL:https://teatrometamorfosis.com/es/eventos/cuando-el-tiempo-canta/
ATTACH;FMTTYPE=image/jpeg:https://teatrometamorfosis.com/wp-content/uploads/2025/05/Flyer-SAVE-THE-DATE.jpg
END:VEVENT
END:VCALENDAR