BEGIN:VCALENDAR
VERSION:2.0
PRODID:-//Teatro Metamorfosis - ECPv6.15.20//NONSGML v1.0//EN
CALSCALE:GREGORIAN
METHOD:PUBLISH
X-WR-CALNAME:Teatro Metamorfosis
X-ORIGINAL-URL:https://teatrometamorfosis.com/es/
X-WR-CALDESC:Eventos para Teatro Metamorfosis
REFRESH-INTERVAL;VALUE=DURATION:PT1H
X-Robots-Tag:noindex
X-PUBLISHED-TTL:PT1H
BEGIN:VTIMEZONE
TZID:Europe/Madrid
BEGIN:DAYLIGHT
TZOFFSETFROM:+0100
TZOFFSETTO:+0200
TZNAME:CEST
DTSTART:20250330T010000
END:DAYLIGHT
BEGIN:STANDARD
TZOFFSETFROM:+0200
TZOFFSETTO:+0100
TZNAME:CET
DTSTART:20251026T010000
END:STANDARD
BEGIN:DAYLIGHT
TZOFFSETFROM:+0100
TZOFFSETTO:+0200
TZNAME:CEST
DTSTART:20260329T010000
END:DAYLIGHT
BEGIN:STANDARD
TZOFFSETFROM:+0200
TZOFFSETTO:+0100
TZNAME:CET
DTSTART:20261025T010000
END:STANDARD
BEGIN:DAYLIGHT
TZOFFSETFROM:+0100
TZOFFSETTO:+0200
TZNAME:CEST
DTSTART:20270328T010000
END:DAYLIGHT
BEGIN:STANDARD
TZOFFSETFROM:+0200
TZOFFSETTO:+0100
TZNAME:CET
DTSTART:20271031T010000
END:STANDARD
END:VTIMEZONE
BEGIN:VEVENT
DTSTART;TZID=Europe/Madrid:20260220T203000
DTEND;TZID=Europe/Madrid:20260220T220000
DTSTAMP:20260423T215400
CREATED:20260110T144151Z
LAST-MODIFIED:20260203T205145Z
UID:5594-1771619400-1771624800@teatrometamorfosis.com
SUMMARY:Déuf Flamenco Diel
DESCRIPTION:El ATANOR FLAMENCO de Isabel Rivera Cuenca (Badalona)\, es el nombre que escoge la bailaora para titular una función Alquímica en la que se funden tradición con flamenco fusión y en este mes de Enero con la escuela raíz del Africa negra en un espectáculo que no dejara indiferente al que lo presencie. \nEn esta ocasión el elenco que la acompaña en su vibrante baile es el toque de la kora de Sam Sussoh (Gambia) y la percusion de Ousseynou Diagne (Senegal) y la voz negra que ambos prodigaran como memoria de lo que Africa influyó en el Flamenco y su Jondura por sus características sociales y culturales atribuidas a la raza negra y que se sabe\, jugaron un papel crucial en el nacimiento del arte jondo. \nLas puertas se abrirán a las 20:15 hs\nLa barra estará abierta durante todo el evento.\nLas opciones para la consumición incluída en la entrada serán : cerveza\, vino\, cava\, vermut o refresco.\nLa entrada comprada en puerta costará 18€ pero NO incluirá consumición\nLas entradas compradas con código de descuento NO incluyen bebidas
URL:https://teatrometamorfosis.com/es/eventos/deuf-flamenco-diel/
ATTACH;FMTTYPE=image/jpeg:https://teatrometamorfosis.com/wp-content/uploads/2026/01/WhatsApp-Image-2026-02-03-at-10.25.25.jpeg
END:VEVENT
END:VCALENDAR