BEGIN:VCALENDAR
VERSION:2.0
PRODID:-//Teatro Metamorfosis - ECPv6.15.20//NONSGML v1.0//EN
CALSCALE:GREGORIAN
METHOD:PUBLISH
X-WR-CALNAME:Teatro Metamorfosis
X-ORIGINAL-URL:https://teatrometamorfosis.com/es/
X-WR-CALDESC:Eventos para Teatro Metamorfosis
REFRESH-INTERVAL;VALUE=DURATION:PT1H
X-Robots-Tag:noindex
X-PUBLISHED-TTL:PT1H
BEGIN:VTIMEZONE
TZID:Europe/Madrid
BEGIN:DAYLIGHT
TZOFFSETFROM:+0100
TZOFFSETTO:+0200
TZNAME:CEST
DTSTART:20230326T010000
END:DAYLIGHT
BEGIN:STANDARD
TZOFFSETFROM:+0200
TZOFFSETTO:+0100
TZNAME:CET
DTSTART:20231029T010000
END:STANDARD
BEGIN:DAYLIGHT
TZOFFSETFROM:+0100
TZOFFSETTO:+0200
TZNAME:CEST
DTSTART:20240331T010000
END:DAYLIGHT
BEGIN:STANDARD
TZOFFSETFROM:+0200
TZOFFSETTO:+0100
TZNAME:CET
DTSTART:20241027T010000
END:STANDARD
BEGIN:DAYLIGHT
TZOFFSETFROM:+0100
TZOFFSETTO:+0200
TZNAME:CEST
DTSTART:20250330T010000
END:DAYLIGHT
BEGIN:STANDARD
TZOFFSETFROM:+0200
TZOFFSETTO:+0100
TZNAME:CET
DTSTART:20251026T010000
END:STANDARD
END:VTIMEZONE
BEGIN:VEVENT
DTSTART;TZID=Europe/Madrid:20240928T200000
DTEND;TZID=Europe/Madrid:20240928T220000
DTSTAMP:20260424T144957
CREATED:20240821T181333Z
LAST-MODIFIED:20240821T181930Z
UID:3353-1727553600-1727560800@teatrometamorfosis.com
SUMMARY:Dragatha Christie y la muerte en el convento de St. Fanny
DESCRIPTION:Six suspects. Six weapons. Six motives. Welcome to Saint Fanny’s Convent where a murder awaits you behind its doors and you will be the one who must solve it. Join famed detective Dragatha Christie in an epic\, interactive drag-murder mystery where anything is possible. The Dragatha Christie Drag Artist are back with a new murder mystery! Will you be able to find the culprit? Dragatha Christie y la muerte en el convento de St. Fanny Seis sospechosas. Seis armas. Seis motivos. Bienvenide al Convento de Santa Fanny\, donde un asesinato te espera tras sus puertas y serás tú quien deba resolverlo. Únete a la famosa detective Dragatha Christie en un épico y misterioso draguicidio interactivo en el que cualquier cosa es posible. ¡Dragatha Christie Drag Artist está de vuelta con un nuevo asesinato misterioso!¿Serás capaz de encontrar a la culpable?
URL:https://teatrometamorfosis.com/es/eventos/dragatha-christie-y-la-muerte-en-el-convento-de-st-fanny/
LOCATION:Teatro Metamofosis\, Carrer de Tapioles 12\, Bajo\, Barcelona\, Barcelona\, 08004\, Spain
ATTACH;FMTTYPE=image/jpeg:https://teatrometamorfosis.com/wp-content/uploads/2024/08/WhatsApp-Image-2024-08-21-at-11.28.36-AM.jpeg
END:VEVENT
END:VCALENDAR