BEGIN:VCALENDAR
VERSION:2.0
PRODID:-//Teatro Metamorfosis - ECPv6.15.20//NONSGML v1.0//EN
CALSCALE:GREGORIAN
METHOD:PUBLISH
X-WR-CALNAME:Teatro Metamorfosis
X-ORIGINAL-URL:https://teatrometamorfosis.com/es/
X-WR-CALDESC:Eventos para Teatro Metamorfosis
REFRESH-INTERVAL;VALUE=DURATION:PT1H
X-Robots-Tag:noindex
X-PUBLISHED-TTL:PT1H
BEGIN:VTIMEZONE
TZID:Europe/Madrid
BEGIN:DAYLIGHT
TZOFFSETFROM:+0100
TZOFFSETTO:+0200
TZNAME:CEST
DTSTART:20240331T010000
END:DAYLIGHT
BEGIN:STANDARD
TZOFFSETFROM:+0200
TZOFFSETTO:+0100
TZNAME:CET
DTSTART:20241027T010000
END:STANDARD
BEGIN:DAYLIGHT
TZOFFSETFROM:+0100
TZOFFSETTO:+0200
TZNAME:CEST
DTSTART:20250330T010000
END:DAYLIGHT
BEGIN:STANDARD
TZOFFSETFROM:+0200
TZOFFSETTO:+0100
TZNAME:CET
DTSTART:20251026T010000
END:STANDARD
BEGIN:DAYLIGHT
TZOFFSETFROM:+0100
TZOFFSETTO:+0200
TZNAME:CEST
DTSTART:20260329T010000
END:DAYLIGHT
BEGIN:STANDARD
TZOFFSETFROM:+0200
TZOFFSETTO:+0100
TZNAME:CET
DTSTART:20261025T010000
END:STANDARD
END:VTIMEZONE
BEGIN:VEVENT
DTSTART;TZID=Europe/Madrid:20250406T140000
DTEND;TZID=Europe/Madrid:20250406T180000
DTSTAMP:20260424T080548
CREATED:20250322T210057Z
LAST-MODIFIED:20250323T185429Z
UID:4686-1743948000-1743962400@teatrometamorfosis.com
SUMMARY:El Cuerpo Expresivo Masterclass Teatral de Expresión Corporal con Alice Motta
DESCRIPTION:El Cuerpo Expresivo Masterclass Teatral de Expresión Corporal con Alice MottaEste taller te inspirará a crear texto e imágenes desde el cuerpo\, y aprenderástécnicas de teatro físico y creación colectiva. Programa:Empezaremos nuestra MasterClass prestando especial atención al cuerpo y a su estadopresente\, escucharemos sus impulsos y escribiremos breves textos desde este nuevo puntode vista.Luego\, a través de ejercicios de teatro físico\, exploraremos distintos estados corporales y loque nos inspiran a improvisar.En la última parte\, crearemos breves escenas combinando nuestros textos y los elementoscorporales\, y con el soporte del grupo podremos compartirlas y tener feedbacks inmediatosy reales\, de manera relajada y acogedora. Este taller está dirigido a:● Personas que quieran crear desde el cuerpo: texto\, performance o ambos.● Personas interesadas en prácticas artísticas y en adquirir diferentes habilidades.● Creadores teatrales o escritores que buscan más fluidez y juego en su proceso.● Actores profesionales que desean herramientas adicionales para actuar (cine/teatro\,etc.).● Movedores y bailarines que quieran escuchar mejor a sus cuerpos. No se necesita experiencia previa.● Artistas de teatro físico\, clown\, comediantes que desean crear su propio material.  Sobre Alice Motta:Alice Motta se graduó en LISPA/Art-Haus Berlin\, especializándose en los estudios deJaques Lecoq con un enfoque en técnicas de corporeidad. Su trabajo más reciente\, elespectáculo autobiográfico Sacred Bath\, fue finalista en la categoría de “Performance deMovimiento Más Sorprendente” en los The South East Awards y recibió críticas de 4estrellas por parte de Everything Theatre\, Breaking the Fourth Wall y Evuelve Productions.Ha realizado giras por Lisboa\, Londres\, Brighton\, Bolonia\, Río de Janeiro y São Paulo. Aliceha trabajado en comerciales\, videoclips y ha participado en televisión y cine a nivel internacional. Sus poemas han sido publicados en antologías y revistas tanto en el ReinoUnido como en Brasil. Comentarios de participantes «De una manera muy simple\, imaginativa y divertida\, accedimos a nuestros cuerpos ypersonalmente pude crear nuevo material partiendo de las sensaciones\, lo cual fue toda unarevolución en términos de lo directa que puede ser esta aproximación.» Tom Greaves\, actor «Esta fue una experiencia innovadora y conmovedora. Después de 28 años de práctica\,encontrar un taller que me haga crear desde el cuerpo me ha tocado profundamente. Alicees muy abierta\, pero clara\, lo que nos permitió confiar y entregarnos.»— D.C.\, profesora de actuación «Después de este taller\, me siento más seguro. Puedo notar claramente la diferencia en miactuación\, especialmente en mi presencia física.»— S.T.\, actor
URL:https://teatrometamorfosis.com/es/eventos/el-cuerpo-expresivo-masterclass-teatral-de-expresion-corporal-con-alice-motta/
ATTACH;FMTTYPE=image/png:https://teatrometamorfosis.com/wp-content/uploads/2025/03/EXPRESSIVE-BODIED-Workshop-1.png
END:VEVENT
END:VCALENDAR