BEGIN:VCALENDAR
VERSION:2.0
PRODID:-//Teatro Metamorfosis - ECPv6.15.18//NONSGML v1.0//EN
CALSCALE:GREGORIAN
METHOD:PUBLISH
X-WR-CALNAME:Teatro Metamorfosis
X-ORIGINAL-URL:https://teatrometamorfosis.com/es/
X-WR-CALDESC:Eventos para Teatro Metamorfosis
REFRESH-INTERVAL;VALUE=DURATION:PT1H
X-Robots-Tag:noindex
X-PUBLISHED-TTL:PT1H
BEGIN:VTIMEZONE
TZID:Europe/Madrid
BEGIN:DAYLIGHT
TZOFFSETFROM:+0100
TZOFFSETTO:+0200
TZNAME:CEST
DTSTART:20230326T010000
END:DAYLIGHT
BEGIN:STANDARD
TZOFFSETFROM:+0200
TZOFFSETTO:+0100
TZNAME:CET
DTSTART:20231029T010000
END:STANDARD
BEGIN:DAYLIGHT
TZOFFSETFROM:+0100
TZOFFSETTO:+0200
TZNAME:CEST
DTSTART:20240331T010000
END:DAYLIGHT
BEGIN:STANDARD
TZOFFSETFROM:+0200
TZOFFSETTO:+0100
TZNAME:CET
DTSTART:20241027T010000
END:STANDARD
BEGIN:DAYLIGHT
TZOFFSETFROM:+0100
TZOFFSETTO:+0200
TZNAME:CEST
DTSTART:20250330T010000
END:DAYLIGHT
BEGIN:STANDARD
TZOFFSETFROM:+0200
TZOFFSETTO:+0100
TZNAME:CET
DTSTART:20251026T010000
END:STANDARD
END:VTIMEZONE
BEGIN:VEVENT
DTSTART;TZID=Europe/Madrid:20240913T210000
DTEND;TZID=Europe/Madrid:20240913T223000
DTSTAMP:20260419T211356
CREATED:20240726T025110Z
LAST-MODIFIED:20240904T141555Z
UID:3313-1726261200-1726266600@teatrometamorfosis.com
SUMMARY:Emilia Danesi
DESCRIPTION:La cantante argentina Emilia Danesi (Tucumán) se presenta este año por última vez en Barcelona en la sala del Teatro Metamorfosis para compartir una noche de música de raíz folklórica\, profunda y sentida. Junto al guitarrista Luis Táñez (San Juan) proponen un recorrido por ritmos del folklore y el tango\, intercambiándose roles entre guitarras\, voz y percusión. El concierto contará con invitados sorpresa. Emilia Danesi es una de las voces más representativas de la Música Popular Argentina actual. Ganadora de diversos premios\, sus performances y propuestas artísticas formaron parte de la programación de prestigiosos eventos como el Festival y Mundial de Tango\, La noche de Los Museos\, Música en el Senado de la Nación\, Los Bares notables\, Septiembre Musical y muchos festivales y espacios de prestigio de la escena argentina.
URL:https://teatrometamorfosis.com/es/eventos/emilia-danesi/
LOCATION:Teatro Metamorfosis\, Carrer de Tapioles\, 12\, Bajo\, Barcelona\, Barcelona\, 08004\, Spain
ATTACH;FMTTYPE=image/jpeg:https://teatrometamorfosis.com/wp-content/uploads/2024/07/WhatsApp-Image-2024-07-25-at-3.08.40-PM-1.jpeg
END:VEVENT
END:VCALENDAR