BEGIN:VCALENDAR
VERSION:2.0
PRODID:-//Teatro Metamorfosis - ECPv6.15.20//NONSGML v1.0//EN
CALSCALE:GREGORIAN
METHOD:PUBLISH
X-WR-CALNAME:Teatro Metamorfosis
X-ORIGINAL-URL:https://teatrometamorfosis.com/es/
X-WR-CALDESC:Eventos para Teatro Metamorfosis
REFRESH-INTERVAL;VALUE=DURATION:PT1H
X-Robots-Tag:noindex
X-PUBLISHED-TTL:PT1H
BEGIN:VTIMEZONE
TZID:Europe/Madrid
BEGIN:DAYLIGHT
TZOFFSETFROM:+0100
TZOFFSETTO:+0200
TZNAME:CEST
DTSTART:20240331T010000
END:DAYLIGHT
BEGIN:STANDARD
TZOFFSETFROM:+0200
TZOFFSETTO:+0100
TZNAME:CET
DTSTART:20241027T010000
END:STANDARD
BEGIN:DAYLIGHT
TZOFFSETFROM:+0100
TZOFFSETTO:+0200
TZNAME:CEST
DTSTART:20250330T010000
END:DAYLIGHT
BEGIN:STANDARD
TZOFFSETFROM:+0200
TZOFFSETTO:+0100
TZNAME:CET
DTSTART:20251026T010000
END:STANDARD
BEGIN:DAYLIGHT
TZOFFSETFROM:+0100
TZOFFSETTO:+0200
TZNAME:CEST
DTSTART:20260329T010000
END:DAYLIGHT
BEGIN:STANDARD
TZOFFSETFROM:+0200
TZOFFSETTO:+0100
TZNAME:CET
DTSTART:20261025T010000
END:STANDARD
END:VTIMEZONE
BEGIN:VEVENT
DTSTART;TZID=Europe/Madrid:20250309T203000
DTEND;TZID=Europe/Madrid:20250309T220000
DTSTAMP:20260424T091646
CREATED:20250303T151833Z
LAST-MODIFIED:20250303T151836Z
UID:4585-1741552200-1741557600@teatrometamorfosis.com
SUMMARY:Eurotrash•Women’s Day Special
DESCRIPTION:oin us for a night filled with laughter and fun! Get ready for a thought-provoking three-woman show of hilarious stand-up comedy in English! Buckle up – it’s gonna be a wild ride! «Eurotrash» is a hilarious and unapologetically bold stand-up comedy show featuring three talented women who bring their unique perspectives on life\, love\, and everything in between. With sharp wit and fearless humor\, these comedians tackle the absurdities of modern society\, cultural differences\, and the everyday struggles of being European women. Get ready for an evening of laughter\, wit\, and relatable anecdotes as «Eurotrash» takes you on a comedic journey through the ups and downs of womanhood in the 21st century. Buckle up for a night of side-splitting comedy that will leave you in stitches and wanting more. See you at our show!
URL:https://teatrometamorfosis.com/es/eventos/eurotrashwomens-day-special/
ATTACH;FMTTYPE=image/jpeg:https://teatrometamorfosis.com/wp-content/uploads/2025/03/eurotrash-square-jpg.jpg
END:VEVENT
END:VCALENDAR