BEGIN:VCALENDAR
VERSION:2.0
PRODID:-//Teatro Metamorfosis - ECPv6.15.20//NONSGML v1.0//EN
CALSCALE:GREGORIAN
METHOD:PUBLISH
X-WR-CALNAME:Teatro Metamorfosis
X-ORIGINAL-URL:https://teatrometamorfosis.com/es/
X-WR-CALDESC:Eventos para Teatro Metamorfosis
REFRESH-INTERVAL;VALUE=DURATION:PT1H
X-Robots-Tag:noindex
X-PUBLISHED-TTL:PT1H
BEGIN:VTIMEZONE
TZID:Europe/Madrid
BEGIN:DAYLIGHT
TZOFFSETFROM:+0100
TZOFFSETTO:+0200
TZNAME:CEST
DTSTART:20240331T010000
END:DAYLIGHT
BEGIN:STANDARD
TZOFFSETFROM:+0200
TZOFFSETTO:+0100
TZNAME:CET
DTSTART:20241027T010000
END:STANDARD
BEGIN:DAYLIGHT
TZOFFSETFROM:+0100
TZOFFSETTO:+0200
TZNAME:CEST
DTSTART:20250330T010000
END:DAYLIGHT
BEGIN:STANDARD
TZOFFSETFROM:+0200
TZOFFSETTO:+0100
TZNAME:CET
DTSTART:20251026T010000
END:STANDARD
BEGIN:DAYLIGHT
TZOFFSETFROM:+0100
TZOFFSETTO:+0200
TZNAME:CEST
DTSTART:20260329T010000
END:DAYLIGHT
BEGIN:STANDARD
TZOFFSETFROM:+0200
TZOFFSETTO:+0100
TZNAME:CET
DTSTART:20261025T010000
END:STANDARD
END:VTIMEZONE
BEGIN:VEVENT
DTSTART;TZID=Europe/Madrid:20250516T200000
DTEND;TZID=Europe/Madrid:20250516T220000
DTSTAMP:20260424T062351
CREATED:20250421T192024Z
LAST-MODIFIED:20250421T192024Z
UID:4948-1747425600-1747432800@teatrometamorfosis.com
SUMMARY:Eurovisión Celebration
DESCRIPTION:Join Lady Red Velvet for the Ultimate Eurovision Celebration! \nTeatro Metamorfosis | May 16th | 8PM \nGet ready for a night of epic key changes\, glittery chaos\, and Euro-tastic energy that’ll leave you shouting “Ja Ja Ding Dong!” Expect iconic live performances\, crowd-thrilling singalongs\, and our legendary BIG Eurovision Interactive Quiz — because who doesn’t want to score Douze Points? \nWhether you’re a Lordi-loving rockstar\, a ballad-belting diva\, or just here for the sequins and sass\, it’s your time to Rise Like a Phoenix and party like it’s Euphoria. \nOne night. One stage. One outrageous Eurovision extravaganza. Don’t miss it! \n¡Únete a Lady Red Velvet para la Celebración Definitiva de Eurovisión! \nTeatro Metamorfosis | 16 de mayo | 20:00h \nPrepárate para una noche de cambios de tono épicos\, caos con purpurina y energía eurovisiva que te hará gritar “¡Ja Ja Ding Dong!”. Disfruta de actuaciones en vivo icónicas\, singalongs que levantarán al público y nuestro legendario Gran Quiz Interactivo de Eurovisión — porque ¿quién no quiere llevarse los Douze Points? \nYa seas un rockero fan de Lordi\, una diva de baladas o simplemente ames las lentejuelas y el drama\, ha llegado tu momento de Renacer como un Fénix y celebrar como si estuviéramos en Euphoria. \nUna noche. Un escenario. Un espectáculo eurovisivo inolvidable. ¡No te lo pierdas!
URL:https://teatrometamorfosis.com/es/eventos/eurovision-celebration/
ATTACH;FMTTYPE=image/jpeg:https://teatrometamorfosis.com/wp-content/uploads/2025/04/WhatsApp-Image-2025-04-21-at-11.36.25.jpeg
END:VEVENT
END:VCALENDAR