BEGIN:VCALENDAR
VERSION:2.0
PRODID:-//Teatro Metamorfosis - ECPv6.15.18//NONSGML v1.0//EN
CALSCALE:GREGORIAN
METHOD:PUBLISH
X-WR-CALNAME:Teatro Metamorfosis
X-ORIGINAL-URL:https://teatrometamorfosis.com/es/
X-WR-CALDESC:Eventos para Teatro Metamorfosis
REFRESH-INTERVAL;VALUE=DURATION:PT1H
X-Robots-Tag:noindex
X-PUBLISHED-TTL:PT1H
BEGIN:VTIMEZONE
TZID:Europe/Madrid
BEGIN:DAYLIGHT
TZOFFSETFROM:+0100
TZOFFSETTO:+0200
TZNAME:CEST
DTSTART:20230326T010000
END:DAYLIGHT
BEGIN:STANDARD
TZOFFSETFROM:+0200
TZOFFSETTO:+0100
TZNAME:CET
DTSTART:20231029T010000
END:STANDARD
BEGIN:DAYLIGHT
TZOFFSETFROM:+0100
TZOFFSETTO:+0200
TZNAME:CEST
DTSTART:20240331T010000
END:DAYLIGHT
BEGIN:STANDARD
TZOFFSETFROM:+0200
TZOFFSETTO:+0100
TZNAME:CET
DTSTART:20241027T010000
END:STANDARD
BEGIN:DAYLIGHT
TZOFFSETFROM:+0100
TZOFFSETTO:+0200
TZNAME:CEST
DTSTART:20250330T010000
END:DAYLIGHT
BEGIN:STANDARD
TZOFFSETFROM:+0200
TZOFFSETTO:+0100
TZNAME:CET
DTSTART:20251026T010000
END:STANDARD
END:VTIMEZONE
BEGIN:VEVENT
DTSTART;TZID=Europe/Madrid:20240516T203000
DTEND;TZID=Europe/Madrid:20240516T220000
DTSTAMP:20260419T224845
CREATED:20240412T203212Z
LAST-MODIFIED:20240415T134631Z
UID:2783-1715891400-1715896800@teatrometamorfosis.com
SUMMARY:Eve Matin y Jasmine
DESCRIPTION:Eve Matin es arpista y compositora peruana de ascendencia persa. Inicia los estudios de arpa clásica en la Universidad Nacional de Música en Perú\, luego de esos años de experiencia en repertorio académico y orquestal viaja a España donde realiza sus estudios de Maestría en Berklee College of Music y estudia producción\, composición e improvisación\, además expande su visión artística a nuevos estilos y géneros como el jazz\, world music\, flamenco\, performance experimentales\, música tradicional latinoamericana entre otros. Una voz serena y un paisaje sonoro de ensueño conforman el sonido orgánico de Jasmine. Sus raíces brasileño-estadounidenses se mezclan con una suave brisa de folk indie\, con influencias de MPB. Al escribir y producir sus primeros lanzamientos\, Jasmine explora temas de la naturaleza\, la conexión humana y el amor. Las temporadas que pasó en las montañas de Sudáfrica\, las antiguas ciudades de España y la costa brasileña aportaron imágenes y melodías vívidas a su arte. Con canciones que te hacen mirar hacia adentro y una voz que llega a lo emocional\, Jasmine pretende sumergir a los oyentes en sentimientos de paz\, armonía y anhelo. Entradas en boleteria el dia del evento 15 euros
URL:https://teatrometamorfosis.com/es/eventos/eve-matin-y-jasmine/
LOCATION:Teatro Metamorfosis\, Carrer de Tapioles\, 12\, Bajo\, Barcelona\, Barcelona\, 08004\, Spain
ATTACH;FMTTYPE=image/jpeg:https://teatrometamorfosis.com/wp-content/uploads/2024/04/WhatsApp-Image-2024-04-15-at-08.59.38.jpeg
END:VEVENT
END:VCALENDAR