BEGIN:VCALENDAR
VERSION:2.0
PRODID:-//Teatro Metamorfosis - ECPv6.15.18//NONSGML v1.0//EN
CALSCALE:GREGORIAN
METHOD:PUBLISH
X-WR-CALNAME:Teatro Metamorfosis
X-ORIGINAL-URL:https://teatrometamorfosis.com/es/
X-WR-CALDESC:Eventos para Teatro Metamorfosis
REFRESH-INTERVAL;VALUE=DURATION:PT1H
X-Robots-Tag:noindex
X-PUBLISHED-TTL:PT1H
BEGIN:VTIMEZONE
TZID:Europe/Madrid
BEGIN:DAYLIGHT
TZOFFSETFROM:+0100
TZOFFSETTO:+0200
TZNAME:CEST
DTSTART:20230326T010000
END:DAYLIGHT
BEGIN:STANDARD
TZOFFSETFROM:+0200
TZOFFSETTO:+0100
TZNAME:CET
DTSTART:20231029T010000
END:STANDARD
BEGIN:DAYLIGHT
TZOFFSETFROM:+0100
TZOFFSETTO:+0200
TZNAME:CEST
DTSTART:20240331T010000
END:DAYLIGHT
BEGIN:STANDARD
TZOFFSETFROM:+0200
TZOFFSETTO:+0100
TZNAME:CET
DTSTART:20241027T010000
END:STANDARD
BEGIN:DAYLIGHT
TZOFFSETFROM:+0100
TZOFFSETTO:+0200
TZNAME:CEST
DTSTART:20250330T010000
END:DAYLIGHT
BEGIN:STANDARD
TZOFFSETFROM:+0200
TZOFFSETTO:+0100
TZNAME:CET
DTSTART:20251026T010000
END:STANDARD
END:VTIMEZONE
BEGIN:VEVENT
DTSTART;TZID=Europe/Madrid:20240127T210000
DTEND;TZID=Europe/Madrid:20240127T230000
DTSTAMP:20260420T015102
CREATED:20240113T182401Z
LAST-MODIFIED:20240113T182402Z
UID:2094-1706389200-1706396400@teatrometamorfosis.com
SUMMARY:EXPEDICIÓN VALKARMA
DESCRIPTION:Último aviso para les pasejeres del vuelo intergaláctico VK-373469 al planeta Valkarma Krystal Karma y Valkiria te esperan para iniciar este trepidante viaje a un planeta lleno de glitter\, plumas y pelucas sintéticas. ¿Estás preparada? Música\, humor y mucho mamarracheo en un viaje a la velocidad de la luz que se te pasará en un abrir y cerrar de ojos.  RECUERDA: La Slay Queen Class incluye cena\, refrigerio y clase de Yoga Ingrávido. La clase turista puede incluir empujones\, pisotones y un olor a rancio un tanto peculiar.   *No podemos asegurar que con billete turista no tengas que viajar en la bodega.ENtradas en boleteria el dia del evento 12 euros. 
URL:https://teatrometamorfosis.com/es/eventos/expedicion-valkarma/
LOCATION:Teatro Metamorfosis\, Carrer de Tapioles\, 12\, Bajo\, Barcelona\, Barcelona\, 08004\, Spain
ATTACH;FMTTYPE=image/jpeg:https://teatrometamorfosis.com/wp-content/uploads/2024/01/WhatsApp-Image-2024-01-13-at-15.20.13.jpeg
END:VEVENT
END:VCALENDAR