BEGIN:VCALENDAR
VERSION:2.0
PRODID:-//Teatro Metamorfosis - ECPv6.15.18//NONSGML v1.0//EN
CALSCALE:GREGORIAN
METHOD:PUBLISH
X-WR-CALNAME:Teatro Metamorfosis
X-ORIGINAL-URL:https://teatrometamorfosis.com/es/
X-WR-CALDESC:Eventos para Teatro Metamorfosis
REFRESH-INTERVAL;VALUE=DURATION:PT1H
X-Robots-Tag:noindex
X-PUBLISHED-TTL:PT1H
BEGIN:VTIMEZONE
TZID:Europe/Madrid
BEGIN:DAYLIGHT
TZOFFSETFROM:+0100
TZOFFSETTO:+0200
TZNAME:CEST
DTSTART:20230326T010000
END:DAYLIGHT
BEGIN:STANDARD
TZOFFSETFROM:+0200
TZOFFSETTO:+0100
TZNAME:CET
DTSTART:20231029T010000
END:STANDARD
BEGIN:DAYLIGHT
TZOFFSETFROM:+0100
TZOFFSETTO:+0200
TZNAME:CEST
DTSTART:20240331T010000
END:DAYLIGHT
BEGIN:STANDARD
TZOFFSETFROM:+0200
TZOFFSETTO:+0100
TZNAME:CET
DTSTART:20241027T010000
END:STANDARD
BEGIN:DAYLIGHT
TZOFFSETFROM:+0100
TZOFFSETTO:+0200
TZNAME:CEST
DTSTART:20250330T010000
END:DAYLIGHT
BEGIN:STANDARD
TZOFFSETFROM:+0200
TZOFFSETTO:+0100
TZNAME:CET
DTSTART:20251026T010000
END:STANDARD
END:VTIMEZONE
BEGIN:VEVENT
DTSTART;TZID=Europe/Madrid:20240426T210000
DTEND;TZID=Europe/Madrid:20240426T223000
DTSTAMP:20260420T001830
CREATED:20240327T174236Z
LAST-MODIFIED:20240327T174237Z
UID:2744-1714165200-1714170600@teatrometamorfosis.com
SUMMARY:Fede Ceballos
DESCRIPTION:Bajista y compositor argentino radicado en Barcelona que busca desde los ritmos populares latinoamericanos indagar en la canción folclórica\, desde la poesía vivida como mensaje y el misterio de lo tradicional.  Nos presenta “Nadie se salva solo” un espectáculo para desaprender y disfrutar de canciones pertenecientes a su último álbum que suenan a reclamo político y reflexión\, a rio\, a montaña\, a ciudad: a América del sur.  El formato trio propone una sonoridad sencilla pero profunda\, completándose con Juan Arabel en guitarra y voces\, y Matías Herrera en percusión.
URL:https://teatrometamorfosis.com/es/eventos/fede-ceballos/
LOCATION:Teatro Metamorfosis\, Carrer de Tapioles\, 12\, Bajo\, Barcelona\, Barcelona\, 08004\, Spain
ATTACH;FMTTYPE=image/jpeg:https://teatrometamorfosis.com/wp-content/uploads/2024/03/WhatsApp-Image-2024-03-26-at-17.13.43.jpeg
END:VEVENT
END:VCALENDAR