BEGIN:VCALENDAR
VERSION:2.0
PRODID:-//Teatro Metamorfosis - ECPv6.15.20//NONSGML v1.0//EN
CALSCALE:GREGORIAN
METHOD:PUBLISH
X-WR-CALNAME:Teatro Metamorfosis
X-ORIGINAL-URL:https://teatrometamorfosis.com/es/
X-WR-CALDESC:Eventos para Teatro Metamorfosis
REFRESH-INTERVAL;VALUE=DURATION:PT1H
X-Robots-Tag:noindex
X-PUBLISHED-TTL:PT1H
BEGIN:VTIMEZONE
TZID:Europe/Madrid
BEGIN:DAYLIGHT
TZOFFSETFROM:+0100
TZOFFSETTO:+0200
TZNAME:CEST
DTSTART:20240331T010000
END:DAYLIGHT
BEGIN:STANDARD
TZOFFSETFROM:+0200
TZOFFSETTO:+0100
TZNAME:CET
DTSTART:20241027T010000
END:STANDARD
BEGIN:DAYLIGHT
TZOFFSETFROM:+0100
TZOFFSETTO:+0200
TZNAME:CEST
DTSTART:20250330T010000
END:DAYLIGHT
BEGIN:STANDARD
TZOFFSETFROM:+0200
TZOFFSETTO:+0100
TZNAME:CET
DTSTART:20251026T010000
END:STANDARD
BEGIN:DAYLIGHT
TZOFFSETFROM:+0100
TZOFFSETTO:+0200
TZNAME:CEST
DTSTART:20260329T010000
END:DAYLIGHT
BEGIN:STANDARD
TZOFFSETFROM:+0200
TZOFFSETTO:+0100
TZNAME:CET
DTSTART:20261025T010000
END:STANDARD
END:VTIMEZONE
BEGIN:VEVENT
DTSTART;TZID=Europe/Madrid:20251116T190000
DTEND;TZID=Europe/Madrid:20251116T200000
DTSTAMP:20260424T022410
CREATED:20251022T224535Z
LAST-MODIFIED:20251022T224631Z
UID:5350-1763319600-1763323200@teatrometamorfosis.com
SUMMARY:Francesc Miralles & Ferran Cases son DOS TIPOS FELICES
DESCRIPTION:Francesc Miralles & Ferran Cases son \nDOS TIPOS FELICES \nUn cabaret filosófico lleno de sorpresas de la mano de Francesc Miralles & Ferran Cases\, dos expertos en desarrollo personal que en cada sesión abordarán un tema distinto con amor y humor\, aderezado con revelaciones personales\, anécdotas\, música\, canciones\, recomendaciones literarias\, así como consultas del público en directo. Una velada mágica para recargar las pilas de la esperanza y la creatividad. \nEn este primer espectáculo\, que tiene el propósito de ser mensual\, el tema será «los greatest hits de la felicidad». \nFRANCESC MIRALLES es un referente internacional del desarrollo personal. Sus libros se publican en todo el mundo\, recomendados por figuras como Oprah Winfrey\, Chris Evans o Marie Kondo. Sus inicios artísticos fueron en el teatro. \nFERRAN CASES es el autor más exitoso en lengua castellana sobre temas relacionados con la ansiedad. Sus libros han sido traducidos a más de 20 idiomas\, y lleva años trabajando estos contenidos sanadores a través de la Stand Up Comedy. \nPrecio de las entradas \nEARLY BIRD (primeras 15): 15€ \nENTRADA NORMAL: 18€ \nENTRADA EN TAQUILLA (mismo \ndía): 20€ \nLas puertas se abrirán a las 18:45 hs \nLa barra de bebidas estará abierta durante todo el evento.
URL:https://teatrometamorfosis.com/es/eventos/francesc-miralles-ferran-cases-son-dos-tipos-felices/
ATTACH;FMTTYPE=image/jpeg:https://teatrometamorfosis.com/wp-content/uploads/2025/10/event_m_IMG-20251020-WA0020.jpg
END:VEVENT
END:VCALENDAR