BEGIN:VCALENDAR
VERSION:2.0
PRODID:-//Teatro Metamorfosis - ECPv6.15.20//NONSGML v1.0//EN
CALSCALE:GREGORIAN
METHOD:PUBLISH
X-WR-CALNAME:Teatro Metamorfosis
X-ORIGINAL-URL:https://teatrometamorfosis.com/es/
X-WR-CALDESC:Eventos para Teatro Metamorfosis
REFRESH-INTERVAL;VALUE=DURATION:PT1H
X-Robots-Tag:noindex
X-PUBLISHED-TTL:PT1H
BEGIN:VTIMEZONE
TZID:Europe/Madrid
BEGIN:DAYLIGHT
TZOFFSETFROM:+0100
TZOFFSETTO:+0200
TZNAME:CEST
DTSTART:20230326T010000
END:DAYLIGHT
BEGIN:STANDARD
TZOFFSETFROM:+0200
TZOFFSETTO:+0100
TZNAME:CET
DTSTART:20231029T010000
END:STANDARD
BEGIN:DAYLIGHT
TZOFFSETFROM:+0100
TZOFFSETTO:+0200
TZNAME:CEST
DTSTART:20240331T010000
END:DAYLIGHT
BEGIN:STANDARD
TZOFFSETFROM:+0200
TZOFFSETTO:+0100
TZNAME:CET
DTSTART:20241027T010000
END:STANDARD
BEGIN:DAYLIGHT
TZOFFSETFROM:+0100
TZOFFSETTO:+0200
TZNAME:CEST
DTSTART:20250330T010000
END:DAYLIGHT
BEGIN:STANDARD
TZOFFSETFROM:+0200
TZOFFSETTO:+0100
TZNAME:CET
DTSTART:20251026T010000
END:STANDARD
END:VTIMEZONE
BEGIN:VEVENT
DTSTART;TZID=Europe/Madrid:20241020T190000
DTEND;TZID=Europe/Madrid:20241020T203000
DTSTAMP:20260424T144921
CREATED:20240930T160444Z
LAST-MODIFIED:20240930T160445Z
UID:3649-1729450800-1729456200@teatrometamorfosis.com
SUMMARY:Hortensia Minola
DESCRIPTION:Somnia\, allibera’t\, deixa’t emportar pels universos de l’Hortènsia\, … i podràs viatjar a través dels temps. Qui és l’Hortènsia? Doncs ella tampoc ho té massa clar . Ha viscut moltes vides anteriors amb grans amistats… Cleòpatra\, William Shakespeare\, Maria Antonieta\, Josephine Baker\,… En aquestes vides ha fet de tot\, metge \, espia\, actriu\, res no l’ha aturat . Ella ha decidit el seu destí En puerta 12 euros
URL:https://teatrometamorfosis.com/es/eventos/hortensia-minola/
LOCATION:Teatro Metamofosis\, Carrer de Tapioles 12\, Bajo\, Barcelona\, Barcelona\, 08004\, Spain
ATTACH;FMTTYPE=image/jpeg:https://teatrometamorfosis.com/wp-content/uploads/2024/09/WhatsApp-Image-2024-09-30-at-11.28.40-AM.jpeg
END:VEVENT
END:VCALENDAR