BEGIN:VCALENDAR
VERSION:2.0
PRODID:-//Teatro Metamorfosis - ECPv6.15.20//NONSGML v1.0//EN
CALSCALE:GREGORIAN
METHOD:PUBLISH
X-WR-CALNAME:Teatro Metamorfosis
X-ORIGINAL-URL:https://teatrometamorfosis.com/es/
X-WR-CALDESC:Eventos para Teatro Metamorfosis
REFRESH-INTERVAL;VALUE=DURATION:PT1H
X-Robots-Tag:noindex
X-PUBLISHED-TTL:PT1H
BEGIN:VTIMEZONE
TZID:Europe/Madrid
BEGIN:DAYLIGHT
TZOFFSETFROM:+0100
TZOFFSETTO:+0200
TZNAME:CEST
DTSTART:20230326T010000
END:DAYLIGHT
BEGIN:STANDARD
TZOFFSETFROM:+0200
TZOFFSETTO:+0100
TZNAME:CET
DTSTART:20231029T010000
END:STANDARD
BEGIN:DAYLIGHT
TZOFFSETFROM:+0100
TZOFFSETTO:+0200
TZNAME:CEST
DTSTART:20240331T010000
END:DAYLIGHT
BEGIN:STANDARD
TZOFFSETFROM:+0200
TZOFFSETTO:+0100
TZNAME:CET
DTSTART:20241027T010000
END:STANDARD
BEGIN:DAYLIGHT
TZOFFSETFROM:+0100
TZOFFSETTO:+0200
TZNAME:CEST
DTSTART:20250330T010000
END:DAYLIGHT
BEGIN:STANDARD
TZOFFSETFROM:+0200
TZOFFSETTO:+0100
TZNAME:CET
DTSTART:20251026T010000
END:STANDARD
END:VTIMEZONE
BEGIN:VEVENT
DTSTART;TZID=Europe/Madrid:20241005T210000
DTEND;TZID=Europe/Madrid:20241005T230000
DTSTAMP:20260424T144916
CREATED:20240719T152623Z
LAST-MODIFIED:20240722T135638Z
UID:3296-1728162000-1728169200@teatrometamorfosis.com
SUMMARY:JAF y Virginia Ferreyra en Barcelona
DESCRIPTION:Llega a Barcelona JAF el icónico guitarrista y cantautor argentino que junto a Pappo y Vitico\, formaron RIFF.Juan Antonio Ferreyra desarrolló su carrera como artista solista\, que continúa hasta hoy día. Su discografía incluye 14 álbumes\, 5 discos de oro y 1 de platino. Actualmente está presentando su nuevo disco NOCIVO\, y como siempre todas sus grandes canciones\, hoy éxitos. Como Maravillosa Esta Noche\, Tal vez mañana brille el sol\, Todo Mi amor\, Mis Zapatos de Blues\, Tu Amigo Fiel y tantas otras Virginia Ferreyra es una cantautora Argentina.Estuvo rodeada de música\, desde su nacimiento\, dueña de un estilo salvaje y fresco\, autora de increíbles melodías\, hoy lleva adelante su proyecto\, arraigado fuertemente\, en el rock & roll\, rhythm and blues y el folk. Sus últimos dos discos CLAROSCURO y SANCTUM son una muestra de su poder y poesía. Ambos llegan a la península para mostrarnos su música\, el poderío del Rock y el Blues\, entremezclando lo Romántico\, para recordar viejas épocas del Rock Nacional Argentino Artista Invitado : Cerati by ELEI
URL:https://teatrometamorfosis.com/es/eventos/jaff-y-virginia-ferreyra-en-barcelona/
LOCATION:Teatro Metamofosis\, Carrer de Tapioles 12\, Bajo\, Barcelona\, Barcelona\, 08004\, Spain
ATTACH;FMTTYPE=image/jpeg:https://teatrometamorfosis.com/wp-content/uploads/2024/07/4-barcelona-entradium.jpg
END:VEVENT
END:VCALENDAR