BEGIN:VCALENDAR
VERSION:2.0
PRODID:-//Teatro Metamorfosis - ECPv6.15.20//NONSGML v1.0//EN
CALSCALE:GREGORIAN
METHOD:PUBLISH
X-WR-CALNAME:Teatro Metamorfosis
X-ORIGINAL-URL:https://teatrometamorfosis.com/es/
X-WR-CALDESC:Eventos para Teatro Metamorfosis
REFRESH-INTERVAL;VALUE=DURATION:PT1H
X-Robots-Tag:noindex
X-PUBLISHED-TTL:PT1H
BEGIN:VTIMEZONE
TZID:Europe/Madrid
BEGIN:DAYLIGHT
TZOFFSETFROM:+0100
TZOFFSETTO:+0200
TZNAME:CEST
DTSTART:20240331T010000
END:DAYLIGHT
BEGIN:STANDARD
TZOFFSETFROM:+0200
TZOFFSETTO:+0100
TZNAME:CET
DTSTART:20241027T010000
END:STANDARD
BEGIN:DAYLIGHT
TZOFFSETFROM:+0100
TZOFFSETTO:+0200
TZNAME:CEST
DTSTART:20250330T010000
END:DAYLIGHT
BEGIN:STANDARD
TZOFFSETFROM:+0200
TZOFFSETTO:+0100
TZNAME:CET
DTSTART:20251026T010000
END:STANDARD
BEGIN:DAYLIGHT
TZOFFSETFROM:+0100
TZOFFSETTO:+0200
TZNAME:CEST
DTSTART:20260329T010000
END:DAYLIGHT
BEGIN:STANDARD
TZOFFSETFROM:+0200
TZOFFSETTO:+0100
TZNAME:CET
DTSTART:20261025T010000
END:STANDARD
END:VTIMEZONE
BEGIN:VEVENT
DTSTART;TZID=Europe/Madrid:20251129T203000
DTEND;TZID=Europe/Madrid:20251129T220000
DTSTAMP:20260424T010733
CREATED:20251103T181649Z
LAST-MODIFIED:20251104T132704Z
UID:5393-1764448200-1764453600@teatrometamorfosis.com
SUMMARY:Javier Lamattina  1er disco: 20 años
DESCRIPTION:“Si es que todo resbaló” \nPresentación y celebración del 1er disco: 20 años \nHace 20 años guardaba en un cajón mi primer disco luego de mostrárselo a algunos pocos\, y antes de hacer algo lógico para que lo conozcan algunos más. Solo una vez\, con mi guitarra y voz\, presenté esas 9 canciones durante mis primeros shows en Barcelona; luego con los siguientes 4 discos publicados\, “Si es que todo resbaló” fue quedando en el olvido\, o mejor dicho oculto\, como una botella en el fondo del mar. \n“Si es que todo resbaló” fue grabado y producido entre Barcelona\, Cadaquez y Gantes entre 2003 y 2004 en instancias muy precarias y gracias a Juanca Barrios\, amigo y productor guatemalteco y su “Kalamba Movile Studio”; lo que hoy se conoce como un “home studio”: un micro\, un teclado sequencer\, una placa de sonido externa\, el protools en un Mac y un par de guitarras. \nEl disco reúne 8 canciones + 1 bonus-track que hablan de un tiempo errante e iniciático para mí; años donde viajar desde Buenos Aires hacia Europa e instalarme en Barcelona (2002) significó una especie de auto-exilio\, conjugado por la búsqueda (in)sensata de mi libertad juvenil y una necesidad inconsciente de arriesgar incluso mi propia identidad\, zambulléndome hacia una nueva mirada de casi todo\, distante de mí mismo y de toda orilla conocida. \nlos invitamos pues a compartir y celebrar ese tiempo y alumbrar juntos estas primeras canciones que\, 20 años más tarde\, reaparecen como la bitácora de un viaje – íntimo y oculto – recién descubierta en una botella en medio del mar. \n“Si es que todo resbaló” será presentado en formato banda y junto a amigos invitados (Los Aliados) para ofrecer por primera vez el sonido que evoca la producción original del disco. A su vez los 9 tracks están siendo remasterizados para publicar el álbum de forma oficial\, próximamente. \nLa cita es el sábado 29.11\, en el Teatro Metamorfosis\, a las 20.30hs. (Las puertas se abrirán a las 20 H) \nLa barra estará abierta durante todo el evento. \nLas opciones para la consumición incluida en la entrada serán: cerveza\, vino\, cava\, vermut o refresco. \nLas entradas compradas con código de descuento NO incluyen bebidas \nEL aforo es limitado. ¡Los esperamos!
URL:https://teatrometamorfosis.com/es/eventos/javier-lamattina-los-aliados/
ATTACH;FMTTYPE=image/jpeg:https://teatrometamorfosis.com/wp-content/uploads/2025/11/WhatsApp-Image-2025-11-03-at-09.47.48.jpeg
END:VEVENT
END:VCALENDAR