BEGIN:VCALENDAR
VERSION:2.0
PRODID:-//Teatro Metamorfosis - ECPv6.15.18//NONSGML v1.0//EN
CALSCALE:GREGORIAN
METHOD:PUBLISH
X-WR-CALNAME:Teatro Metamorfosis
X-ORIGINAL-URL:https://teatrometamorfosis.com/es/
X-WR-CALDESC:Eventos para Teatro Metamorfosis
REFRESH-INTERVAL;VALUE=DURATION:PT1H
X-Robots-Tag:noindex
X-PUBLISHED-TTL:PT1H
BEGIN:VTIMEZONE
TZID:Europe/Madrid
BEGIN:DAYLIGHT
TZOFFSETFROM:+0100
TZOFFSETTO:+0200
TZNAME:CEST
DTSTART:20220327T010000
END:DAYLIGHT
BEGIN:STANDARD
TZOFFSETFROM:+0200
TZOFFSETTO:+0100
TZNAME:CET
DTSTART:20221030T010000
END:STANDARD
BEGIN:DAYLIGHT
TZOFFSETFROM:+0100
TZOFFSETTO:+0200
TZNAME:CEST
DTSTART:20230326T010000
END:DAYLIGHT
BEGIN:STANDARD
TZOFFSETFROM:+0200
TZOFFSETTO:+0100
TZNAME:CET
DTSTART:20231029T010000
END:STANDARD
BEGIN:DAYLIGHT
TZOFFSETFROM:+0100
TZOFFSETTO:+0200
TZNAME:CEST
DTSTART:20240331T010000
END:DAYLIGHT
BEGIN:STANDARD
TZOFFSETFROM:+0200
TZOFFSETTO:+0100
TZNAME:CET
DTSTART:20241027T010000
END:STANDARD
END:VTIMEZONE
BEGIN:VEVENT
DTSTART;TZID=Europe/Madrid:20231221T200000
DTEND;TZID=Europe/Madrid:20231221T210000
DTSTAMP:20260420T033452
CREATED:20231128T203013Z
LAST-MODIFIED:20231128T203014Z
UID:2039-1703188800-1703192400@teatrometamorfosis.com
SUMMARY:Javier Lamattina y los custodios del aire
DESCRIPTION:Va de celebración y reencuentro. Javier Lamattina (Buenos Aires\, 1974) se presenta en el teatro Metamorfosis con Los Custodios del Aire; trío enchufado madera criollo formado hace una década junto a los eternos Shianti Artega (Bogotá\, 1973) en bajo\, y Ermengol Mayol (Barcelona\, 1972) en beats & drums. Va de canciones con tiempo e historia\, y viene con las nuevas revoloteando frescas para adaptarse a este formato profundo\, delicado y energético\, como las canciones\, la guitarra y la voz. Ahí la magia de tres viejos conocidos que harán intensas las complicidades\, los cables\, los palillos\, las palabras. Vendrán algunxs invitadxs para maravillar e imaginar estrellas. Los esperamos como nunca y con el corazón de siempre. Javier Lamattina tiene 4 álbumes y 2 EP auto-producidos y publicados: Superstición de Domingo (2009)\, Películas (ep 2010)\, Tierrazul (2011)\, Mankind (ep 2013)\, El Otro Lenguaje (2016) y El Devenir de los Pájaros (2020). Actualmente desarrolla su próximo proyecto sonoro: in_cierto paraíso.  Entradas en boleteria el dia del evento 15 euros.
URL:https://teatrometamorfosis.com/es/eventos/javier-lamattina-y-los-custodios-del-aire/
LOCATION:Teatro Metamorfosis\, Carrer de Tapioles\, 12\, Bajo\, Barcelona\, Barcelona\, 08004\, Spain
ATTACH;FMTTYPE=image/jpeg:https://teatrometamorfosis.com/wp-content/uploads/2023/11/WhatsApp-Image-2023-11-28-at-17.22.07.jpeg
END:VEVENT
END:VCALENDAR