BEGIN:VCALENDAR
VERSION:2.0
PRODID:-//Teatro Metamorfosis - ECPv6.15.20//NONSGML v1.0//EN
CALSCALE:GREGORIAN
METHOD:PUBLISH
X-WR-CALNAME:Teatro Metamorfosis
X-ORIGINAL-URL:https://teatrometamorfosis.com/es/
X-WR-CALDESC:Eventos para Teatro Metamorfosis
REFRESH-INTERVAL;VALUE=DURATION:PT1H
X-Robots-Tag:noindex
X-PUBLISHED-TTL:PT1H
BEGIN:VTIMEZONE
TZID:Europe/Madrid
BEGIN:DAYLIGHT
TZOFFSETFROM:+0100
TZOFFSETTO:+0200
TZNAME:CEST
DTSTART:20230326T010000
END:DAYLIGHT
BEGIN:STANDARD
TZOFFSETFROM:+0200
TZOFFSETTO:+0100
TZNAME:CET
DTSTART:20231029T010000
END:STANDARD
BEGIN:DAYLIGHT
TZOFFSETFROM:+0100
TZOFFSETTO:+0200
TZNAME:CEST
DTSTART:20240331T010000
END:DAYLIGHT
BEGIN:STANDARD
TZOFFSETFROM:+0200
TZOFFSETTO:+0100
TZNAME:CET
DTSTART:20241027T010000
END:STANDARD
BEGIN:DAYLIGHT
TZOFFSETFROM:+0100
TZOFFSETTO:+0200
TZNAME:CEST
DTSTART:20250330T010000
END:DAYLIGHT
BEGIN:STANDARD
TZOFFSETFROM:+0200
TZOFFSETTO:+0100
TZNAME:CET
DTSTART:20251026T010000
END:STANDARD
END:VTIMEZONE
BEGIN:VEVENT
DTSTART;TZID=Europe/Madrid:20241129T193000
DTEND;TZID=Europe/Madrid:20241129T210000
DTSTAMP:20260424T132532
CREATED:20241106T134626Z
LAST-MODIFIED:20241109T210744Z
UID:3863-1732908600-1732914000@teatrometamorfosis.com
SUMMARY:Katia Valente
DESCRIPTION:Katia Valente feat Lorenzo Spinozzi Katia Valente es una cantante y compositora italiana. Con su proyecto Distant Whispers\, nos invita a un viaje sonoro en el que convergen el folk\, el jazz y la música de autor. Sus canciones\, cargadas de letras profundas y melodías íntimas\, crean un espacio donde tradición y modernidad dialogan con sensibilidad y originalidad. Con una voz cálida y expresiva\, Katia logra una conexión directa con su audiencia\, ofreciendo una experiencia única y transformadora que toca el alma de quien la escucha.Lorenzo Spinozzi guitarrista italiano de gran talento\, destaca por un estilo versátil que combina funk\, soul y jazz de manera única. Su toque expresivo en la guitarra\, descrito como un auténtico “toque de magia”\, aporta a cada interpretación una dimensión especial\, llenando las melodías de una energía vibrante y grooves profundamente influenciados por el jazz.Juntos\, Valente y Spinozzi tejen una atmósfera envolvente y genuina\, donde cada acorde y cada palabra resuenan en armonía\, invitando al público a sumergirse en un universo sonoro auténtico y lleno de matices.
URL:https://teatrometamorfosis.com/es/eventos/katia-valente/
ATTACH;FMTTYPE=image/png:https://teatrometamorfosis.com/wp-content/uploads/2024/11/DISTANT-WHISPER-FACEBOOK.png
END:VEVENT
END:VCALENDAR