BEGIN:VCALENDAR
VERSION:2.0
PRODID:-//Teatro Metamorfosis - ECPv6.15.18//NONSGML v1.0//EN
CALSCALE:GREGORIAN
METHOD:PUBLISH
X-WR-CALNAME:Teatro Metamorfosis
X-ORIGINAL-URL:https://teatrometamorfosis.com/es/
X-WR-CALDESC:Eventos para Teatro Metamorfosis
REFRESH-INTERVAL;VALUE=DURATION:PT1H
X-Robots-Tag:noindex
X-PUBLISHED-TTL:PT1H
BEGIN:VTIMEZONE
TZID:Europe/Madrid
BEGIN:DAYLIGHT
TZOFFSETFROM:+0100
TZOFFSETTO:+0200
TZNAME:CEST
DTSTART:20220327T010000
END:DAYLIGHT
BEGIN:STANDARD
TZOFFSETFROM:+0200
TZOFFSETTO:+0100
TZNAME:CET
DTSTART:20221030T010000
END:STANDARD
BEGIN:DAYLIGHT
TZOFFSETFROM:+0100
TZOFFSETTO:+0200
TZNAME:CEST
DTSTART:20230326T010000
END:DAYLIGHT
BEGIN:STANDARD
TZOFFSETFROM:+0200
TZOFFSETTO:+0100
TZNAME:CET
DTSTART:20231029T010000
END:STANDARD
BEGIN:DAYLIGHT
TZOFFSETFROM:+0100
TZOFFSETTO:+0200
TZNAME:CEST
DTSTART:20240331T010000
END:DAYLIGHT
BEGIN:STANDARD
TZOFFSETFROM:+0200
TZOFFSETTO:+0100
TZNAME:CET
DTSTART:20241027T010000
END:STANDARD
END:VTIMEZONE
BEGIN:VEVENT
DTSTART;TZID=Europe/Madrid:20230902T213000
DTEND;TZID=Europe/Madrid:20230902T230000
DTSTAMP:20260420T085550
CREATED:20230827T232813Z
LAST-MODIFIED:20230827T232814Z
UID:1809-1693690200-1693695600@teatrometamorfosis.com
SUMMARY:La bola de Krystal
DESCRIPTION:La Bola de Krystal es el gabinete de la vidente más carismática\, seductora y trasnochada de la ciudad\, que desplegará toda su Magia a través números musicales\, mucho sentido del humor y una entrevista única a un personaje clave del panorama LGTBIQ. Conoceremos el pasado\, el presente y\, quién sabe\, el futuro de nuestres invitades. Descubre sus pociones favoritas (un buen cubata\, vaya) sus conjuros de cabecera y conoce de primera mano sus dones adivinatorios.¿Caerás bajo su hechizo?
URL:https://teatrometamorfosis.com/es/eventos/la-bola-de-krystal-2/
LOCATION:Teatro Metamorfosis\, Carrer de Tapioles\, 12\, Bajo\, Barcelona\, Barcelona\, 08004\, Spain
ATTACH;FMTTYPE=image/jpeg:https://teatrometamorfosis.com/wp-content/uploads/2023/07/363333563_244297535119858_8053692947611338395_n.jpg
END:VEVENT
END:VCALENDAR