BEGIN:VCALENDAR
VERSION:2.0
PRODID:-//Teatro Metamorfosis - ECPv6.15.20//NONSGML v1.0//EN
CALSCALE:GREGORIAN
METHOD:PUBLISH
X-WR-CALNAME:Teatro Metamorfosis
X-ORIGINAL-URL:https://teatrometamorfosis.com/es/
X-WR-CALDESC:Eventos para Teatro Metamorfosis
REFRESH-INTERVAL;VALUE=DURATION:PT1H
X-Robots-Tag:noindex
X-PUBLISHED-TTL:PT1H
BEGIN:VTIMEZONE
TZID:Europe/Madrid
BEGIN:DAYLIGHT
TZOFFSETFROM:+0100
TZOFFSETTO:+0200
TZNAME:CEST
DTSTART:20240331T010000
END:DAYLIGHT
BEGIN:STANDARD
TZOFFSETFROM:+0200
TZOFFSETTO:+0100
TZNAME:CET
DTSTART:20241027T010000
END:STANDARD
BEGIN:DAYLIGHT
TZOFFSETFROM:+0100
TZOFFSETTO:+0200
TZNAME:CEST
DTSTART:20250330T010000
END:DAYLIGHT
BEGIN:STANDARD
TZOFFSETFROM:+0200
TZOFFSETTO:+0100
TZNAME:CET
DTSTART:20251026T010000
END:STANDARD
BEGIN:DAYLIGHT
TZOFFSETFROM:+0100
TZOFFSETTO:+0200
TZNAME:CEST
DTSTART:20260329T010000
END:DAYLIGHT
BEGIN:STANDARD
TZOFFSETFROM:+0200
TZOFFSETTO:+0100
TZNAME:CET
DTSTART:20261025T010000
END:STANDARD
END:VTIMEZONE
BEGIN:VEVENT
DTSTART;TZID=Europe/Madrid:20250308T210000
DTEND;TZID=Europe/Madrid:20250308T220000
DTSTAMP:20260424T091648
CREATED:20250206T111921Z
LAST-MODIFIED:20250206T111924Z
UID:4280-1741467600-1741471200@teatrometamorfosis.com
SUMMARY:La bola de Krystal
DESCRIPTION:Nena… ¡Apunta! Nueva edición de la Bola de Krystal en teatro Metamorfosis.  Y la protagonizará una artista de las que ya no quedan: ¡Hornella Góngora! Performer\, cantanta\, humorista\, presentadora\, maniquí… y todo lo que se proponga. Vamos a echarle un buen polvo mágico a esta artista multidisciplinar y leerle los posos del te. La doble finalista de Drag Race 3 y All Star te espera el día 8 de Marzo en Metamorfosis. Entradas en puerta el día del evento 14 euros.
URL:https://teatrometamorfosis.com/es/eventos/la-bola-de-krystal-6/
ATTACH;FMTTYPE=image/jpeg:https://teatrometamorfosis.com/wp-content/uploads/2025/02/WhatsApp-Image-2025-02-05-at-1.36.44-PM.jpeg
END:VEVENT
END:VCALENDAR