BEGIN:VCALENDAR
VERSION:2.0
PRODID:-//Teatro Metamorfosis - ECPv6.15.20//NONSGML v1.0//EN
CALSCALE:GREGORIAN
METHOD:PUBLISH
X-WR-CALNAME:Teatro Metamorfosis
X-ORIGINAL-URL:https://teatrometamorfosis.com/es/
X-WR-CALDESC:Eventos para Teatro Metamorfosis
REFRESH-INTERVAL;VALUE=DURATION:PT1H
X-Robots-Tag:noindex
X-PUBLISHED-TTL:PT1H
BEGIN:VTIMEZONE
TZID:Europe/Madrid
BEGIN:DAYLIGHT
TZOFFSETFROM:+0100
TZOFFSETTO:+0200
TZNAME:CEST
DTSTART:20240331T010000
END:DAYLIGHT
BEGIN:STANDARD
TZOFFSETFROM:+0200
TZOFFSETTO:+0100
TZNAME:CET
DTSTART:20241027T010000
END:STANDARD
BEGIN:DAYLIGHT
TZOFFSETFROM:+0100
TZOFFSETTO:+0200
TZNAME:CEST
DTSTART:20250330T010000
END:DAYLIGHT
BEGIN:STANDARD
TZOFFSETFROM:+0200
TZOFFSETTO:+0100
TZNAME:CET
DTSTART:20251026T010000
END:STANDARD
BEGIN:DAYLIGHT
TZOFFSETFROM:+0100
TZOFFSETTO:+0200
TZNAME:CEST
DTSTART:20260329T010000
END:DAYLIGHT
BEGIN:STANDARD
TZOFFSETFROM:+0200
TZOFFSETTO:+0100
TZNAME:CET
DTSTART:20261025T010000
END:STANDARD
END:VTIMEZONE
BEGIN:VEVENT
DTSTART;TZID=Europe/Madrid:20250306T203000
DTEND;TZID=Europe/Madrid:20250306T213000
DTSTAMP:20260424T103522
CREATED:20250213T180658Z
LAST-MODIFIED:20250213T180701Z
UID:4343-1741293000-1741296600@teatrometamorfosis.com
SUMMARY:LA COMPANYIA MINIMíssimA
DESCRIPTION:(CATALÀ) P R E S E N T A C I Ó “Poemari per a acordió” és un projecte en què LA COMPANYIA MINIMíssimA (Gerard Díaz: acordió diatònic) aprofundeix en la creació poètica. En els primers anys d’existència del projecte\, la poesia va anar envaint l’espai dels concerts fins a passar a ser-ne definitivament el fil conductor\, però sense abandonar la música d’arrel que és d’on va néixer tot plegat. Si primer va utilitzar poesia d’altres autors finalment li va vagar d’escriure’n i aquest n’és el resultat. R E C O R R E G U T LA COMPANYIA MINIMíssimA arrenca l’estiu del 2018\, amb la idea de tocar música tradicional i de creació. Ha sonat a l’Aplec dels Ports\, la Fira Mediterrània de Manresa\, el Tradicionàrius\, Ethnocatalonia… entre d’altres. L’octubre del 2019 se li concedeix el premi Sons de la Mediterrània i això li permet de gravar el seu primer disc. El treball actual\, en les seves diferents versions\, ha tingut bona rebuda tant en el circuit de la música d’arrel com als de poesia contemporània (Poesia i més\, L’Horiginal\, el Rusc\, etc). P O E M A R I P E R A A C O R D I Ó Es proposa l’escenificació del recull de poemes acompanyats amb acordió diatònic. El format és a mig camí entre el concert íntim i el recital de poesia. Una sola persona a l’escenari que recita els seus textos amb un acordió. Es tracta de textos curts i senzills\, sovint escrits de manera semiautomàtica amb una màquina d’escriure Olivetti 32. L’acompanyament musical també es va composar de manera semiautomàtica amb un acordió diatònic Rutkowski\, nou i encara desconegut. El llibre físic va sortir publicat el setembre de 2022\, igual que el disc\, en obert a les xarxes. Trobareu més informació a www.minimissima.com. (ESPAÑOL) PRESENTACIÓN “Poemari per a acordió” es un proyecto en el que LA COMPANYIA MINIMíssimA (Gerard Díaz: acordeón diatónico) profundiza en la creación poética. En los primeros años de existencia del proyecto\, la poesía fue invadiendo el espacio de los conciertos hasta pasar a ser definitivamente su hilo conductor\, pero sin abandonar la música de raíz que es de donde nació. Si primero utilizó poesía de otros autores finalmente le apeteció escribir él mismo\, y éste es el resultado. RECORRIDO LA COMPANYIA MINIMíssimA arranca en verano de 2018\, con la idea de tocar música tradicional y de creación. Ha sonado en el Aplec dels Ports\, la Fira Mediterránea\, el Tradicionàrius\, Ethnocatalonia… entre otros. En octubre de 2019 se le concede el premio Sons del Mediterrània y esto le permite grabar su primer disco. Su segundo trabajo\, en sus diferentes versiones\, ha tenido una buena acogida tanto en el circuito de la música de raíz como en los de poesía contemporánea (Festival Poesia i més\, Festival Rusc\, L’Horiginal…). POEMARI PER A ACORDIÓ Se propone la escenificación de la recopilación de poemas acompañados con acordeón diatónico. El formato está a medio camino entre el concierto íntimo y el recital de poesía. Una sola persona en el escenario que recita sus textos acompañándose del acordeón. Se trata de textos cortos y sencillos\, a menudo escritos de forma semiautomática con una máquina de escribir Olivetti 32. El la música también se compuso de forma semiautomática con un acordeón diatónico Rutkowski\, nuevo y aún desconocido para el músico/poeta. El libro físico salió publicado en septiembre de 2022\, al igual que el disco\, en abierto en las redes. Más información en www.minimissima.com. Entradas online a 10€ \, en puerta a 12€
URL:https://teatrometamorfosis.com/es/eventos/la-companyia-minimissima/
ATTACH;FMTTYPE=image/jpeg:https://teatrometamorfosis.com/wp-content/uploads/2025/02/WhatsApp-Image-2025-02-11-at-3.48.07-PM.jpeg
END:VEVENT
END:VCALENDAR