BEGIN:VCALENDAR
VERSION:2.0
PRODID:-//Teatro Metamorfosis - ECPv6.15.18//NONSGML v1.0//EN
CALSCALE:GREGORIAN
METHOD:PUBLISH
X-WR-CALNAME:Teatro Metamorfosis
X-ORIGINAL-URL:https://teatrometamorfosis.com/es/
X-WR-CALDESC:Eventos para Teatro Metamorfosis
REFRESH-INTERVAL;VALUE=DURATION:PT1H
X-Robots-Tag:noindex
X-PUBLISHED-TTL:PT1H
BEGIN:VTIMEZONE
TZID:Europe/Madrid
BEGIN:DAYLIGHT
TZOFFSETFROM:+0100
TZOFFSETTO:+0200
TZNAME:CEST
DTSTART:20230326T010000
END:DAYLIGHT
BEGIN:STANDARD
TZOFFSETFROM:+0200
TZOFFSETTO:+0100
TZNAME:CET
DTSTART:20231029T010000
END:STANDARD
BEGIN:DAYLIGHT
TZOFFSETFROM:+0100
TZOFFSETTO:+0200
TZNAME:CEST
DTSTART:20240331T010000
END:DAYLIGHT
BEGIN:STANDARD
TZOFFSETFROM:+0200
TZOFFSETTO:+0100
TZNAME:CET
DTSTART:20241027T010000
END:STANDARD
BEGIN:DAYLIGHT
TZOFFSETFROM:+0100
TZOFFSETTO:+0200
TZNAME:CEST
DTSTART:20250330T010000
END:DAYLIGHT
BEGIN:STANDARD
TZOFFSETFROM:+0200
TZOFFSETTO:+0100
TZNAME:CET
DTSTART:20251026T010000
END:STANDARD
END:VTIMEZONE
BEGIN:VEVENT
DTSTART;TZID=Europe/Madrid:20240302T203000
DTEND;TZID=Europe/Madrid:20240302T223000
DTSTAMP:20260420T015100
CREATED:20240226T122808Z
LAST-MODIFIED:20240226T122944Z
UID:2562-1709411400-1709418600@teatrometamorfosis.com
SUMMARY:Liadland
DESCRIPTION:Liad is a musician\, an artist\, a perpetual migrant\, a queer trash diva\, and a master of the margins. Liad lives in Liadland\, physically in Berlin\, but emotionally located between continents\, places she’s lived in\, and where her heart lies. She brings electro-bootielicious beats with Arab influ – ence as a homage to her homeland\, sassy flows\, a bold sexy attitude and the revolution itself in her lyrics. Her inspirations range from classic hiphop\, punky d.i.y. 90’s movements\, and queer culture. Her songs give voice to intersectionally-marginal – ized misfits\, creating a space to call for a revolu – tion\, celebrate life\, and mourn. Liadland’s upcoming album\, NOTHING TO DE – CLARE is set for release in April 2024 and is pro – duced by Hanno Stecher aka Kalpour. It’s a refer – ence to her lifetime of being a political activist with a big mouth. It’s also a signifier of crossing borders between nations\, between identities\, be – tween worlds\, and trying to contain all of these realities and transitions within oneself. Liad’s history of political work in Palestine and Europe inspired her kamikaze-style interventions\, queer/burlesque shows\, and performances. Fo – cusing on Palestine freedom\, sex workers’ rights and the queer liberation movement\, she show – cased in Europe’s biggest performance festivals: Impustanz/Vienna\, City of Women/Ljubljana\, Sommerfestival/Hamburg\, and the 10 th Berlin Bi – ennale. Her performative methodologies create a space where those considered as sexual or politi – cal deviants can feel seen. Through displaying vulnerabilities\, using her body\, sexuality and voice\, she brings this onstage experience into the world of music. Entradas en boleteria 15 euros
URL:https://teatrometamorfosis.com/es/eventos/liadland/
LOCATION:Teatro Metamorfosis\, Carrer de Tapioles\, 12\, Bajo\, Barcelona\, Barcelona\, 08004\, Spain
ATTACH;FMTTYPE=image/png:https://teatrometamorfosis.com/wp-content/uploads/2024/02/LIADLAND-teatro-metamorfosis-IG-1.png
END:VEVENT
END:VCALENDAR