BEGIN:VCALENDAR
VERSION:2.0
PRODID:-//Teatro Metamorfosis - ECPv6.15.20//NONSGML v1.0//EN
CALSCALE:GREGORIAN
METHOD:PUBLISH
X-WR-CALNAME:Teatro Metamorfosis
X-ORIGINAL-URL:https://teatrometamorfosis.com/es/
X-WR-CALDESC:Eventos para Teatro Metamorfosis
REFRESH-INTERVAL;VALUE=DURATION:PT1H
X-Robots-Tag:noindex
X-PUBLISHED-TTL:PT1H
BEGIN:VTIMEZONE
TZID:Europe/Madrid
BEGIN:DAYLIGHT
TZOFFSETFROM:+0100
TZOFFSETTO:+0200
TZNAME:CEST
DTSTART:20250330T010000
END:DAYLIGHT
BEGIN:STANDARD
TZOFFSETFROM:+0200
TZOFFSETTO:+0100
TZNAME:CET
DTSTART:20251026T010000
END:STANDARD
BEGIN:DAYLIGHT
TZOFFSETFROM:+0100
TZOFFSETTO:+0200
TZNAME:CEST
DTSTART:20260329T010000
END:DAYLIGHT
BEGIN:STANDARD
TZOFFSETFROM:+0200
TZOFFSETTO:+0100
TZNAME:CET
DTSTART:20261025T010000
END:STANDARD
BEGIN:DAYLIGHT
TZOFFSETFROM:+0100
TZOFFSETTO:+0200
TZNAME:CEST
DTSTART:20270328T010000
END:DAYLIGHT
BEGIN:STANDARD
TZOFFSETFROM:+0200
TZOFFSETTO:+0100
TZNAME:CET
DTSTART:20271031T010000
END:STANDARD
END:VTIMEZONE
BEGIN:VEVENT
DTSTART;TZID=Europe/Madrid:20260402T200000
DTEND;TZID=Europe/Madrid:20260402T220000
DTSTAMP:20260423T190402
CREATED:20260305T150503Z
LAST-MODIFIED:20260305T150503Z
UID:5798-1775160000-1775167200@teatrometamorfosis.com
SUMMARY:Live Music & Silent Cinema: The Last Laugh (1924)
DESCRIPTION:Silent cinema gets its voice in a live music performance \nMurnau’s classic comes alive with a live score that blends the organic and the digital\, the intimate and the expansive. The movie The Last Laugh (Der letzte Mann) tells a story of a doorman (Emil Jannings)\, who is laid off by his luxurious hotel for his senior age. It provokes a series of unfortunate events as we follow the protagonist in his struggle for respect and justice \nNastya Prigoda (vocals)\, Mario Preciado (cello)\, tur21t (DJ\, electronics) \nApril 2nd\, 8 p.m. (doors open at 7.30) \nEl Teatro Metamorfosis – Carrer de Tapioles\, 12 \nDon’t miss this unique fusion of classic cinema and contemporary sound. A rollercoaster of emotions on a night where silent film finds a new voiceMúsica en directo y cine mudo: El último (1924) \nEl cine mudo se expresa en directo \nEl clásico de Murnau cobra vida con una banda sonora en directo que fusiona lo orgánico y lo digital\, lo íntimo y lo expansivo. La película El último (Der letzte Mann) narra la historia de un portero (Emil Jannings) que es despedido de su lujoso hotel por su avanzada edad. La película desencadena una serie de desafortunados sucesos mientras seguimos al protagonista en su lucha por el respeto y la justicia. \nNastya Prigoda (voz)\, Mario Preciado (violonchelo)\, tur21t (DJ\, electrónica) \n2 de abril\, 20:00 h (apertura de puertas a las 19:30 h)\nEl Teatro Metamorfosis – Carrer de Tapioles\, 12 \nNo te pierdas esta fusión única de cine clásico y sonido contemporáneo. Una montaña rusa de emociones en una noche donde el cine mudo encuentra una nueva voz
URL:https://teatrometamorfosis.com/es/eventos/live-music-silent-cinema-the-last-laugh-1924-2/
ATTACH;FMTTYPE=image/jpeg:https://teatrometamorfosis.com/wp-content/uploads/2026/03/WhatsApp-Image-2026-03-04-at-15.36.11.jpeg
END:VEVENT
END:VCALENDAR