BEGIN:VCALENDAR
VERSION:2.0
PRODID:-//Teatro Metamorfosis - ECPv6.15.20//NONSGML v1.0//EN
CALSCALE:GREGORIAN
METHOD:PUBLISH
X-WR-CALNAME:Teatro Metamorfosis
X-ORIGINAL-URL:https://teatrometamorfosis.com/es/
X-WR-CALDESC:Eventos para Teatro Metamorfosis
REFRESH-INTERVAL;VALUE=DURATION:PT1H
X-Robots-Tag:noindex
X-PUBLISHED-TTL:PT1H
BEGIN:VTIMEZONE
TZID:Europe/Madrid
BEGIN:DAYLIGHT
TZOFFSETFROM:+0100
TZOFFSETTO:+0200
TZNAME:CEST
DTSTART:20240331T010000
END:DAYLIGHT
BEGIN:STANDARD
TZOFFSETFROM:+0200
TZOFFSETTO:+0100
TZNAME:CET
DTSTART:20241027T010000
END:STANDARD
BEGIN:DAYLIGHT
TZOFFSETFROM:+0100
TZOFFSETTO:+0200
TZNAME:CEST
DTSTART:20250330T010000
END:DAYLIGHT
BEGIN:STANDARD
TZOFFSETFROM:+0200
TZOFFSETTO:+0100
TZNAME:CET
DTSTART:20251026T010000
END:STANDARD
BEGIN:DAYLIGHT
TZOFFSETFROM:+0100
TZOFFSETTO:+0200
TZNAME:CEST
DTSTART:20260329T010000
END:DAYLIGHT
BEGIN:STANDARD
TZOFFSETFROM:+0200
TZOFFSETTO:+0100
TZNAME:CET
DTSTART:20261025T010000
END:STANDARD
END:VTIMEZONE
BEGIN:VEVENT
DTSTART;TZID=Europe/Madrid:20251114T200000
DTEND;TZID=Europe/Madrid:20251114T210000
DTSTAMP:20260424T022401
CREATED:20251017T170939Z
LAST-MODIFIED:20251017T170939Z
UID:5317-1763150400-1763154000@teatrometamorfosis.com
SUMMARY:Loot by Joe Orton
DESCRIPTION:Deaf Donkey Productions presents Loot by Joe Orton \nA masterpiece of black farce\, Loot follows the fortunes of two young thieves. Dennis works for an undertaker. Hal’s old Mum has just died. The pair rob the bank next door to the funeral parlour and return to Hal’s home to stash the loot. With the police hot on their trail\, the boys decide to hide the stolen cash in the coffin that contains Hal’s late mother\, Mrs. McLeavy. While old Mr. McLeavy is busy cataloguing the funeral wreaths and fending off the advances of Fay\, his late wife’s nurse\, Hal and Dennis stuff the corpse in the wardrobe and the money in the casket. With the money hidden in Mum’s coffin\, there’s no place for Mum whose body keeps re-appearing at the most inopportune times. When Inspector Truscott of the Yard turns up\, the already thickened plot goes topsy-turvy. \nLoot saw its premiere in London in 1966 and remains one of the most potent works from this master of the macabre. Orton’s shock tactics are a way of alerting us to the hypocrisy of a society in which greed\, gain and lust are masked by religious piety and veneration for authority. \nDirected by: Alice Russo \nAssistant director: Madeleine Tyler \nStarring: Kurtis Bright\, Chris Groves\, Alex Jacob\, Ben Pabla\, Alba Phillips\, and Alice Russo \nProduced by: Kurtis Bright\, Alex Jacob\, and Alice Russo \nProp design and creation: Tika Kodua and Alba Phillips \nCostume design and creation: Madeleine Tyler \nGraphic design: Dennis Vanneste \nDoors open at 19:45 h \nThe bar will be open for the duration of the show \nFor ticket with drinks included\, the choices are: beer\, wine\, cava\, vermouth\, or non-alcoholic drink. \nTickets bought with a discount code do NOT include beverages. The discount code can only be used for general entry without a drink included
URL:https://teatrometamorfosis.com/es/eventos/loot-by-joe-orton/
ATTACH;FMTTYPE=image/jpeg:https://teatrometamorfosis.com/wp-content/uploads/2025/10/WhatsApp-Image-2025-10-16-at-09.26.53.jpeg
END:VEVENT
END:VCALENDAR