BEGIN:VCALENDAR
VERSION:2.0
PRODID:-//Teatro Metamorfosis - ECPv6.15.20//NONSGML v1.0//EN
CALSCALE:GREGORIAN
METHOD:PUBLISH
X-WR-CALNAME:Teatro Metamorfosis
X-ORIGINAL-URL:https://teatrometamorfosis.com/es/
X-WR-CALDESC:Eventos para Teatro Metamorfosis
REFRESH-INTERVAL;VALUE=DURATION:PT1H
X-Robots-Tag:noindex
X-PUBLISHED-TTL:PT1H
BEGIN:VTIMEZONE
TZID:Europe/Madrid
BEGIN:DAYLIGHT
TZOFFSETFROM:+0100
TZOFFSETTO:+0200
TZNAME:CEST
DTSTART:20240331T010000
END:DAYLIGHT
BEGIN:STANDARD
TZOFFSETFROM:+0200
TZOFFSETTO:+0100
TZNAME:CET
DTSTART:20241027T010000
END:STANDARD
BEGIN:DAYLIGHT
TZOFFSETFROM:+0100
TZOFFSETTO:+0200
TZNAME:CEST
DTSTART:20250330T010000
END:DAYLIGHT
BEGIN:STANDARD
TZOFFSETFROM:+0200
TZOFFSETTO:+0100
TZNAME:CET
DTSTART:20251026T010000
END:STANDARD
BEGIN:DAYLIGHT
TZOFFSETFROM:+0100
TZOFFSETTO:+0200
TZNAME:CEST
DTSTART:20260329T010000
END:DAYLIGHT
BEGIN:STANDARD
TZOFFSETFROM:+0200
TZOFFSETTO:+0100
TZNAME:CET
DTSTART:20261025T010000
END:STANDARD
END:VTIMEZONE
BEGIN:VEVENT
DTSTART;TZID=Europe/Madrid:20250110T203000
DTEND;TZID=Europe/Madrid:20250110T213000
DTSTAMP:20260424T121308
CREATED:20241212T165755Z
LAST-MODIFIED:20241212T165757Z
UID:4098-1736541000-1736544600@teatrometamorfosis.com
SUMMARY:Matias Costa y la banda elástica
DESCRIPTION:El cantautor Matías Costa regresa al Teatro Metamorfosis con una propuesta íntima junto a la banda Elástica. Acompañado por un ensamble de músicos destacados —Miguel Aranda\, Mario Vélez y Txus Costalago—\, Matias nos presenta un adelanto de las canciones que formarán parte de su nuevo disco. Entradas anticipadas con descuento o 15 euros en taquilla
URL:https://teatrometamorfosis.com/es/eventos/matias-costa-y-la-banda-elastica/
ATTACH;FMTTYPE=image/jpeg:https://teatrometamorfosis.com/wp-content/uploads/2024/12/WhatsApp-Image-2024-12-12-at-11.02.49-AM.jpeg
END:VEVENT
END:VCALENDAR