BEGIN:VCALENDAR
VERSION:2.0
PRODID:-//Teatro Metamorfosis - ECPv6.15.20//NONSGML v1.0//EN
CALSCALE:GREGORIAN
METHOD:PUBLISH
X-ORIGINAL-URL:https://teatrometamorfosis.com/es/
X-WR-CALDESC:Eventos para Teatro Metamorfosis
REFRESH-INTERVAL;VALUE=DURATION:PT1H
X-Robots-Tag:noindex
X-PUBLISHED-TTL:PT1H
BEGIN:VTIMEZONE
TZID:Europe/Madrid
BEGIN:DAYLIGHT
TZOFFSETFROM:+0100
TZOFFSETTO:+0200
TZNAME:CEST
DTSTART:20250330T010000
END:DAYLIGHT
BEGIN:STANDARD
TZOFFSETFROM:+0200
TZOFFSETTO:+0100
TZNAME:CET
DTSTART:20251026T010000
END:STANDARD
BEGIN:DAYLIGHT
TZOFFSETFROM:+0100
TZOFFSETTO:+0200
TZNAME:CEST
DTSTART:20260329T010000
END:DAYLIGHT
BEGIN:STANDARD
TZOFFSETFROM:+0200
TZOFFSETTO:+0100
TZNAME:CET
DTSTART:20261025T010000
END:STANDARD
BEGIN:DAYLIGHT
TZOFFSETFROM:+0100
TZOFFSETTO:+0200
TZNAME:CEST
DTSTART:20270328T010000
END:DAYLIGHT
BEGIN:STANDARD
TZOFFSETFROM:+0200
TZOFFSETTO:+0100
TZNAME:CET
DTSTART:20271031T010000
END:STANDARD
END:VTIMEZONE
BEGIN:VEVENT
DTSTART;TZID=Europe/Madrid:20260106T190000
DTEND;TZID=Europe/Madrid:20260106T210000
DTSTAMP:20260424T175130
CREATED:20240826T113127Z
LAST-MODIFIED:20241007T201212Z
UID:10001891-1767726000-1767733200@teatrometamorfosis.com
SUMMARY:Curso de actuación
DESCRIPTION:Algunos Items a ver en el curso – Expresión Corporal– Herramientas de interpretación (Cuerpo y Voz)– Improvisación– Juegos Teatrales– Creación de Personaje– Estructura Dramática– Conflicto– ⁠Actitudes Humanas Escribenos para apuntarte +34 604 92 87 50
URL:https://teatrometamorfosis.com/es/event/curso-de-actuacion/2026-01-06/
LOCATION:Teatro Metamofosis\, Carrer de Tapioles 12\, Bajo\, Barcelona\, Barcelona\, 08004\, Spain
ATTACH;FMTTYPE=image/jpeg:https://teatrometamorfosis.com/wp-content/uploads/2024/08/WhatsApp-Image-2024-08-24-at-7.48.20-AM.jpeg
END:VEVENT
BEGIN:VEVENT
DTSTART;TZID=Europe/Madrid:20260111T190000
DTEND;TZID=Europe/Madrid:20260111T210000
DTSTAMP:20260424T175130
CREATED:20251229T014830Z
LAST-MODIFIED:20260102T201012Z
UID:10002924-1768158000-1768165200@teatrometamorfosis.com
SUMMARY:Miguel Aranda y la Compañía de Canciones.
DESCRIPTION:Canción de autor de la nueva vieja escuela. Canción baby-boomer? Quizás\, tal vez\, por qué no. Con letras que te van a llamar realmente la atención: puede que a la puerta de un garito alguien termine en el fondo del charco\, o que el esqueleto de un gato negro sea una raspa de sardina\, o que en el reformatorio canten el pequeño blues del manicomio\, o que haya niños que le tiran piedras al sol porque se va y a la luna por guapa. \nSe presentan esta vez con voz\, guitarra\, piano (Xavier Caballé) i violín (Roger Ballesté). \nLas puertas se abrirán a las 18:45 hs\nLa barra estará abierta durante todo el evento.\nLas opciones para la consumición incluída en la entrada serán : cerveza\, vino\, cava\, vermut o refresco. \nLa entrada comprada en puerta cuesta lo mismo pero SIN consumición\nLas entradas compradas con código de descuento NO incluyen bebidas
URL:https://teatrometamorfosis.com/es/event/miguel-aranda-y-la-compania-de-canciones-2/
ATTACH;FMTTYPE=image/jpeg:https://teatrometamorfosis.com/wp-content/uploads/2025/12/WhatsApp-Image-2026-01-02-at-15.39.40.jpeg
END:VEVENT
BEGIN:VEVENT
DTSTART;TZID=Europe/Madrid:20260113T190000
DTEND;TZID=Europe/Madrid:20260113T210000
DTSTAMP:20260424T175130
CREATED:20240826T113127Z
LAST-MODIFIED:20241007T201212Z
UID:10001892-1768330800-1768338000@teatrometamorfosis.com
SUMMARY:Curso de actuación
DESCRIPTION:Algunos Items a ver en el curso – Expresión Corporal– Herramientas de interpretación (Cuerpo y Voz)– Improvisación– Juegos Teatrales– Creación de Personaje– Estructura Dramática– Conflicto– ⁠Actitudes Humanas Escribenos para apuntarte +34 604 92 87 50
URL:https://teatrometamorfosis.com/es/event/curso-de-actuacion/2026-01-13/
LOCATION:Teatro Metamofosis\, Carrer de Tapioles 12\, Bajo\, Barcelona\, Barcelona\, 08004\, Spain
ATTACH;FMTTYPE=image/jpeg:https://teatrometamorfosis.com/wp-content/uploads/2024/08/WhatsApp-Image-2024-08-24-at-7.48.20-AM.jpeg
END:VEVENT
BEGIN:VEVENT
DTSTART;TZID=Europe/Madrid:20260116T203000
DTEND;TZID=Europe/Madrid:20260116T220000
DTSTAMP:20260424T175130
CREATED:20251229T135432Z
LAST-MODIFIED:20251229T135432Z
UID:10002925-1768595400-1768600800@teatrometamorfosis.com
SUMMARY:Mila Trani - Bart Barenghi
DESCRIPTION:Mila Trani \nCantautora y arreglista\, vive y trabaja entre Barcelona y Milán\, fusionando mundos musicales y artísticos con un enfoque ecléctico y contemporáneo. Con sus proyectos ha ganado numerosos premios internacionales y ha viajado por todo el mundo.\nSu último proyecto\, “Menta Selvatica”\, es un disco en italiano que fue lanzado en enero de 2025 con la discográfica catalana Segell Microscopi. La música que surge es el resultado de escuchas que van desde la tradición popular hasta el jazz\, pasando por sonoridades mediterráneas. Son canciones que exploran un universo femenino en evolución a través de mitos\, personajes y rituales\, invitando a una emancipación hacia una existencia más auténtica y libre. \nJunto a Bartolomeo Barenghi\, compositor\, guitarrista y arreglista\, con quien colabora desde hace varios años y que ha participado en los arreglos del disco\, presenta un repertorio de canciones originales y versiones de temas significativos en su trayectoria artística. El espectáculo abarca sonoridades del Mediterráneo\, jazz\, ritmos caribeños y atmósferas de flamenco y fado\, con un profundo amor por el folclore italiano\, reinterpretado a través de una sensibilidad que evoca el fuerte componente teatral de la tradición. \nLas puertas se abrirán a las 20 hs\nLa barra estará abierta durante todo el evento.\nLas opciones para la consumición incluída en la entrada serán : cerveza\, vino\, cava\, vermut o refresco.\nLa entrada comprada en puerta cuesta lo mismo pero SIN consumición.\nLas entradas compradas con código de descuento NO incluyen bebidas.
URL:https://teatrometamorfosis.com/es/event/mila-trani-bart-barenghi/
ATTACH;FMTTYPE=image/jpeg:https://teatrometamorfosis.com/wp-content/uploads/2025/12/WhatsApp-Image-2025-12-29-at-07.30.47.jpeg
END:VEVENT
BEGIN:VEVENT
DTSTART;TZID=Europe/Madrid:20260117T213000
DTEND;TZID=Europe/Madrid:20260117T230000
DTSTAMP:20260424T175130
CREATED:20260102T200026Z
LAST-MODIFIED:20260102T200026Z
UID:10002927-1768685400-1768690800@teatrometamorfosis.com
SUMMARY:Pepe Arias
DESCRIPTION:Pepe Arias presenta una experiencia musical y visual donde el violonchelo y la voz son el eje central. Acompañados de pedales y proyecciones en blanco y negro\, el proyecto propone un viaje íntimo entre recuerdos y emociones\, recorriendo diversos estilos musicales\, del clásico al folklore. Esta propuesta surge como una evolución de The Cello and the Bath y representa su expresión artística más reciente. \nLas puertas se abrirán a las 21:15 hs\nLa barra estará abierta durante todo el evento.\nLas opciones para la consumición incluída en la entrada serán : cerveza\, vino\, cava\, vermut o refresco.\nLa entrada comprada en puerta cuesta 15€ pero SIN consumición\nLas entradas compradas con código de descuento NO incluyen bebidas
URL:https://teatrometamorfosis.com/es/event/pepe-arias-3/
ATTACH;FMTTYPE=image/jpeg:https://teatrometamorfosis.com/wp-content/uploads/2026/01/Captura-de-pantalla_2-1-2026_165133_.jpeg
END:VEVENT
BEGIN:VEVENT
DTSTART;TZID=Europe/Madrid:20260120T190000
DTEND;TZID=Europe/Madrid:20260120T210000
DTSTAMP:20260424T175130
CREATED:20240826T113127Z
LAST-MODIFIED:20241007T201212Z
UID:10001893-1768935600-1768942800@teatrometamorfosis.com
SUMMARY:Curso de actuación
DESCRIPTION:Algunos Items a ver en el curso – Expresión Corporal– Herramientas de interpretación (Cuerpo y Voz)– Improvisación– Juegos Teatrales– Creación de Personaje– Estructura Dramática– Conflicto– ⁠Actitudes Humanas Escribenos para apuntarte +34 604 92 87 50
URL:https://teatrometamorfosis.com/es/event/curso-de-actuacion/2026-01-20/
LOCATION:Teatro Metamofosis\, Carrer de Tapioles 12\, Bajo\, Barcelona\, Barcelona\, 08004\, Spain
ATTACH;FMTTYPE=image/jpeg:https://teatrometamorfosis.com/wp-content/uploads/2024/08/WhatsApp-Image-2024-08-24-at-7.48.20-AM.jpeg
END:VEVENT
BEGIN:VEVENT
DTSTART;TZID=Europe/Madrid:20260123T203000
DTEND;TZID=Europe/Madrid:20260123T220000
DTSTAMP:20260424T175130
CREATED:20260102T144446Z
LAST-MODIFIED:20260102T144446Z
UID:10002926-1769200200-1769205600@teatrometamorfosis.com
SUMMARY:Balanço Mediterráneo & Friends
DESCRIPTION:Únete a nosotros el viernes 23 de enero a las 20:30 en el teatro Metamorfosis con el grupo “Balanço Mediterràneo” Toninho Pà : Voz / Guitarra ; Norberto Farina : Bajo elèctrico ; Edi Barceló : voz y percusión \nen el vibrante barrio del Poble Sec\, Barcelona. Disfruta de una noche mágica de música popular brasileña\, donde el encanto de la bossa nova se fusiona con el espíritu mediterráneo. Además\, contaremos con la participación especial de amigos y colaboradores que harán de esta velada una experiencia inolvidable. \n¡No te lo pierdas! \nLas puertas se abrirán a las 20 hs\nLa barra estará abierta durante todo el evento.\nLas opciones para la consumición incluída en la entrada serán : cerveza\, vino\, cava\, vermut o refresco.\nLa entrada comprada en puerta cuesta 12 € SIN consumición\nLas entradas compradas con código de descuento NO incluyen bebidas
URL:https://teatrometamorfosis.com/es/event/balanco-mediterraneo-friends/
ATTACH;FMTTYPE=image/jpeg:https://teatrometamorfosis.com/wp-content/uploads/2026/01/Captura-de-pantalla_2-1-2026_112357_.jpeg
END:VEVENT
BEGIN:VEVENT
DTSTART;TZID=Europe/Madrid:20260124T083000
DTEND;TZID=Europe/Madrid:20260124T220000
DTSTAMP:20260424T175130
CREATED:20260105T191528Z
LAST-MODIFIED:20260105T191528Z
UID:10002928-1769243400-1769292000@teatrometamorfosis.com
SUMMARY:JAVIER LAMATTINA + Los Aliados
DESCRIPTION:Celebración 1er disco y 20 años de canciones. \nDespués del exitoso primer show el pasado diciembre aún resonando con el calor del recibimiento de esta nueva propuesta\, y gracias a varios lamentos de personas por no haber podido estar esa noche\, nos animamos a repetirlo\, junto con Los Aliados\, asumiendo que todo será distinto\, pero de una misma manera. Es un lujo poder ofrecer de nuevo esas canciones que cumplieron 20 años\, y otras que vinieron después hasta hoy\, para ir macerando la ceremonia de canciones que soñamos recrear de nuevo\, como aquella noche llena de confort y magia pura que vivimos en el cálido y maravilloso Teatro Metamorfosis. \n¡Los esperamos otra vez\, como nunca y con el corazón de siempre!\nLa cita es el Sábado 24.01\, a las 20.30hs.\nLugar: Teatro Metamorfosis c/ Tapioles 12\, Poble Sec\, Barcelona.\n2ª Función: a pedido del público. El aforo es limitado. \n“Si es que todo resbaló” (2005-2025) \nEl disco reúne 8 canciones + 1 bonus-track que hablan de un tiempo errante e iniciático para mí; años donde viajar desde Buenos Aires hacia Europa e instalarme en Barcelona (2002) significó una especie de auto-exilio\, conjugado por la búsqueda oportuna de mi libertad juvenil y una necesidad in-consciente de arriesgar incluso mi propia identidad\, zambulléndome hacia una nueva mirada de casi todo\, distante de mí mismo y de toda orilla conocida. “Si es que todo resbaló” es presentado por Javier Lamattina (Voz y guitarra) + banda:\n“Los Aliados” (Batería\, Rubén Bueno Guerra\, Bajo: Ot Granados Boheví\, Teclados:\nGonzalo Zapata\, Guitarra eléctrica: Salva Criado) para ofrecer por primera vez el\nsonido que evoca la producción original del disco. Junto a otros amigos invitados\nsonarán canciones de los siguientes 4 discos publicados. \nLa barra estará abierta durante todo el evento. \nLas opciones para la consumición incluida en la entrada serán: cerveza\, vino\, cava\, vermut o refresco. \nLas entradas compradas con código de descuento NO incluyen bebidas \nEL aforo es limitado. ¡Los esperamos!
URL:https://teatrometamorfosis.com/es/event/javier-lamattina-los-aliados-2/
ATTACH;FMTTYPE=image/jpeg:https://teatrometamorfosis.com/wp-content/uploads/2026/01/WhatsApp-Image-2026-01-05-at-14.13.36.jpeg
END:VEVENT
BEGIN:VEVENT
DTSTART;TZID=Europe/Madrid:20260127T190000
DTEND;TZID=Europe/Madrid:20260127T210000
DTSTAMP:20260424T175130
CREATED:20240826T113127Z
LAST-MODIFIED:20241007T201212Z
UID:10001894-1769540400-1769547600@teatrometamorfosis.com
SUMMARY:Curso de actuación
DESCRIPTION:Algunos Items a ver en el curso – Expresión Corporal– Herramientas de interpretación (Cuerpo y Voz)– Improvisación– Juegos Teatrales– Creación de Personaje– Estructura Dramática– Conflicto– ⁠Actitudes Humanas Escribenos para apuntarte +34 604 92 87 50
URL:https://teatrometamorfosis.com/es/event/curso-de-actuacion/2026-01-27/
LOCATION:Teatro Metamofosis\, Carrer de Tapioles 12\, Bajo\, Barcelona\, Barcelona\, 08004\, Spain
ATTACH;FMTTYPE=image/jpeg:https://teatrometamorfosis.com/wp-content/uploads/2024/08/WhatsApp-Image-2024-08-24-at-7.48.20-AM.jpeg
END:VEVENT
BEGIN:VEVENT
DTSTART;TZID=Europe/Madrid:20260131T203000
DTEND;TZID=Europe/Madrid:20260131T220000
DTSTAMP:20260424T175130
CREATED:20260108T101815Z
LAST-MODIFIED:20260108T101815Z
UID:10002929-1769891400-1769896800@teatrometamorfosis.com
SUMMARY:Tradiciones Milenarias
DESCRIPTION:El perfil presenta un espectáculo llamado Tradiciones Milenarias que le da título al primer disco\, se presentará música propia en su mayoría\, y algunas canciones del folklore popular\, predominará la música De Santiago del estero donde cada canción representa nuestro paisaje\, nuestros colores\, nuestra identidad y las tradiciones de nuestra tierra que nos formó como músicos\, poetas y compositores. \nJoaquín Galván guitarra y voz\nMatías Herrera percusión\nGonzalo Bisson bajo\nMono Banegas guitarra y voz \nLas puertas se abrirán a las 20 H\nLa barra estará abierta durante todo el evento.\nLas opciones para la consumición incluída en la entrada serán : cerveza\, vino\, cava\, vermut o refresco.\nLa entrada comprada en puerta costará 15€ pero NO incluye consumición
URL:https://teatrometamorfosis.com/es/event/tradiciones-milenarias/
ATTACH;FMTTYPE=image/jpeg:https://teatrometamorfosis.com/wp-content/uploads/2026/01/WhatsApp-Image-2026-01-07-at-17.35.44.jpeg
END:VEVENT
END:VCALENDAR