BEGIN:VCALENDAR
VERSION:2.0
PRODID:-//Teatro Metamorfosis - ECPv6.15.20//NONSGML v1.0//EN
CALSCALE:GREGORIAN
METHOD:PUBLISH
X-ORIGINAL-URL:https://teatrometamorfosis.com/es/
X-WR-CALDESC:Eventos para Teatro Metamorfosis
REFRESH-INTERVAL;VALUE=DURATION:PT1H
X-Robots-Tag:noindex
X-PUBLISHED-TTL:PT1H
BEGIN:VTIMEZONE
TZID:Europe/Madrid
BEGIN:DAYLIGHT
TZOFFSETFROM:+0100
TZOFFSETTO:+0200
TZNAME:CEST
DTSTART:20250330T010000
END:DAYLIGHT
BEGIN:STANDARD
TZOFFSETFROM:+0200
TZOFFSETTO:+0100
TZNAME:CET
DTSTART:20251026T010000
END:STANDARD
BEGIN:DAYLIGHT
TZOFFSETFROM:+0100
TZOFFSETTO:+0200
TZNAME:CEST
DTSTART:20260329T010000
END:DAYLIGHT
BEGIN:STANDARD
TZOFFSETFROM:+0200
TZOFFSETTO:+0100
TZNAME:CET
DTSTART:20261025T010000
END:STANDARD
BEGIN:DAYLIGHT
TZOFFSETFROM:+0100
TZOFFSETTO:+0200
TZNAME:CEST
DTSTART:20270328T010000
END:DAYLIGHT
BEGIN:STANDARD
TZOFFSETFROM:+0200
TZOFFSETTO:+0100
TZNAME:CET
DTSTART:20271031T010000
END:STANDARD
END:VTIMEZONE
BEGIN:VEVENT
DTSTART;TZID=Europe/Madrid:20260201T193000
DTEND;TZID=Europe/Madrid:20260201T210000
DTSTAMP:20260424T162730
CREATED:20260130T114555Z
LAST-MODIFIED:20260130T114725Z
UID:10002491-1769974200-1769979600@teatrometamorfosis.com
SUMMARY:Nenucha
DESCRIPTION:  \n\n\n\n\nTras la crisis económica argentina de 2001 Nenucha\, un ama de casa de Buenos Aires\, se exilia a Barcelona donde se asienta en el pintoresco barrio de l’Eixample junto a su único hijo\, Rodrigo.Transcurre el año 2005 y ya hace varios meses que Rodrigo ha viajado a Londres. Desde entonces\, su madre no hace más que esperarlo. Hermética en su soledad y casi sin contacto directo con él\, Nenucha recibe una noticia que agrava su amargura. En medio de su melodrama\, una ayuda no deseada y una confirmación muy temida la llevarán a abrir una carta\, desde hace tiempo\, cerrada. El desafío será cambiar la mirada y encontrar el camino hacia el verdadero retorno. \nRodrigo Garbarino \n(Autor y Director General) \nFIICHA TÉCNICA \nAutores: Rodrigo Garbarino\, Marcelo Andino\, Bettina Menegazzo. \nSobre textos originales de Rodrigo Garbarino. \nActúa: Rodrigo Garbarino. \nMaquillaje: Simona Mauggeri. \nFotografía y diseño gráfico: Martín Gonzalez Puig. \nMúsica original: Marcelo Andino. \nProducción general: Rodrigo Garbarino. \nAsistente de dirección: Julián Arenas \nDirección: Rodrigo Garbarino. \nLas opciones para la consumición incluída en la entrada serán : cerveza\, vino\, cava\, vermut o refresco. \nLa entrada comprada en puerta cuesta lo mismo pero SIN consumición \nLas entradas compradas con código de descuento NO incluyen bebidas
URL:https://teatrometamorfosis.com/es/event/nenucha-2/2026-02-01/
ATTACH;FMTTYPE=image/jpeg:https://teatrometamorfosis.com/wp-content/uploads/2025/06/WhatsApp-Image-2026-01-30-at-08.35.41.jpeg
END:VEVENT
BEGIN:VEVENT
DTSTART;TZID=Europe/Madrid:20260203T190000
DTEND;TZID=Europe/Madrid:20260203T210000
DTSTAMP:20260424T162730
CREATED:20240826T113127Z
LAST-MODIFIED:20241007T201212Z
UID:10001895-1770145200-1770152400@teatrometamorfosis.com
SUMMARY:Curso de actuación
DESCRIPTION:Algunos Items a ver en el curso – Expresión Corporal– Herramientas de interpretación (Cuerpo y Voz)– Improvisación– Juegos Teatrales– Creación de Personaje– Estructura Dramática– Conflicto– ⁠Actitudes Humanas Escribenos para apuntarte +34 604 92 87 50
URL:https://teatrometamorfosis.com/es/event/curso-de-actuacion/2026-02-03/
LOCATION:Teatro Metamofosis\, Carrer de Tapioles 12\, Bajo\, Barcelona\, Barcelona\, 08004\, Spain
ATTACH;FMTTYPE=image/jpeg:https://teatrometamorfosis.com/wp-content/uploads/2024/08/WhatsApp-Image-2024-08-24-at-7.48.20-AM.jpeg
END:VEVENT
BEGIN:VEVENT
DTSTART;TZID=Europe/Madrid:20260205T200000
DTEND;TZID=Europe/Madrid:20260205T220000
DTSTAMP:20260424T162730
CREATED:20260112T142354Z
LAST-MODIFIED:20260112T142354Z
UID:10002933-1770321600-1770328800@teatrometamorfosis.com
SUMMARY:Live Music & Silent Cinema: The Phantom of the Opera (1925)
DESCRIPTION:A silent adaptation of Gaston Leroux’s novel\, set in the Paris Opera House\, starring Lon Chaney as the Phantom and Mary Philbin as Christine Daaé. Musical improvisation presented by tur21t (DJ\, electronics\, keys) & Jason Patrick Owens (flute\, saxophone) \nFebruary 5th\, 8 p.m. (doors open at 7.30)\nEl Teatro Metamorfosis – Carrer de Tapioles\, 12 \nUna adaptación muda de la novela de Gastón Leroux\, ambientada en la Ópera de París\, protagonizada por Lon Chaney como el Fantasma y Mary Philbin como Christine Daaé. Improvisación musical presentada por tur21t (DJ\, electrónica\, teclados) y Jason Patrick Owens (flauta\, saxofón). \n5 de Febrero \, 20:00 h (apertura de puertas a las 19:30 h)\nEl Teatro Metamorfosis – Carrer de Tapioles\, 12
URL:https://teatrometamorfosis.com/es/event/live-music-silent-cinema-the-phantom-of-the-opera-1925/
ATTACH;FMTTYPE=image/jpeg:https://teatrometamorfosis.com/wp-content/uploads/2026/01/WhatsApp-Image-2026-01-12-at-10.53.17.jpeg
END:VEVENT
BEGIN:VEVENT
DTSTART;TZID=Europe/Madrid:20260208T123000
DTEND;TZID=Europe/Madrid:20260208T140000
DTSTAMP:20260424T162730
CREATED:20260109T144650Z
LAST-MODIFIED:20260109T144650Z
UID:10002930-1770553800-1770559200@teatrometamorfosis.com
SUMMARY:"Svetlana\, la lógica del caos"
DESCRIPTION:Adéntrate en el misterioso carromato de Svetlana\, donde las preguntas que nunca te atreviste a hacer encuentran respuestas inesperadas. En «Svetlana\, la lógica del caos»\, lo imposible cobra vida en un mundo donde lo absurdo es la única verdad. \nSvetlana\, una vidente tan absurda como sabia\, te invita a enfrentarte a lo desconocido. \nCon un humor excéntrico y un toque surrealista\, Svetlana desvela la lógica oculta en el desorden y guía a sus invitados a reclamar una fuerza que siempre estuvo ahí\, pero que el ruido del mundo intentó ocultar. \nTodo\, en un espectáculo donde lo que parece azar es en realidad el mapa hacia lo esencial. \nUna creación de Eva Lu.\nEvA LU: \nCreativa y polifacética\, apasionada por el arte ritual y la psicomagia\, combina sus conocimientos de Tarot con los arquetipos universales y el inconsciente personal y colectivo. \nSiempre en busca de un sentido profundo de la realidad\, sigue comprometida con un arte sanadora y transformadora\, donde el ser humano\, con su cuerpo y alma\, es la verdadera obra de arte. \nLas puertas se abrirán a las 12:15 hs\nLa barra estará abierta durante todo el evento.\nLas opciones para la consumición incluída en la entrada serán : cerveza\, vino\, cava\, vermut o refresco.\nLa entrada comprada en puerta cuesta 15€ pero NO incluye consumición\nLas entradas compradas con código de descuento NO incluyen bebidas
URL:https://teatrometamorfosis.com/es/event/svetlana-la-logica-del-caos/
ATTACH;FMTTYPE=image/jpeg:https://teatrometamorfosis.com/wp-content/uploads/2026/01/WhatsApp-Image-2026-01-09-at-10.51.21.jpeg
END:VEVENT
BEGIN:VEVENT
DTSTART;TZID=Europe/Madrid:20260208T193000
DTEND;TZID=Europe/Madrid:20260208T210000
DTSTAMP:20260424T162730
CREATED:20260130T114555Z
LAST-MODIFIED:20260130T114725Z
UID:10002942-1770579000-1770584400@teatrometamorfosis.com
SUMMARY:Nenucha
DESCRIPTION:  \n\n\n\n\nTras la crisis económica argentina de 2001 Nenucha\, un ama de casa de Buenos Aires\, se exilia a Barcelona donde se asienta en el pintoresco barrio de l’Eixample junto a su único hijo\, Rodrigo.Transcurre el año 2005 y ya hace varios meses que Rodrigo ha viajado a Londres. Desde entonces\, su madre no hace más que esperarlo. Hermética en su soledad y casi sin contacto directo con él\, Nenucha recibe una noticia que agrava su amargura. En medio de su melodrama\, una ayuda no deseada y una confirmación muy temida la llevarán a abrir una carta\, desde hace tiempo\, cerrada. El desafío será cambiar la mirada y encontrar el camino hacia el verdadero retorno. \nRodrigo Garbarino \n(Autor y Director General) \nFIICHA TÉCNICA \nAutores: Rodrigo Garbarino\, Marcelo Andino\, Bettina Menegazzo. \nSobre textos originales de Rodrigo Garbarino. \nActúa: Rodrigo Garbarino. \nMaquillaje: Simona Mauggeri. \nFotografía y diseño gráfico: Martín Gonzalez Puig. \nMúsica original: Marcelo Andino. \nProducción general: Rodrigo Garbarino. \nAsistente de dirección: Julián Arenas \nDirección: Rodrigo Garbarino. \nLas opciones para la consumición incluída en la entrada serán : cerveza\, vino\, cava\, vermut o refresco. \nLa entrada comprada en puerta cuesta lo mismo pero SIN consumición \nLas entradas compradas con código de descuento NO incluyen bebidas
URL:https://teatrometamorfosis.com/es/event/nenucha-2/2026-02-08/
ATTACH;FMTTYPE=image/jpeg:https://teatrometamorfosis.com/wp-content/uploads/2025/06/WhatsApp-Image-2026-01-30-at-08.35.41.jpeg
END:VEVENT
BEGIN:VEVENT
DTSTART;TZID=Europe/Madrid:20260209T190000
DTEND;TZID=Europe/Madrid:20260209T210000
DTSTAMP:20260424T162730
CREATED:20260127T175519Z
LAST-MODIFIED:20260127T175519Z
UID:10002937-1770663600-1770670800@teatrometamorfosis.com
SUMMARY:2-DUAL + LIVE Painting
DESCRIPTION:Tercer encuentro en Metamorfosis del ciclo 2·DUAL que fusiona música improvisada con disciplinas artísticas. En esta ocasión contaremos con la pintura de la artista plástica Susana Uriach que dará a luz\, ¡en vivo!\, a una obra influenciada por la música en directo\, el espacio y el público. \nSusana Uriach: live painting\nJordi Rabascall : voy y efectos\nTomas Becket: piano y sintetizador\nJoao Vieira: bateria y percusión
URL:https://teatrometamorfosis.com/es/event/2-dual-live-painting/
ATTACH;FMTTYPE=image/jpeg:https://teatrometamorfosis.com/wp-content/uploads/2026/01/WhatsApp-Image-2026-01-27-at-11.47.27.jpeg
END:VEVENT
BEGIN:VEVENT
DTSTART;TZID=Europe/Madrid:20260210T190000
DTEND;TZID=Europe/Madrid:20260210T210000
DTSTAMP:20260424T162730
CREATED:20240826T113127Z
LAST-MODIFIED:20241007T201212Z
UID:10001896-1770750000-1770757200@teatrometamorfosis.com
SUMMARY:Curso de actuación
DESCRIPTION:Algunos Items a ver en el curso – Expresión Corporal– Herramientas de interpretación (Cuerpo y Voz)– Improvisación– Juegos Teatrales– Creación de Personaje– Estructura Dramática– Conflicto– ⁠Actitudes Humanas Escribenos para apuntarte +34 604 92 87 50
URL:https://teatrometamorfosis.com/es/event/curso-de-actuacion/2026-02-10/
LOCATION:Teatro Metamofosis\, Carrer de Tapioles 12\, Bajo\, Barcelona\, Barcelona\, 08004\, Spain
ATTACH;FMTTYPE=image/jpeg:https://teatrometamorfosis.com/wp-content/uploads/2024/08/WhatsApp-Image-2024-08-24-at-7.48.20-AM.jpeg
END:VEVENT
BEGIN:VEVENT
DTSTART;TZID=Europe/Madrid:20260214T203000
DTEND;TZID=Europe/Madrid:20260214T220000
DTSTAMP:20260424T162730
CREATED:20260110T150841Z
LAST-MODIFIED:20260110T150841Z
UID:10002932-1771101000-1771106400@teatrometamorfosis.com
SUMMARY:Popcorn Singalong – Mamma Mia!
DESCRIPTION:Presentado por Lady Red Velvet\nPrepárate para una noche mágica llena de música y diversión en Teatro Metamorfosis con una *proyección especial para cantar Mamma Mia! *\nCanta a todo pulmón los clásicos de ABBA\, disfruta de momentos en vivo durante la película y\, por supuesto\, ¡muchas palomitas!\nEl plan perfecto para San Valentín\, ya sea con amistades\, parejas o auténticas dancing queens.\nTeatro Metamorfosis\n14 de febrero\n20:30 h\nVen vestidx con inspiración Mamma Mia! — glamour griego\, brillo disco o fantasía ABBA total. \nLas puertas se abrirán a las 20:15 hs\nLa barra de bebidas estará abierta durante todo el evento. \n——– \nHosted by Lady Red Velvet\nGet ready for a feel-good night of movie magic at Teatro Metamorfosis with a special *singalong screening of Mamma Mia! *\nSing your heart out to ABBA classics\, enjoy live moments during the film\, and of course—plenty of popcorn! \nIt’s the perfect Valentine’s night out\, whether you’re coming with friends\, lovers\, or dancing queens. \nTeatro Metamorfosis\n14th February\n8:30 PM\nDress up inspired by Mamma Mia! — Greek island glam\, disco flair\, or full ABBA fantasy encouraged!
URL:https://teatrometamorfosis.com/es/event/popcorn-singalong-mamma-mia/
ATTACH;FMTTYPE=image/jpeg:https://teatrometamorfosis.com/wp-content/uploads/2026/01/WhatsApp-Image-2026-01-10-at-08.58.43.jpeg
END:VEVENT
BEGIN:VEVENT
DTSTART;TZID=Europe/Madrid:20260215T193000
DTEND;TZID=Europe/Madrid:20260215T210000
DTSTAMP:20260424T162730
CREATED:20260130T114555Z
LAST-MODIFIED:20260130T114725Z
UID:10002943-1771183800-1771189200@teatrometamorfosis.com
SUMMARY:Nenucha
DESCRIPTION:  \n\n\n\n\nTras la crisis económica argentina de 2001 Nenucha\, un ama de casa de Buenos Aires\, se exilia a Barcelona donde se asienta en el pintoresco barrio de l’Eixample junto a su único hijo\, Rodrigo.Transcurre el año 2005 y ya hace varios meses que Rodrigo ha viajado a Londres. Desde entonces\, su madre no hace más que esperarlo. Hermética en su soledad y casi sin contacto directo con él\, Nenucha recibe una noticia que agrava su amargura. En medio de su melodrama\, una ayuda no deseada y una confirmación muy temida la llevarán a abrir una carta\, desde hace tiempo\, cerrada. El desafío será cambiar la mirada y encontrar el camino hacia el verdadero retorno. \nRodrigo Garbarino \n(Autor y Director General) \nFIICHA TÉCNICA \nAutores: Rodrigo Garbarino\, Marcelo Andino\, Bettina Menegazzo. \nSobre textos originales de Rodrigo Garbarino. \nActúa: Rodrigo Garbarino. \nMaquillaje: Simona Mauggeri. \nFotografía y diseño gráfico: Martín Gonzalez Puig. \nMúsica original: Marcelo Andino. \nProducción general: Rodrigo Garbarino. \nAsistente de dirección: Julián Arenas \nDirección: Rodrigo Garbarino. \nLas opciones para la consumición incluída en la entrada serán : cerveza\, vino\, cava\, vermut o refresco. \nLa entrada comprada en puerta cuesta lo mismo pero SIN consumición \nLas entradas compradas con código de descuento NO incluyen bebidas
URL:https://teatrometamorfosis.com/es/event/nenucha-2/2026-02-15/
ATTACH;FMTTYPE=image/jpeg:https://teatrometamorfosis.com/wp-content/uploads/2025/06/WhatsApp-Image-2026-01-30-at-08.35.41.jpeg
END:VEVENT
BEGIN:VEVENT
DTSTART;TZID=Europe/Madrid:20260217T190000
DTEND;TZID=Europe/Madrid:20260217T210000
DTSTAMP:20260424T162730
CREATED:20240826T113127Z
LAST-MODIFIED:20241007T201212Z
UID:10001897-1771354800-1771362000@teatrometamorfosis.com
SUMMARY:Curso de actuación
DESCRIPTION:Algunos Items a ver en el curso – Expresión Corporal– Herramientas de interpretación (Cuerpo y Voz)– Improvisación– Juegos Teatrales– Creación de Personaje– Estructura Dramática– Conflicto– ⁠Actitudes Humanas Escribenos para apuntarte +34 604 92 87 50
URL:https://teatrometamorfosis.com/es/event/curso-de-actuacion/2026-02-17/
LOCATION:Teatro Metamofosis\, Carrer de Tapioles 12\, Bajo\, Barcelona\, Barcelona\, 08004\, Spain
ATTACH;FMTTYPE=image/jpeg:https://teatrometamorfosis.com/wp-content/uploads/2024/08/WhatsApp-Image-2024-08-24-at-7.48.20-AM.jpeg
END:VEVENT
BEGIN:VEVENT
DTSTART;TZID=Europe/Madrid:20260220T203000
DTEND;TZID=Europe/Madrid:20260220T220000
DTSTAMP:20260424T162730
CREATED:20260110T144151Z
LAST-MODIFIED:20260203T205145Z
UID:10002931-1771619400-1771624800@teatrometamorfosis.com
SUMMARY:Déuf Flamenco Diel
DESCRIPTION:El ATANOR FLAMENCO de Isabel Rivera Cuenca (Badalona)\, es el nombre que escoge la bailaora para titular una función Alquímica en la que se funden tradición con flamenco fusión y en este mes de Enero con la escuela raíz del Africa negra en un espectáculo que no dejara indiferente al que lo presencie. \nEn esta ocasión el elenco que la acompaña en su vibrante baile es el toque de la kora de Sam Sussoh (Gambia) y la percusion de Ousseynou Diagne (Senegal) y la voz negra que ambos prodigaran como memoria de lo que Africa influyó en el Flamenco y su Jondura por sus características sociales y culturales atribuidas a la raza negra y que se sabe\, jugaron un papel crucial en el nacimiento del arte jondo. \nLas puertas se abrirán a las 20:15 hs\nLa barra estará abierta durante todo el evento.\nLas opciones para la consumición incluída en la entrada serán : cerveza\, vino\, cava\, vermut o refresco.\nLa entrada comprada en puerta costará 18€ pero NO incluirá consumición\nLas entradas compradas con código de descuento NO incluyen bebidas
URL:https://teatrometamorfosis.com/es/event/deuf-flamenco-diel/
ATTACH;FMTTYPE=image/jpeg:https://teatrometamorfosis.com/wp-content/uploads/2026/01/WhatsApp-Image-2026-02-03-at-10.25.25.jpeg
END:VEVENT
BEGIN:VEVENT
DTSTART;TZID=Europe/Madrid:20260221T203000
DTEND;TZID=Europe/Madrid:20260221T220000
DTSTAMP:20260424T162730
CREATED:20260123T180542Z
LAST-MODIFIED:20260123T180542Z
UID:10002935-1771705800-1771711200@teatrometamorfosis.com
SUMMARY:Marcel Vallès Trio
DESCRIPTION:Marcel Vallès presenta Boas Lembranças\, su disco debut como solista\, al frente de un trío que combina composiciones originales con piezas de grandes compositores brasileños. Tras una larga trayectoria participando en numerosos proyectos y actuando en destacados escenarios internacionales\, el guitarrista lanza ahora su proyecto propio\, una propuesta que fusiona el jazz con las sonoridades de Brasil y otros territorios. Acompañado por dos destacados músicos brasileños\, el trío construye un directo lleno de emoción\, complicidad\, improvisación y ritmo. \nFormación\nMarcel Vallès – guitarra\nAntony da Cruz – contrabajo\nPedrinho Augusto – batería \nLas puertas se abrirán a las 20 hs\nLa barra estará abierta durante todo el evento.\nLas opciones para la consumición incluída en la entrada serán : cerveza\, vino\, cava\, vermut o refresco.\nLa entrada comprada en puerta cuesta 15€ pero SIN consumición\nLas entradas compradas con código de descuento NO incluyen bebida
URL:https://teatrometamorfosis.com/es/event/marcel-valles-trio/
ATTACH;FMTTYPE=image/jpeg:https://teatrometamorfosis.com/wp-content/uploads/2026/01/WhatsApp-Image-2026-01-23-at-13.51.45.jpeg
END:VEVENT
BEGIN:VEVENT
DTSTART;TZID=Europe/Madrid:20260222T120000
DTEND;TZID=Europe/Madrid:20260222T140000
DTSTAMP:20260424T162730
CREATED:20260115T174542Z
LAST-MODIFIED:20260115T174542Z
UID:10002934-1771761600-1771768800@teatrometamorfosis.com
SUMMARY:Francesc Miralles & Ferran Cases son DOS TIPOS FELICES
DESCRIPTION:Francesc Miralles & Ferran Cases son \nDOS TIPOS FELICES \nUn cabaret filosófico lleno de sorpresas de la mano de Francesc Miralles & Ferran Cases\, dos expertos en desarrollo personal que en cada sesión abordarán un tema distinto con amor y humor\, aderezado con revelaciones personales\, anécdotas\, música\, canciones\, recomendaciones literarias\, así como consultas del público en directo. Una velada mágica para recargar las pilas de la esperanza y la creatividad. \nEn este primer espectáculo\, que tiene el propósito de ser mensual\, el tema será «los greatest hits de la felicidad». \nFRANCESC MIRALLES es un referente internacional del desarrollo personal. Sus libros se publican en todo el mundo\, recomendados por figuras como Oprah Winfrey\, Chris Evans o Marie Kondo. Sus inicios artísticos fueron en el teatro. \nFERRAN CASES es el autor más exitoso en lengua castellana sobre temas relacionados con la ansiedad. Sus libros han sido traducidos a más de 20 idiomas\, y lleva años trabajando estos contenidos sanadores a través de la Stand Up Comedy. \nDomingo 22 de febrero a las 12 hs.\nen sala\, Teatro Metamorfosis\, c/Tapioles 12 \nLa barra estará abierta durante todo el evento.\nLas opciones para la consumición incluída en la entrada serán : cerveza\, vino\, cava\, vermut o refresco. \nLa entrada comprada en puerta cuesta 20€ pero SIN consumición\nLas entradas compradas con código de descuento NO incluyen bebidas
URL:https://teatrometamorfosis.com/es/event/francesc-miralles-ferran-cases-son-dos-tipos-felices-3/
ATTACH;FMTTYPE=image/jpeg:https://teatrometamorfosis.com/wp-content/uploads/2026/01/WhatsApp-Image-2026-01-15-at-13.13.26.jpeg
END:VEVENT
BEGIN:VEVENT
DTSTART;TZID=Europe/Madrid:20260223T190000
DTEND;TZID=Europe/Madrid:20260223T203000
DTSTAMP:20260424T162730
CREATED:20260203T211924Z
LAST-MODIFIED:20260203T211924Z
UID:10002945-1771873200-1771878600@teatrometamorfosis.com
SUMMARY:Max Younkman
DESCRIPTION:Max Younkman es un joven violinista de jazz nacido en Barcelona. Su música\, interpretada a cuarteto\, fusiona elementos de diferentes músicas tradicionales de alrededor del mediterráneo con el jazz contemporáneo. \nEsta música tomará vida acompañado por Sergi Zaragoza\, Gaspar Nogales y Roger Castells \nLas puertas se abrirán a las 18:45 H \nLa barra estará abierta durante todo el evento. \nLas opciones para la consumición incluída en la entrada serán : cerveza\, vino\, cava\, vermut o refresco. \nLA ENTRaDA incluye la permanencia en la Poble Sec Jam Session que tendrá lugar a continuación del concierto .
URL:https://teatrometamorfosis.com/es/event/max-younkman/
ATTACH;FMTTYPE=image/jpeg:https://teatrometamorfosis.com/wp-content/uploads/2026/02/WhatsApp-Image-2026-02-02-at-13.13.18-1.jpeg
END:VEVENT
BEGIN:VEVENT
DTSTART;TZID=Europe/Madrid:20260224T190000
DTEND;TZID=Europe/Madrid:20260224T210000
DTSTAMP:20260424T162730
CREATED:20240826T113127Z
LAST-MODIFIED:20241007T201212Z
UID:10001898-1771959600-1771966800@teatrometamorfosis.com
SUMMARY:Curso de actuación
DESCRIPTION:Algunos Items a ver en el curso – Expresión Corporal– Herramientas de interpretación (Cuerpo y Voz)– Improvisación– Juegos Teatrales– Creación de Personaje– Estructura Dramática– Conflicto– ⁠Actitudes Humanas Escribenos para apuntarte +34 604 92 87 50
URL:https://teatrometamorfosis.com/es/event/curso-de-actuacion/2026-02-24/
LOCATION:Teatro Metamofosis\, Carrer de Tapioles 12\, Bajo\, Barcelona\, Barcelona\, 08004\, Spain
ATTACH;FMTTYPE=image/jpeg:https://teatrometamorfosis.com/wp-content/uploads/2024/08/WhatsApp-Image-2024-08-24-at-7.48.20-AM.jpeg
END:VEVENT
BEGIN:VEVENT
DTSTART;TZID=Europe/Madrid:20260226T200000
DTEND;TZID=Europe/Madrid:20260226T220000
DTSTAMP:20260424T162730
CREATED:20260123T184942Z
LAST-MODIFIED:20260123T184942Z
UID:10002936-1772136000-1772143200@teatrometamorfosis.com
SUMMARY:Migue de la Rosa y Yaíma Orozco
DESCRIPTION:Migue de la Rosa y Yaíma Orozco desde Cuba\, en BARCELONA \nMigue y Yaíma son cantautores cubanos con carreras y obras independientes que a dúo versionan canciones no conocidas del repertorio de la canción popular cubana. \nAbordan géneros de su tierra como el son\, el bolero\, la habanera y otros ritmos latinoamericanos y del mundo\, tocados a guitarra y percusión menor. Crean\, se complementan y defienden desde lo individual a lo conjunto\, con desenfado y frescura\, obras que cobran una nueva vida siendo cantadas siempre a dúo con voces claras y profundas. \nCon este formato han grabado dos discos de manera independiente: ‘Para Revolver’ Vol I y Vol II. Han girado con su música por Francia\, Bélgica\, Suiza\, Argentina\, Chile\, España\, Cataluña\, País Vasco y Galicia. \nActualmente viven en Entrambasaguas\, Cantabria \nLas puertas se abrirán a las 19:45 hs\nLa barra estará abierta durante todo el evento.\nLas opciones para la consumición incluída en la entrada serán : cerveza\, vino\, cava\, vermut o refresco.\nLa entrada comprada en puerta cuesta 15€ pero SIN consumición\nLas entradas compradas con código de descuento NO incluyen bebidas
URL:https://teatrometamorfosis.com/es/event/migue-de-la-rosa-y-yaima-orozco/
ATTACH;FMTTYPE=image/jpeg:https://teatrometamorfosis.com/wp-content/uploads/2026/01/WhatsApp-Image-2026-01-23-at-14.51.34.jpeg
END:VEVENT
BEGIN:VEVENT
DTSTART;TZID=Europe/Madrid:20260227T203000
DTEND;TZID=Europe/Madrid:20260227T223000
DTSTAMP:20260424T162730
CREATED:20260129T121211Z
LAST-MODIFIED:20260129T121211Z
UID:10002940-1772224200-1772231400@teatrometamorfosis.com
SUMMARY:GOD SAVE THE QUEEN!
DESCRIPTION:Step inside the royal inner circle with Queen Elizabeth II in this riotous comedy where Lizzy finally spills her side of the story. From awkward palace dinners to scandalous secrets and simmering rivalries\, nothing is off-limits. Expect sharp wit\, cheeky charm\, and of course — a gin in hand. \nWhether you’re a die-hard royal watcher or just here for the gossip\, this unfiltered\, hilarious peek behind palace walls is not to be missed. \nOne crown. One woman. Zero filters. Long live the Queen… of comedy! \nFriday\, 27th February\n•Start Time: 8:30 PM\nDuration: 2hrs\nVenue: Teatro Metamorfosis\nTickets available via the link \nEntradas :\nAnticipada con 1 consumicion 15€\nEn puerta el día de la función 18€
URL:https://teatrometamorfosis.com/es/event/god-save-the-queen/
ATTACH;FMTTYPE=image/jpeg:https://teatrometamorfosis.com/wp-content/uploads/2026/01/WhatsApp-Image-2026-01-27-at-20.10.53.jpeg
END:VEVENT
BEGIN:VEVENT
DTSTART;TZID=Europe/Madrid:20260228T203000
DTEND;TZID=Europe/Madrid:20260228T220000
DTSTAMP:20260424T162730
CREATED:20260210T112712Z
LAST-MODIFIED:20260210T112712Z
UID:10002946-1772310600-1772316000@teatrometamorfosis.com
SUMMARY:Distant Whispers
DESCRIPTION:Katia Valente es una cantante y compositora italiana. Con su proyecto Distant Whispers\, nos invita a un viaje sonoro en el que convergen el folk\, el jazz y la música de autor. Sus canciones\, cargadas de letras profundas y melodías íntimas\, crean un espacio donde tradición y modernidad dialogan con sensibilidad y originalidad. Con una voz cálida y expresiva\, Katia logra una conexión directa con su audiencia\, ofreciendo una experiencia única y transformadora que toca el alma de quien la escucha. \nLorenzo Spinozzi guitarrista italiano de gran talento\, destaca por un estilo versátil que combina funk\, soul y jazz de manera única. Su toque expresivo en la guitarra\, descrito como un auténtico “toque de magia”\, aporta a cada interpretación una dimensión especial\, llenando las melodías de una energía vibrante y grooves profundamente influenciados por el jazz. \nJuntos\, Valente y Spinozzi tejen una atmósfera envolvente y genuina\, donde cada acorde y cada palabra resuenan en armonía\, invitando al público a sumergirse en un universo sonoro auténtico y lleno de matices. \nLas puertas se abrirán a las 20:15 hs\nLa barra estará abierta durante todo el evento.\nLas opciones para la consumición incluída en la entrada serán : cerveza\, vino\, cava\, vermut o refresco.\nLa entrada comprada en puerta el mísmo día de la función costará 15€ pero no incluirá consumición .\nLas entradas compradas con código de descuento NO incluyen bebidas
URL:https://teatrometamorfosis.com/es/event/distant-whispers/
ATTACH;FMTTYPE=image/png:https://teatrometamorfosis.com/wp-content/uploads/2026/02/FLYER-INSTAGRAM.png
END:VEVENT
END:VCALENDAR