BEGIN:VCALENDAR
VERSION:2.0
PRODID:-//Teatro Metamorfosis - ECPv6.15.18//NONSGML v1.0//EN
CALSCALE:GREGORIAN
METHOD:PUBLISH
X-WR-CALNAME:Teatro Metamorfosis
X-ORIGINAL-URL:https://teatrometamorfosis.com/es/
X-WR-CALDESC:Eventos para Teatro Metamorfosis
REFRESH-INTERVAL;VALUE=DURATION:PT1H
X-Robots-Tag:noindex
X-PUBLISHED-TTL:PT1H
BEGIN:VTIMEZONE
TZID:Europe/Madrid
BEGIN:DAYLIGHT
TZOFFSETFROM:+0100
TZOFFSETTO:+0200
TZNAME:CEST
DTSTART:20230326T010000
END:DAYLIGHT
BEGIN:STANDARD
TZOFFSETFROM:+0200
TZOFFSETTO:+0100
TZNAME:CET
DTSTART:20231029T010000
END:STANDARD
BEGIN:DAYLIGHT
TZOFFSETFROM:+0100
TZOFFSETTO:+0200
TZNAME:CEST
DTSTART:20240331T010000
END:DAYLIGHT
BEGIN:STANDARD
TZOFFSETFROM:+0200
TZOFFSETTO:+0100
TZNAME:CET
DTSTART:20241027T010000
END:STANDARD
BEGIN:DAYLIGHT
TZOFFSETFROM:+0100
TZOFFSETTO:+0200
TZNAME:CEST
DTSTART:20250330T010000
END:DAYLIGHT
BEGIN:STANDARD
TZOFFSETFROM:+0200
TZOFFSETTO:+0100
TZNAME:CET
DTSTART:20251026T010000
END:STANDARD
END:VTIMEZONE
BEGIN:VEVENT
DTSTART;TZID=Europe/Madrid:20240406T210000
DTEND;TZID=Europe/Madrid:20240406T223000
DTSTAMP:20260420T001830
CREATED:20240325T112830Z
LAST-MODIFIED:20240327T174536Z
UID:2738-1712437200-1712442600@teatrometamorfosis.com
SUMMARY:Milonga Errante music
DESCRIPTION:El proyecto surge de la inquietud y el estudio de la música del mundo\, embarcándonos en un viaje errante. Abordando un repertorio de músicas de América del sur\, el dúo conformado por Luis Tañez y Santi López se predispone a encontrar los puntos en común entre las músicas e intrumentistas de distintos lugares del mundo. La milonga\, el candombe\, la murga\, la canción y distintos ritmos folklóricos de América del sur\, comparten en su escencia el mismo gen madre de muchísimos de los ritmos del mundo. Milonga errante\, entonces\, es un dúo\, es un viaje\, es un sueño y una necesidad de descubrir y construir la red de la cuál somos parte. A partir de Agosto del 2023 el dúo se presentó en diversos escenarios junto a distintos músicos como: Ben Aylon\, Marcelo Wolovsky\, Juan Arabel\, Fede Ceballos\, Jose Dibert\, Lourdes Marzialetti. LUIS TAÑEZ Músico argentino\, egresado de la carrera “Profesorado en Composición Musical” de la UNC (Universidad Nacional de Córdoba)\, Argentina. Es guitarrista\, percusionista\, sesionista y docente con un marcado recorrido en ritmos folklóricos latinoamericanas y un interés constante en conocer y aprender de las músicas de raíz de distintas regiones del mundo. Desde el 2003 ha participado en diversos formatos (dúos\, tríos\, ensambles de guitarra y ensambles de percusión) y como miembro y director de proyectos basados en la percusión y el lenguaje de señas. Como docente ha trabajado en nivel universario (UNC y UNSJ)\, escolar\, primaria y secundaria\, en paralelo dictando clases de guitarra y talleres de percusión e improvisación por señas. Desde el 2020 reside en Barcelona\, participando de diversos proyectos acompañando a diversos cantautores (Ana Rossi\, Mauro Gentile\, Giancarlo Arena\, entre otros); ensambles de percusión e impro por señas (La Kolmena); “Tertulia de la Nueva Canción” (proyecto a trío con canciones propias). SANTIAGO LOPEZ Músico argentino\, egresado y docente de “La Colmena Escuela de Músicos”. Guitarrista\, percusionista\, compositor y arreglador. Desde el 2005 integra proyectos musicales de ensambles y performáticos (Toque de Agua\, Diego Clark Grupo\, Flote\, Cuarto Azul\, Orquesta de Objetos\, Rodrigo Carazo trío\, Pies de Pez\, Ezequiel Borra terceto trenzado\, y La Tertulia de la Nueva Canción). Trabajó como docente a nivel terciario en la cátedra de percusión\, audioperceptiva y ensamble en “La Colmena Escuela de Músicos”. Desde marzo del 2023 viene desarrollando el proyecto de investigación “La Creatividad Grupal” que vincula la música con la astrología. Actualmente se está dictando en Barcelona la sexta edición de este proyecto junto a Luis Tañez. En enero de 2024 publicó su primer disco solista titulado “En Fin”.
URL:https://teatrometamorfosis.com/es/eventos/milonga-errante-music/
LOCATION:Teatro Metamorfosis\, Carrer de Tapioles\, 12\, Bajo\, Barcelona\, Barcelona\, 08004\, Spain
ATTACH;FMTTYPE=image/jpeg:https://teatrometamorfosis.com/wp-content/uploads/2024/03/WhatsApp-Image-2024-03-26-at-07.10.58.jpeg
END:VEVENT
END:VCALENDAR