BEGIN:VCALENDAR
VERSION:2.0
PRODID:-//Teatro Metamorfosis - ECPv6.15.20//NONSGML v1.0//EN
CALSCALE:GREGORIAN
METHOD:PUBLISH
X-WR-CALNAME:Teatro Metamorfosis
X-ORIGINAL-URL:https://teatrometamorfosis.com/es/
X-WR-CALDESC:Eventos para Teatro Metamorfosis
REFRESH-INTERVAL;VALUE=DURATION:PT1H
X-Robots-Tag:noindex
X-PUBLISHED-TTL:PT1H
BEGIN:VTIMEZONE
TZID:Europe/Madrid
BEGIN:DAYLIGHT
TZOFFSETFROM:+0100
TZOFFSETTO:+0200
TZNAME:CEST
DTSTART:20240331T010000
END:DAYLIGHT
BEGIN:STANDARD
TZOFFSETFROM:+0200
TZOFFSETTO:+0100
TZNAME:CET
DTSTART:20241027T010000
END:STANDARD
BEGIN:DAYLIGHT
TZOFFSETFROM:+0100
TZOFFSETTO:+0200
TZNAME:CEST
DTSTART:20250330T010000
END:DAYLIGHT
BEGIN:STANDARD
TZOFFSETFROM:+0200
TZOFFSETTO:+0100
TZNAME:CET
DTSTART:20251026T010000
END:STANDARD
BEGIN:DAYLIGHT
TZOFFSETFROM:+0100
TZOFFSETTO:+0200
TZNAME:CEST
DTSTART:20260329T010000
END:DAYLIGHT
BEGIN:STANDARD
TZOFFSETFROM:+0200
TZOFFSETTO:+0100
TZNAME:CET
DTSTART:20261025T010000
END:STANDARD
END:VTIMEZONE
BEGIN:VEVENT
DTSTART;TZID=Europe/Madrid:20250206T203000
DTEND;TZID=Europe/Madrid:20250206T213000
DTSTAMP:20260424T102651
CREATED:20250127T134720Z
LAST-MODIFIED:20250127T134722Z
UID:4179-1738873800-1738877400@teatrometamorfosis.com
SUMMARY:Nictémera
DESCRIPTION:Encuentros de Improvisación Abierta  Nictémera son encuentros de Improvisación Abierta a distintas formas de expresión artística (música\, poesía\, movimiento..) En un espacio de presencia nos abrimos a las escucha de lo que acontece para dialogar con lo que sucede en el instante. Nictémera es encuentro efímero. Noches fugaces donde permitirnos expresar y compartir la fragilidad del segundo. Puedes venir a ver escuchar y ser parte de estos encuentros irrepetibles. NICTÉMERA  Encuentros de Improvisación Abierta  Música-Poesia-Danza Organiza Tànit Navarro  Con Marcelo Schnock y Diego Balan  Teatro Metamorfosis Entradas en puerta el dia del evento 10 euros
URL:https://teatrometamorfosis.com/es/eventos/nictemera-2/
ATTACH;FMTTYPE=image/jpeg:https://teatrometamorfosis.com/wp-content/uploads/2025/01/WhatsApp-Image-2025-01-27-at-9.50.54-AM.jpeg
END:VEVENT
END:VCALENDAR