BEGIN:VCALENDAR
VERSION:2.0
PRODID:-//Teatro Metamorfosis - ECPv6.15.18//NONSGML v1.0//EN
CALSCALE:GREGORIAN
METHOD:PUBLISH
X-WR-CALNAME:Teatro Metamorfosis
X-ORIGINAL-URL:https://teatrometamorfosis.com/es/
X-WR-CALDESC:Eventos para Teatro Metamorfosis
REFRESH-INTERVAL;VALUE=DURATION:PT1H
X-Robots-Tag:noindex
X-PUBLISHED-TTL:PT1H
BEGIN:VTIMEZONE
TZID:Europe/Madrid
BEGIN:DAYLIGHT
TZOFFSETFROM:+0100
TZOFFSETTO:+0200
TZNAME:CEST
DTSTART:20230326T010000
END:DAYLIGHT
BEGIN:STANDARD
TZOFFSETFROM:+0200
TZOFFSETTO:+0100
TZNAME:CET
DTSTART:20231029T010000
END:STANDARD
BEGIN:DAYLIGHT
TZOFFSETFROM:+0100
TZOFFSETTO:+0200
TZNAME:CEST
DTSTART:20240331T010000
END:DAYLIGHT
BEGIN:STANDARD
TZOFFSETFROM:+0200
TZOFFSETTO:+0100
TZNAME:CET
DTSTART:20241027T010000
END:STANDARD
BEGIN:DAYLIGHT
TZOFFSETFROM:+0100
TZOFFSETTO:+0200
TZNAME:CEST
DTSTART:20250330T010000
END:DAYLIGHT
BEGIN:STANDARD
TZOFFSETFROM:+0200
TZOFFSETTO:+0100
TZNAME:CET
DTSTART:20251026T010000
END:STANDARD
END:VTIMEZONE
BEGIN:VEVENT
DTSTART;TZID=Europe/Madrid:20240322T203000
DTEND;TZID=Europe/Madrid:20240322T220000
DTSTAMP:20260420T003616
CREATED:20240226T192204Z
LAST-MODIFIED:20240226T192205Z
UID:2570-1711139400-1711144800@teatrometamorfosis.com
SUMMARY:Noche de tangos
DESCRIPTION:NOCHE DE TANGOS CECILIA LEDESMA-vozNICO PEREZ- guitarra.+ músicos invitados.Un recorrido por los clásicos del tango rioplatense de autores como:C. Gardel\, H.Manzi\, M. Mores\, A.Troilo; entre otros.Y donde no faltarán los valses criollos y las milongas para disfrutar de una noche a puro TANGO! Entradas en boleteria el dia del evento 15 euros
URL:https://teatrometamorfosis.com/es/eventos/noche-de-tangos/
LOCATION:Teatro Metamorfosis\, Carrer de Tapioles\, 12\, Bajo\, Barcelona\, Barcelona\, 08004\, Spain
ATTACH;FMTTYPE=image/jpeg:https://teatrometamorfosis.com/wp-content/uploads/2024/02/A3-Noche-de-tangos-B_page-0001.jpg
END:VEVENT
END:VCALENDAR