BEGIN:VCALENDAR
VERSION:2.0
PRODID:-//Teatro Metamorfosis - ECPv6.15.20//NONSGML v1.0//EN
CALSCALE:GREGORIAN
METHOD:PUBLISH
X-WR-CALNAME:Teatro Metamorfosis
X-ORIGINAL-URL:https://teatrometamorfosis.com/es/
X-WR-CALDESC:Eventos para Teatro Metamorfosis
REFRESH-INTERVAL;VALUE=DURATION:PT1H
X-Robots-Tag:noindex
X-PUBLISHED-TTL:PT1H
BEGIN:VTIMEZONE
TZID:Europe/Madrid
BEGIN:DAYLIGHT
TZOFFSETFROM:+0100
TZOFFSETTO:+0200
TZNAME:CEST
DTSTART:20220327T010000
END:DAYLIGHT
BEGIN:STANDARD
TZOFFSETFROM:+0200
TZOFFSETTO:+0100
TZNAME:CET
DTSTART:20221030T010000
END:STANDARD
BEGIN:DAYLIGHT
TZOFFSETFROM:+0100
TZOFFSETTO:+0200
TZNAME:CEST
DTSTART:20230326T010000
END:DAYLIGHT
BEGIN:STANDARD
TZOFFSETFROM:+0200
TZOFFSETTO:+0100
TZNAME:CET
DTSTART:20231029T010000
END:STANDARD
BEGIN:DAYLIGHT
TZOFFSETFROM:+0100
TZOFFSETTO:+0200
TZNAME:CEST
DTSTART:20240331T010000
END:DAYLIGHT
BEGIN:STANDARD
TZOFFSETFROM:+0200
TZOFFSETTO:+0100
TZNAME:CET
DTSTART:20241027T010000
END:STANDARD
END:VTIMEZONE
BEGIN:VEVENT
DTSTART;TZID=Europe/Madrid:20230324T210000
DTEND;TZID=Europe/Madrid:20230325T013000
DTSTAMP:20260425T181758
CREATED:20230322T132549Z
LAST-MODIFIED:20230322T203329Z
UID:591-1679691600-1679707800@teatrometamorfosis.com
SUMMARY:OPEN CABARET - Diane's bday
DESCRIPTION:Dear Wonderful Humans\, we require your talents!!!!As part of this extravaganza gathering for our dear friend’s Diane bday\, we will revive the grand old tradition* of *Quixotes Cabaret Camp*\, and provide cabaret entertainment on the evening of Friday 24th. For those new to Quixotes\, the rules are but few:1. There is no theme: if you’re brave enough to stand on the stage\, we’re brave enough to put you on.2. No mime\, no juggling\, no interpretive dance**.3. If you can sing\, dance or do something obscene with a folding chair\, then we have a home for you. Some marvellous souls have already stepped up to the plate\, but this really is a case of the more the merrier.Historically\, we’ve hosted quiz shows\,impressionists\, singers\, dancers\, drag\, comedians\, poets\, acrobats\, strippers\, clowns\, mad scientists\, escape artists and mathematicians.And a chap who took all his clothes off\, folded them neatly into a carrier bag\, covered himself in baby oil and leapt into the audience clutching his manhood. How we laughed. If you have an offering\, however small\, then we would love to hear from you.Please drop me a line at: nidificate@aol.com line and let us know: Your name:Your act name if you have one:One-line summary of what you do\, to help me schedule:Technical requirements Thanking you in advance for your participation! Dusty hugs\, Emma (Momma Quixote). * Est. 2005. ** This is built on many years of experience and is The Law. Management additionally expresses further concern regarding Raelians\, juvenile beauty pageant winners\, strippers accessorised with carrier bags\, and natives of the fine state of Idaho. I don’t make the rules*** *** Actually\, not substantially true. FREE ENTRY
URL:https://teatrometamorfosis.com/es/eventos/open-cabaret-dianes-bday/
LOCATION:Teatro Metamofosis\, Carrer de Tapioles 12\, Bajo\, Barcelona\, Barcelona\, 08004\, Spain
CATEGORIES:Fiesta
ATTACH;FMTTYPE=image/jpeg:https://teatrometamorfosis.com/wp-content/uploads/2023/03/Teatro-Metamorfosis-Open-Cabaret-Flier-220323.jpeg
END:VEVENT
END:VCALENDAR