BEGIN:VCALENDAR
VERSION:2.0
PRODID:-//Teatro Metamorfosis - ECPv6.15.18//NONSGML v1.0//EN
CALSCALE:GREGORIAN
METHOD:PUBLISH
X-WR-CALNAME:Teatro Metamorfosis
X-ORIGINAL-URL:https://teatrometamorfosis.com/es/
X-WR-CALDESC:Eventos para Teatro Metamorfosis
REFRESH-INTERVAL;VALUE=DURATION:PT1H
X-Robots-Tag:noindex
X-PUBLISHED-TTL:PT1H
BEGIN:VTIMEZONE
TZID:Europe/Madrid
BEGIN:DAYLIGHT
TZOFFSETFROM:+0100
TZOFFSETTO:+0200
TZNAME:CEST
DTSTART:20230326T010000
END:DAYLIGHT
BEGIN:STANDARD
TZOFFSETFROM:+0200
TZOFFSETTO:+0100
TZNAME:CET
DTSTART:20231029T010000
END:STANDARD
BEGIN:DAYLIGHT
TZOFFSETFROM:+0100
TZOFFSETTO:+0200
TZNAME:CEST
DTSTART:20240331T010000
END:DAYLIGHT
BEGIN:STANDARD
TZOFFSETFROM:+0200
TZOFFSETTO:+0100
TZNAME:CET
DTSTART:20241027T010000
END:STANDARD
BEGIN:DAYLIGHT
TZOFFSETFROM:+0100
TZOFFSETTO:+0200
TZNAME:CEST
DTSTART:20250330T010000
END:DAYLIGHT
BEGIN:STANDARD
TZOFFSETFROM:+0200
TZOFFSETTO:+0100
TZNAME:CET
DTSTART:20251026T010000
END:STANDARD
END:VTIMEZONE
BEGIN:VEVENT
DTSTART;TZID=Europe/Madrid:20241012T203000
DTEND;TZID=Europe/Madrid:20241012T220000
DTSTAMP:20260419T213455
CREATED:20240902T122117Z
LAST-MODIFIED:20241125T194451Z
UID:3555-1728765000-1728770400@teatrometamorfosis.com
SUMMARY:Orquesta escuela de tango Tibidabo
DESCRIPTION:Formada en el año 2022\, la Orquesta Escuela de Tango Tibidabo\, como reza su nombre\, es un ensamble donde los músicos aprenden los aspectos fundamentales del tango\, para convertirse en verdaderos especialistas del género\, con todo lo que eso implica. Los conciertos de la Orquesta son una muestra de todo lo que se trabaja cada semana\, con un enfoque profesional\, exigente y contundente… Continuando con los éxitos de los conciertos del último año\, la Orquesta Escuela se presentará en el Teatro Metamorfosis; un concierto que pasará por todas las épocas del tango\, con arreglos musicales originales y una puesta en escena potente. Fiesta musical asegurada. Quince artistas en escena (6 bandoneones\, 3 violines\, viola\, piano\, contrabajo\, 3 cantantes) La magia de la Orquesta Típica de Tango. Todo esto y mucho más…. Los esperamos. entradas en boleteria el dia del evento 15 euros
URL:https://teatrometamorfosis.com/es/eventos/orquesta-escuela-de-tango-tibidabo/
LOCATION:Teatro Metamorfosis\, Carrer de Tapioles\, 12\, Bajo\, Barcelona\, Barcelona\, 08004\, Spain
ATTACH;FMTTYPE=image/jpeg:https://teatrometamorfosis.com/wp-content/uploads/2024/09/WhatsApp-Image-2024-11-25-at-12.27.39-PM.jpeg
END:VEVENT
END:VCALENDAR