BEGIN:VCALENDAR
VERSION:2.0
PRODID:-//Teatro Metamorfosis - ECPv6.15.20//NONSGML v1.0//EN
CALSCALE:GREGORIAN
METHOD:PUBLISH
X-WR-CALNAME:Teatro Metamorfosis
X-ORIGINAL-URL:https://teatrometamorfosis.com/es/
X-WR-CALDESC:Eventos para Teatro Metamorfosis
REFRESH-INTERVAL;VALUE=DURATION:PT1H
X-Robots-Tag:noindex
X-PUBLISHED-TTL:PT1H
BEGIN:VTIMEZONE
TZID:Europe/Madrid
BEGIN:DAYLIGHT
TZOFFSETFROM:+0100
TZOFFSETTO:+0200
TZNAME:CEST
DTSTART:20230326T010000
END:DAYLIGHT
BEGIN:STANDARD
TZOFFSETFROM:+0200
TZOFFSETTO:+0100
TZNAME:CET
DTSTART:20231029T010000
END:STANDARD
BEGIN:DAYLIGHT
TZOFFSETFROM:+0100
TZOFFSETTO:+0200
TZNAME:CEST
DTSTART:20240331T010000
END:DAYLIGHT
BEGIN:STANDARD
TZOFFSETFROM:+0200
TZOFFSETTO:+0100
TZNAME:CET
DTSTART:20241027T010000
END:STANDARD
BEGIN:DAYLIGHT
TZOFFSETFROM:+0100
TZOFFSETTO:+0200
TZNAME:CEST
DTSTART:20250330T010000
END:DAYLIGHT
BEGIN:STANDARD
TZOFFSETFROM:+0200
TZOFFSETTO:+0100
TZNAME:CET
DTSTART:20251026T010000
END:STANDARD
END:VTIMEZONE
BEGIN:VEVENT
DTSTART;TZID=Europe/Madrid:20240309T180000
DTEND;TZID=Europe/Madrid:20240309T230000
DTSTAMP:20260424T203012
CREATED:20240221T113715Z
LAST-MODIFIED:20240221T113814Z
UID:2450-1710007200-1710025200@teatrometamorfosis.com
SUMMARY:OUR VOICES - Symposi-cabaret\, concert & jam - A BWN fun(d)raiser event for ARED
DESCRIPTION:**Español abajo** Our Voices: Celebrating Women’s Resilience and Creativity On March 9th\, the day after International Women’s Day\, the Barcelona Women’s Network\, in collaboration with Teatro Metamorfosis in Poble Sec\, proudly presents ‘Our Voices’. This scintillating evening brings together a handful of talented artists to raise the curtain on a thought-provoking and educational event. ‘Our Voices’ serves not only as a celebration of women’s resilience and creativity but also as a fundraiser for the organization we wholeheartedly support: ARED (Associació per la Reinserció i l’Educació de Dones). Unveil the tapestry of women’s rights across centuries in «Herstory: Women’s Rights Through the Ages» symposi-cabaret! Join us for an engaging exploration of women’s rights\, law and lives\, intertwined with music\, discussion\, and performance. Led by the multi-talented Kirsten Tinkler\, educator\, and composer\, dive into thought-provoking questions\, melodious tunes\, and interactive debates. Experience a fusion of nostalgia with a modern twist with Alba Aviles\, Dot Sky\, and Carrie Lewis as they take the stage to captivate your senses with their soulful voices. Witness last year’s spontaneous collaboration evolve into this year’s enchanting project\, as these international songbirds weave tales of beauty\, sadness\, and joy through music. Calling all female artists! Step into the spotlight during our Open Mic session and showcase your talent. Whether you’re a singer\, songwriter\, musician\, comedian\, or poet\, share your voice and be part of our vibrant community! Contact the organizers to get involved! This event\, titled ‘Our Voices\,’ is a fundraiser for the Barcelona Women’s Network’s charity\, ARED (Associació per la Reinserció i l’Educació de Dones). ARED provides support and resources for women in need\, offering education\, job training\, and empowerment programs to help them rebuild their lives. In addition to helping pay for our beautiful venue at Teatro Metamorfosis and for the artists\, ticket sales will contribute a great proportion of the funds to ARED. SCHEDULE: 18:00 Doors open 18:30 Herstory with Kirsten Tinkler 19:30 Grab a drink and have a chat 20:00 Alba\, Dot\, & Carrie in a fun\, nostalgic concert 21:00 2nd intermission 21:30 till 23:00 Open Mic 23:00 bar stays open and we keep connecting until late! Don’t miss this unforgettable evening celebrating women’s history\, music\, & creativity while contributing to women’s empowerment in a very real way! ———————————————————- Nuestras Voces: Celebrando la Resiliencia y Creatividad de las Mujeres El 9 de marzo\, el día después del Día Internacional de la Mujer\, la Barcelona Women’s Network\, en colaboración con el Teatro Metamorfosis en Poble Sec\, presenta con orgullo ‘Nuestras Voces’. Esta cautivadora velada reúne a un puñado de talentosas artistas para levantar el telón de un evento reflexivo y educativo. ‘Nuestras Voces’ no solo sirve como celebración de la resiliencia y creatividad de las mujeres\, sino también como una recaudación de fondos para la organización que apoyamos con todo nuestro corazón: ARED (Associació per la Reinserció i l’Educació de Dones). Desvela el tapiz de los derechos de las mujeres a lo largo de los siglos en el simposi-cabaret «Herstory: Derechos de las Mujeres a Través de las Épocas». ¡Acompáñanos en una exploración fascinante de los derechos de las mujeres\, la ley y la vida\, entrelazada con música\, discusión y actuaciones! Dirigido por la polifacética Kirsten Tinkler\, educadora y compositora\, sumérgete en preguntas provocadoras\, melodiosas canciones y debates interactivos. Experimenta una fusión de nostalgia con un toque moderno con Alba Aviles\, Dot Sky y Carrie Lewis mientras suben al escenario para cautivar tus sentidos con sus voces conmovedoras. Sé testigo de cómo la colaboración espontánea del año pasado se transforma en el encantador proyecto de este año\, mientras estas aves cantoras internacionales tejen relatos de belleza\, tristeza y alegría a través de la música. ¡Convocamos a todas las artistas femeninas! ¡Ponte en el foco durante nuestra sesión de Micrófono Abierto y muestra tu talento! Ya seas cantante\, compositora\, músico\, comediante o poeta\, ¡comparte tu voz y sé parte de nuestra vibrante comunidad! ¡Contacta a los organizadores para participar! Este evento\, titulado ‘Nuestras Voces’\, es una recaudación de fondos para la organización benéfica de Barcelona Women’s Network\, ARED (Associació per la Reinserció i l’Educació de Dones). ARED brinda apoyo y recursos a mujeres necesitadas\, ofreciendo educación\, capacitación laboral y programas de empoderamiento para ayudarlas a reconstruir sus vidas. Además de ayudar a cubrir los costos de nuestro hermoso lugar en el Teatro Metamorfosis y para los artistas\, las ventas de boletos contribuirán en gran medida a los fondos de ARED. HORARIO: 18:00 Apertura de puertas 18:30 Herstory con Kirsten Tinkler 19:30 Toma una bebida y charla 20:00 Alba\, Dot y Carrie en un concierto divertido y nostálgico 21:00 Segundo intermedio 21:30 hasta las 23:00 Micrófono Abierto 23:00 el bar permanece abierto y seguimos conectando hasta tarde! ¡No te pierdas esta noche inolvidable celebrando la historia\, la música y la creatividad de las mujeres mientras contribuyes al empoderamiento de las mujeres de una manera muy real!
URL:https://teatrometamorfosis.com/es/eventos/our-voices-symposi-cabaret-concert-jam-a-bwn-fundraiser-event-for-ared/
LOCATION:Teatro Metamofosis\, Carrer de Tapioles 12\, Bajo\, Barcelona\, Barcelona\, 08004\, Spain
ATTACH;FMTTYPE=image/jpeg:https://teatrometamorfosis.com/wp-content/uploads/2024/02/event_march_9th__2024__Double-Sided_Poster__A3_Landscape____1_.jpg
END:VEVENT
END:VCALENDAR