BEGIN:VCALENDAR
VERSION:2.0
PRODID:-//Teatro Metamorfosis - ECPv6.15.20//NONSGML v1.0//EN
CALSCALE:GREGORIAN
METHOD:PUBLISH
X-WR-CALNAME:Teatro Metamorfosis
X-ORIGINAL-URL:https://teatrometamorfosis.com/es/
X-WR-CALDESC:Eventos para Teatro Metamorfosis
REFRESH-INTERVAL;VALUE=DURATION:PT1H
X-Robots-Tag:noindex
X-PUBLISHED-TTL:PT1H
BEGIN:VTIMEZONE
TZID:Europe/Madrid
BEGIN:DAYLIGHT
TZOFFSETFROM:+0100
TZOFFSETTO:+0200
TZNAME:CEST
DTSTART:20240331T010000
END:DAYLIGHT
BEGIN:STANDARD
TZOFFSETFROM:+0200
TZOFFSETTO:+0100
TZNAME:CET
DTSTART:20241027T010000
END:STANDARD
BEGIN:DAYLIGHT
TZOFFSETFROM:+0100
TZOFFSETTO:+0200
TZNAME:CEST
DTSTART:20250330T010000
END:DAYLIGHT
BEGIN:STANDARD
TZOFFSETFROM:+0200
TZOFFSETTO:+0100
TZNAME:CET
DTSTART:20251026T010000
END:STANDARD
BEGIN:DAYLIGHT
TZOFFSETFROM:+0100
TZOFFSETTO:+0200
TZNAME:CEST
DTSTART:20260329T010000
END:DAYLIGHT
BEGIN:STANDARD
TZOFFSETFROM:+0200
TZOFFSETTO:+0100
TZNAME:CET
DTSTART:20261025T010000
END:STANDARD
END:VTIMEZONE
BEGIN:VEVENT
DTSTART;TZID=Europe/Madrid:20251018T200000
DTEND;TZID=Europe/Madrid:20251018T213000
DTSTAMP:20260424T034810
CREATED:20250910T102824Z
LAST-MODIFIED:20250910T103028Z
UID:5199-1760817600-1760823000@teatrometamorfosis.com
SUMMARY:Pelma y Luisa
DESCRIPTION:LA PULPERÍA “on tour” presenta… PELMA & LUISA. Una tragicomedia en clave roadtrip sobre dos travestis que por errores del azar acaban involucradas en un crimen que las obliga a cruzar el país huyendo de la justicia. ¿Conseguirán esquivar el peso de la ley y hallar su ansiada libertad? ¿Se encontrarán a ellas mismas por el camino? ¿Y quién es esa chica tan sexy que quiere ayudarlas? La Pulpería es un espectáculo drag que mezcla teatro\, comedia\, impro y shows espectaculares en dos horas de pura diversión a la hora del vermut. Con Lucy Octopussy\, Alakrana y Jakee Maker.
URL:https://teatrometamorfosis.com/es/eventos/pelma-y-luisa/
ATTACH;FMTTYPE=image/jpeg:https://teatrometamorfosis.com/wp-content/uploads/2025/09/WhatsApp-Image-2025-09-09-at-12.00.52-1.jpeg
END:VEVENT
END:VCALENDAR