BEGIN:VCALENDAR
VERSION:2.0
PRODID:-//Teatro Metamorfosis - ECPv6.15.20//NONSGML v1.0//EN
CALSCALE:GREGORIAN
METHOD:PUBLISH
X-WR-CALNAME:Teatro Metamorfosis
X-ORIGINAL-URL:https://teatrometamorfosis.com/es/
X-WR-CALDESC:Eventos para Teatro Metamorfosis
REFRESH-INTERVAL;VALUE=DURATION:PT1H
X-Robots-Tag:noindex
X-PUBLISHED-TTL:PT1H
BEGIN:VTIMEZONE
TZID:Europe/Madrid
BEGIN:DAYLIGHT
TZOFFSETFROM:+0100
TZOFFSETTO:+0200
TZNAME:CEST
DTSTART:20240331T010000
END:DAYLIGHT
BEGIN:STANDARD
TZOFFSETFROM:+0200
TZOFFSETTO:+0100
TZNAME:CET
DTSTART:20241027T010000
END:STANDARD
BEGIN:DAYLIGHT
TZOFFSETFROM:+0100
TZOFFSETTO:+0200
TZNAME:CEST
DTSTART:20250330T010000
END:DAYLIGHT
BEGIN:STANDARD
TZOFFSETFROM:+0200
TZOFFSETTO:+0100
TZNAME:CET
DTSTART:20251026T010000
END:STANDARD
BEGIN:DAYLIGHT
TZOFFSETFROM:+0100
TZOFFSETTO:+0200
TZNAME:CEST
DTSTART:20260329T010000
END:DAYLIGHT
BEGIN:STANDARD
TZOFFSETFROM:+0200
TZOFFSETTO:+0100
TZNAME:CET
DTSTART:20261025T010000
END:STANDARD
END:VTIMEZONE
BEGIN:VEVENT
DTSTART;TZID=Europe/Madrid:20251108T150000
DTEND;TZID=Europe/Madrid:20251108T170000
DTSTAMP:20260424T023132
CREATED:20250707T203208Z
LAST-MODIFIED:20251020T181036Z
UID:5098-1762614000-1762621200@teatrometamorfosis.com
SUMMARY:Piñon Fijo
DESCRIPTION:El artista infantil más emblemático de Argentina \n36 años de trayectoria • +5.000 funciones • Premios Martín Fierro y Gardel • UNICEF • Película en cines \n“Un personaje que nació en una plaza\, llegó a la televisión\, cruzó fronteras… y hoy sigue emocionando generaciones.” \nPiñón Fijo es un artista argentino que desde hace más de tres décadas acompaña a la infancia con alegría\,canciones propias y humor blanco. Es mimo\, es clown\, es trovador y\, sobre todo\, un recreador que nunca dejó de jugar \nMiles de personas crecieron con Piñón Fijo. Hoy\,adultos\,lo reviven con sus hijos. \nEntradas en boletería el día del evento 30 euros.
URL:https://teatrometamorfosis.com/es/eventos/pinon-fijo/
ATTACH;FMTTYPE=image/jpeg:https://teatrometamorfosis.com/wp-content/uploads/2025/07/WhatsApp-Image-2025-07-03-at-11.08.20.jpeg
END:VEVENT
END:VCALENDAR