BEGIN:VCALENDAR
VERSION:2.0
PRODID:-//Teatro Metamorfosis - ECPv6.15.18//NONSGML v1.0//EN
CALSCALE:GREGORIAN
METHOD:PUBLISH
X-WR-CALNAME:Teatro Metamorfosis
X-ORIGINAL-URL:https://teatrometamorfosis.com/es/
X-WR-CALDESC:Eventos para Teatro Metamorfosis
REFRESH-INTERVAL;VALUE=DURATION:PT1H
X-Robots-Tag:noindex
X-PUBLISHED-TTL:PT1H
BEGIN:VTIMEZONE
TZID:Europe/Madrid
BEGIN:DAYLIGHT
TZOFFSETFROM:+0100
TZOFFSETTO:+0200
TZNAME:CEST
DTSTART:20220327T010000
END:DAYLIGHT
BEGIN:STANDARD
TZOFFSETFROM:+0200
TZOFFSETTO:+0100
TZNAME:CET
DTSTART:20221030T010000
END:STANDARD
BEGIN:DAYLIGHT
TZOFFSETFROM:+0100
TZOFFSETTO:+0200
TZNAME:CEST
DTSTART:20230326T010000
END:DAYLIGHT
BEGIN:STANDARD
TZOFFSETFROM:+0200
TZOFFSETTO:+0100
TZNAME:CET
DTSTART:20231029T010000
END:STANDARD
BEGIN:DAYLIGHT
TZOFFSETFROM:+0100
TZOFFSETTO:+0200
TZNAME:CEST
DTSTART:20240331T010000
END:DAYLIGHT
BEGIN:STANDARD
TZOFFSETFROM:+0200
TZOFFSETTO:+0100
TZNAME:CET
DTSTART:20241027T010000
END:STANDARD
END:VTIMEZONE
BEGIN:VEVENT
DTSTART;TZID=Europe/Madrid:20231124T203000
DTEND;TZID=Europe/Madrid:20231124T213000
DTSTAMP:20260420T051737
CREATED:20231121T154431Z
LAST-MODIFIED:20231121T215126Z
UID:1991-1700857800-1700861400@teatrometamorfosis.com
SUMMARY:Procrastinatrice seriale - uno spettacolo tutto (ancora) da scrivere
DESCRIPTION:Procrastinatrice seriale – uno spettacolo tutto (ancora) da scrivere Immaginatevi una serata di risate tutte all’italiana nello splendido spazio del Teatro Metamorfosis!Procrastinatrice seriale non è per forza lo spettacolo che stavate aspettando ma che sicuramente vi meritate in attesa del Natale.Venite a realizzare il sogno comico di una sciocca milanese (che vorrebbe essere nata a Bari) che è stata buttata su un palco 3 anni fa\, se ne è innamorata\, e da allora non c’è più scesa.L’ambizione é farvi ridere per un’ora nel suo primo one-woman-show ancora agli albori. Wendy LaFortu\, all’anagrafe Alessia Fortunato\, porta sotto i riflettori la propria infanzia maschiaccia\, racconti di esperienze vissute e considerazioni (non richieste) sulla vita\, l’universo e tutto il resto. Non perdete l’occasione di trascorrere una serata inusuale\, tra amici\, immersi nell’atmosfera magica del Teatro Metamorfosis.
URL:https://teatrometamorfosis.com/es/eventos/procrastinatrice-seriale-uno-spettacolo-tutto-ancora-da-scrivere/
LOCATION:Teatro Metamorfosis\, Carrer de Tapioles\, 12\, Bajo\, Barcelona\, Barcelona\, 08004\, Spain
ATTACH;FMTTYPE=image/jpeg:https://teatrometamorfosis.com/wp-content/uploads/2023/11/https___cdn.evbuc_.com_images_640973079_132650349764_1_original.jpeg
END:VEVENT
END:VCALENDAR