BEGIN:VCALENDAR
VERSION:2.0
PRODID:-//Teatro Metamorfosis - ECPv6.15.20//NONSGML v1.0//EN
CALSCALE:GREGORIAN
METHOD:PUBLISH
X-WR-CALNAME:Teatro Metamorfosis
X-ORIGINAL-URL:https://teatrometamorfosis.com/es/
X-WR-CALDESC:Eventos para Teatro Metamorfosis
REFRESH-INTERVAL;VALUE=DURATION:PT1H
X-Robots-Tag:noindex
X-PUBLISHED-TTL:PT1H
BEGIN:VTIMEZONE
TZID:Europe/Madrid
BEGIN:DAYLIGHT
TZOFFSETFROM:+0100
TZOFFSETTO:+0200
TZNAME:CEST
DTSTART:20240331T010000
END:DAYLIGHT
BEGIN:STANDARD
TZOFFSETFROM:+0200
TZOFFSETTO:+0100
TZNAME:CET
DTSTART:20241027T010000
END:STANDARD
BEGIN:DAYLIGHT
TZOFFSETFROM:+0100
TZOFFSETTO:+0200
TZNAME:CEST
DTSTART:20250330T010000
END:DAYLIGHT
BEGIN:STANDARD
TZOFFSETFROM:+0200
TZOFFSETTO:+0100
TZNAME:CET
DTSTART:20251026T010000
END:STANDARD
BEGIN:DAYLIGHT
TZOFFSETFROM:+0100
TZOFFSETTO:+0200
TZNAME:CEST
DTSTART:20260329T010000
END:DAYLIGHT
BEGIN:STANDARD
TZOFFSETFROM:+0200
TZOFFSETTO:+0100
TZNAME:CET
DTSTART:20261025T010000
END:STANDARD
END:VTIMEZONE
BEGIN:VEVENT
DTSTART;TZID=Europe/Madrid:20250525T130000
DTEND;TZID=Europe/Madrid:20250525T190000
DTSTAMP:20260424T061306
CREATED:20250430T165858Z
LAST-MODIFIED:20250430T171130Z
UID:4956-1748178000-1748199600@teatrometamorfosis.com
SUMMARY:Ravalada Drag Tour
DESCRIPTION:RAVALADA DRAG TOUR LA PRIMERA FIESTA DE TARDE QUE SE DIVIDE EN LOCALES DISTINTOS😻\nEl objetivo de la RAVALADA DRAG TOUR es apoyar al colectivo de artistas Drag y a los locales. Durante toda la tarde\, todes disfrutaremos en los distintos bares (dependiendo de la edición) de varias actuaciones drag. Con la compra de tu ticket tendrás acceso a todos los shows y espacios. \n¿No conoces el barrio? ¡No te preocupes! El día del evento tu guía de confianza te estará esperando y será quien os acompañe por todos locales hasta completar el tour. Además\, recibirás un DRAGPORT para poder votar a tus artistes favorites de la edición.
URL:https://teatrometamorfosis.com/es/eventos/ravalada-drag-tour/
ATTACH;FMTTYPE=image/png:https://teatrometamorfosis.com/wp-content/uploads/2025/04/TICKETING_960x600_BCN.png
END:VEVENT
END:VCALENDAR