BEGIN:VCALENDAR
VERSION:2.0
PRODID:-//Teatro Metamorfosis - ECPv6.15.20//NONSGML v1.0//EN
CALSCALE:GREGORIAN
METHOD:PUBLISH
X-ORIGINAL-URL:https://teatrometamorfosis.com/es/
X-WR-CALDESC:Eventos para Teatro Metamorfosis
REFRESH-INTERVAL;VALUE=DURATION:PT1H
X-Robots-Tag:noindex
X-PUBLISHED-TTL:PT1H
BEGIN:VTIMEZONE
TZID:Europe/Madrid
BEGIN:DAYLIGHT
TZOFFSETFROM:+0100
TZOFFSETTO:+0200
TZNAME:CEST
DTSTART:20250330T010000
END:DAYLIGHT
BEGIN:STANDARD
TZOFFSETFROM:+0200
TZOFFSETTO:+0100
TZNAME:CET
DTSTART:20251026T010000
END:STANDARD
BEGIN:DAYLIGHT
TZOFFSETFROM:+0100
TZOFFSETTO:+0200
TZNAME:CEST
DTSTART:20260329T010000
END:DAYLIGHT
BEGIN:STANDARD
TZOFFSETFROM:+0200
TZOFFSETTO:+0100
TZNAME:CET
DTSTART:20261025T010000
END:STANDARD
BEGIN:DAYLIGHT
TZOFFSETFROM:+0100
TZOFFSETTO:+0200
TZNAME:CEST
DTSTART:20270328T010000
END:DAYLIGHT
BEGIN:STANDARD
TZOFFSETFROM:+0200
TZOFFSETTO:+0100
TZNAME:CET
DTSTART:20271031T010000
END:STANDARD
END:VTIMEZONE
BEGIN:VEVENT
DTSTART;TZID=Europe/Madrid:20260223T190000
DTEND;TZID=Europe/Madrid:20260223T203000
DTSTAMP:20260424T175236
CREATED:20260203T211924Z
LAST-MODIFIED:20260203T211924Z
UID:10002945-1771873200-1771878600@teatrometamorfosis.com
SUMMARY:Max Younkman
DESCRIPTION:Max Younkman es un joven violinista de jazz nacido en Barcelona. Su música\, interpretada a cuarteto\, fusiona elementos de diferentes músicas tradicionales de alrededor del mediterráneo con el jazz contemporáneo. \nEsta música tomará vida acompañado por Sergi Zaragoza\, Gaspar Nogales y Roger Castells \nLas puertas se abrirán a las 18:45 H \nLa barra estará abierta durante todo el evento. \nLas opciones para la consumición incluída en la entrada serán : cerveza\, vino\, cava\, vermut o refresco. \nLA ENTRaDA incluye la permanencia en la Poble Sec Jam Session que tendrá lugar a continuación del concierto .
URL:https://teatrometamorfosis.com/es/event/max-younkman/
ATTACH;FMTTYPE=image/jpeg:https://teatrometamorfosis.com/wp-content/uploads/2026/02/WhatsApp-Image-2026-02-02-at-13.13.18-1.jpeg
END:VEVENT
BEGIN:VEVENT
DTSTART;TZID=Europe/Madrid:20260224T190000
DTEND;TZID=Europe/Madrid:20260224T210000
DTSTAMP:20260424T175236
CREATED:20240826T113127Z
LAST-MODIFIED:20241007T201212Z
UID:10001898-1771959600-1771966800@teatrometamorfosis.com
SUMMARY:Curso de actuación
DESCRIPTION:Algunos Items a ver en el curso – Expresión Corporal– Herramientas de interpretación (Cuerpo y Voz)– Improvisación– Juegos Teatrales– Creación de Personaje– Estructura Dramática– Conflicto– ⁠Actitudes Humanas Escribenos para apuntarte +34 604 92 87 50
URL:https://teatrometamorfosis.com/es/event/curso-de-actuacion/2026-02-24/
LOCATION:Teatro Metamofosis\, Carrer de Tapioles 12\, Bajo\, Barcelona\, Barcelona\, 08004\, Spain
ATTACH;FMTTYPE=image/jpeg:https://teatrometamorfosis.com/wp-content/uploads/2024/08/WhatsApp-Image-2024-08-24-at-7.48.20-AM.jpeg
END:VEVENT
BEGIN:VEVENT
DTSTART;TZID=Europe/Madrid:20260226T200000
DTEND;TZID=Europe/Madrid:20260226T220000
DTSTAMP:20260424T175236
CREATED:20260123T184942Z
LAST-MODIFIED:20260123T184942Z
UID:10002936-1772136000-1772143200@teatrometamorfosis.com
SUMMARY:Migue de la Rosa y Yaíma Orozco
DESCRIPTION:Migue de la Rosa y Yaíma Orozco desde Cuba\, en BARCELONA \nMigue y Yaíma son cantautores cubanos con carreras y obras independientes que a dúo versionan canciones no conocidas del repertorio de la canción popular cubana. \nAbordan géneros de su tierra como el son\, el bolero\, la habanera y otros ritmos latinoamericanos y del mundo\, tocados a guitarra y percusión menor. Crean\, se complementan y defienden desde lo individual a lo conjunto\, con desenfado y frescura\, obras que cobran una nueva vida siendo cantadas siempre a dúo con voces claras y profundas. \nCon este formato han grabado dos discos de manera independiente: ‘Para Revolver’ Vol I y Vol II. Han girado con su música por Francia\, Bélgica\, Suiza\, Argentina\, Chile\, España\, Cataluña\, País Vasco y Galicia. \nActualmente viven en Entrambasaguas\, Cantabria \nLas puertas se abrirán a las 19:45 hs\nLa barra estará abierta durante todo el evento.\nLas opciones para la consumición incluída en la entrada serán : cerveza\, vino\, cava\, vermut o refresco.\nLa entrada comprada en puerta cuesta 15€ pero SIN consumición\nLas entradas compradas con código de descuento NO incluyen bebidas
URL:https://teatrometamorfosis.com/es/event/migue-de-la-rosa-y-yaima-orozco/
ATTACH;FMTTYPE=image/jpeg:https://teatrometamorfosis.com/wp-content/uploads/2026/01/WhatsApp-Image-2026-01-23-at-14.51.34.jpeg
END:VEVENT
BEGIN:VEVENT
DTSTART;TZID=Europe/Madrid:20260227T203000
DTEND;TZID=Europe/Madrid:20260227T223000
DTSTAMP:20260424T175236
CREATED:20260129T121211Z
LAST-MODIFIED:20260129T121211Z
UID:10002940-1772224200-1772231400@teatrometamorfosis.com
SUMMARY:GOD SAVE THE QUEEN!
DESCRIPTION:Step inside the royal inner circle with Queen Elizabeth II in this riotous comedy where Lizzy finally spills her side of the story. From awkward palace dinners to scandalous secrets and simmering rivalries\, nothing is off-limits. Expect sharp wit\, cheeky charm\, and of course — a gin in hand. \nWhether you’re a die-hard royal watcher or just here for the gossip\, this unfiltered\, hilarious peek behind palace walls is not to be missed. \nOne crown. One woman. Zero filters. Long live the Queen… of comedy! \nFriday\, 27th February\n•Start Time: 8:30 PM\nDuration: 2hrs\nVenue: Teatro Metamorfosis\nTickets available via the link \nEntradas :\nAnticipada con 1 consumicion 15€\nEn puerta el día de la función 18€
URL:https://teatrometamorfosis.com/es/event/god-save-the-queen/
ATTACH;FMTTYPE=image/jpeg:https://teatrometamorfosis.com/wp-content/uploads/2026/01/WhatsApp-Image-2026-01-27-at-20.10.53.jpeg
END:VEVENT
BEGIN:VEVENT
DTSTART;TZID=Europe/Madrid:20260228T203000
DTEND;TZID=Europe/Madrid:20260228T220000
DTSTAMP:20260424T175236
CREATED:20260210T112712Z
LAST-MODIFIED:20260210T112712Z
UID:10002946-1772310600-1772316000@teatrometamorfosis.com
SUMMARY:Distant Whispers
DESCRIPTION:Katia Valente es una cantante y compositora italiana. Con su proyecto Distant Whispers\, nos invita a un viaje sonoro en el que convergen el folk\, el jazz y la música de autor. Sus canciones\, cargadas de letras profundas y melodías íntimas\, crean un espacio donde tradición y modernidad dialogan con sensibilidad y originalidad. Con una voz cálida y expresiva\, Katia logra una conexión directa con su audiencia\, ofreciendo una experiencia única y transformadora que toca el alma de quien la escucha. \nLorenzo Spinozzi guitarrista italiano de gran talento\, destaca por un estilo versátil que combina funk\, soul y jazz de manera única. Su toque expresivo en la guitarra\, descrito como un auténtico “toque de magia”\, aporta a cada interpretación una dimensión especial\, llenando las melodías de una energía vibrante y grooves profundamente influenciados por el jazz. \nJuntos\, Valente y Spinozzi tejen una atmósfera envolvente y genuina\, donde cada acorde y cada palabra resuenan en armonía\, invitando al público a sumergirse en un universo sonoro auténtico y lleno de matices. \nLas puertas se abrirán a las 20:15 hs\nLa barra estará abierta durante todo el evento.\nLas opciones para la consumición incluída en la entrada serán : cerveza\, vino\, cava\, vermut o refresco.\nLa entrada comprada en puerta el mísmo día de la función costará 15€ pero no incluirá consumición .\nLas entradas compradas con código de descuento NO incluyen bebidas
URL:https://teatrometamorfosis.com/es/event/distant-whispers/
ATTACH;FMTTYPE=image/png:https://teatrometamorfosis.com/wp-content/uploads/2026/02/FLYER-INSTAGRAM.png
END:VEVENT
END:VCALENDAR