BEGIN:VCALENDAR
VERSION:2.0
PRODID:-//Teatro Metamorfosis - ECPv6.15.20//NONSGML v1.0//EN
CALSCALE:GREGORIAN
METHOD:PUBLISH
X-WR-CALNAME:Teatro Metamorfosis
X-ORIGINAL-URL:https://teatrometamorfosis.com/es/
X-WR-CALDESC:Eventos para Teatro Metamorfosis
REFRESH-INTERVAL;VALUE=DURATION:PT1H
X-Robots-Tag:noindex
X-PUBLISHED-TTL:PT1H
BEGIN:VTIMEZONE
TZID:Europe/Madrid
BEGIN:DAYLIGHT
TZOFFSETFROM:+0100
TZOFFSETTO:+0200
TZNAME:CEST
DTSTART:20250330T010000
END:DAYLIGHT
BEGIN:STANDARD
TZOFFSETFROM:+0200
TZOFFSETTO:+0100
TZNAME:CET
DTSTART:20251026T010000
END:STANDARD
BEGIN:DAYLIGHT
TZOFFSETFROM:+0100
TZOFFSETTO:+0200
TZNAME:CEST
DTSTART:20260329T010000
END:DAYLIGHT
BEGIN:STANDARD
TZOFFSETFROM:+0200
TZOFFSETTO:+0100
TZNAME:CET
DTSTART:20261025T010000
END:STANDARD
BEGIN:DAYLIGHT
TZOFFSETFROM:+0100
TZOFFSETTO:+0200
TZNAME:CEST
DTSTART:20270328T010000
END:DAYLIGHT
BEGIN:STANDARD
TZOFFSETFROM:+0200
TZOFFSETTO:+0100
TZNAME:CET
DTSTART:20271031T010000
END:STANDARD
END:VTIMEZONE
BEGIN:VEVENT
DTSTART;TZID=Europe/Madrid:20260302T080000
DTEND;TZID=Europe/Madrid:20260302T170000
DTSTAMP:20260424T175117
CREATED:20260111T235028Z
LAST-MODIFIED:20260226T141853Z
UID:10002956-1772438400-1772470800@teatrometamorfosis.com
SUMMARY:Poble Sec jam session
DESCRIPTION:Nueva Jam Session de Jazz en Poble Sec\, abierta al Jazz y otros estilos musicales. Un espacio para la improvisación y la creatividad. \nInvitamos a participar a todos los músicos y amantes de la música en directo! \nA las 20:00 en Teatro Metamorfosis Carrer Tapioles 12\, Poble Sec \nEntrada general 5€ \nMúsicos: 3€ con consumición
URL:https://teatrometamorfosis.com/es/event/poble-sec-jam-session-3-2/2026-03-02/1/
ATTACH;FMTTYPE=application/pdf:https://teatrometamorfosis.com/wp-content/uploads/2025/08/Jam-Poble-Sec-1.pdf
END:VEVENT
BEGIN:VEVENT
DTSTART;TZID=Europe/Madrid:20260302T200000
DTEND;TZID=Europe/Madrid:20260302T220000
DTSTAMP:20260424T175117
CREATED:20260111T235028Z
LAST-MODIFIED:20260226T141853Z
UID:10002957-1772481600-1772488800@teatrometamorfosis.com
SUMMARY:Poble Sec jam session
DESCRIPTION:Nueva Jam Session de Jazz en Poble Sec\, abierta al Jazz y otros estilos musicales. Un espacio para la improvisación y la creatividad. \nInvitamos a participar a todos los músicos y amantes de la música en directo! \nA las 20:00 en Teatro Metamorfosis Carrer Tapioles 12\, Poble Sec \nEntrada general 5€ \nMúsicos: 3€ con consumición
URL:https://teatrometamorfosis.com/es/event/poble-sec-jam-session-3-2/2026-03-02/2/
ATTACH;FMTTYPE=application/pdf:https://teatrometamorfosis.com/wp-content/uploads/2025/08/Jam-Poble-Sec-1.pdf
END:VEVENT
BEGIN:VEVENT
DTSTART;TZID=Europe/Madrid:20260303T190000
DTEND;TZID=Europe/Madrid:20260303T210000
DTSTAMP:20260424T175117
CREATED:20240826T113127Z
LAST-MODIFIED:20241007T201212Z
UID:10001899-1772564400-1772571600@teatrometamorfosis.com
SUMMARY:Curso de actuación
DESCRIPTION:Algunos Items a ver en el curso – Expresión Corporal– Herramientas de interpretación (Cuerpo y Voz)– Improvisación– Juegos Teatrales– Creación de Personaje– Estructura Dramática– Conflicto– ⁠Actitudes Humanas Escribenos para apuntarte +34 604 92 87 50
URL:https://teatrometamorfosis.com/es/event/curso-de-actuacion/2026-03-03/
LOCATION:Teatro Metamofosis\, Carrer de Tapioles 12\, Bajo\, Barcelona\, Barcelona\, 08004\, Spain
ATTACH;FMTTYPE=image/jpeg:https://teatrometamorfosis.com/wp-content/uploads/2024/08/WhatsApp-Image-2024-08-24-at-7.48.20-AM.jpeg
END:VEVENT
BEGIN:VEVENT
DTSTART;TZID=Europe/Madrid:20260304T200000
DTEND;TZID=Europe/Madrid:20260304T220000
DTSTAMP:20260424T175117
CREATED:20260129T115928Z
LAST-MODIFIED:20260129T115928Z
UID:10002938-1772654400-1772661600@teatrometamorfosis.com
SUMMARY:JUEGO DE AMANTES
DESCRIPTION:Cinco historias ambientadas en diferentes juegos en las que sus protagonistas se dejarán llevar por sus sentimientos.\nEn el box de crossfit\, dos atletas rivales pasan de la envidia a la atracción a base de ejercicios.\nEn el ajedrez\, dos antiguos adversarios verán que tienen más en común de lo que creían.\nEn el voleibol de playa\, una atleta y su entrenador se verán con ojos diferentes por primera vez.\nEn un apasionante juego de rol\, dos tímidos jugadores explorarán otro lado de su amistad.\nEn el baloncesto\, una entrenadora y un atleta se encontrarán en una situación picante. \nLas puertas se abrirán a las 19:45\nLa barra estará abierta durante todo el evento.\nLas opciones para la consumición incluída en la entrada serán : cerveza\, vino\, cava\, vermut o refresco.\nEl precio de las entradas compradas en puerta es el siguiente:\nSin consumicion 15€\nCon consumicion: 18€ \nLas entradas compradas con código de descuento NO incluyen bebidas
URL:https://teatrometamorfosis.com/es/event/juego-de-amantes-2/2026-03-04/
ATTACH;FMTTYPE=image/jpeg:https://teatrometamorfosis.com/wp-content/uploads/2026/01/WhatsApp-Image-2026-01-27-at-19.54.52.jpeg
END:VEVENT
BEGIN:VEVENT
DTSTART;TZID=Europe/Madrid:20260305T203000
DTEND;TZID=Europe/Madrid:20260305T220000
DTSTAMP:20260424T175117
CREATED:20260203T210219Z
LAST-MODIFIED:20260213T113753Z
UID:10002944-1772742600-1772748000@teatrometamorfosis.com
SUMMARY:La Violación
DESCRIPTION:La Violación es una experiencia escénica íntima y directa\, basada en el texto de Franca Rame. Durante 45 minutos\, voz\, cuerpo y sonido se entrelazan en escena para atravesar una experiencia límite. \nNo hay distancia ni protección. \nLo que aparece es la fragilidad\, la resistencia\, el deseo de seguir habitando el cuerpo después del impacto. \nUn tránsito solitario\, donde la voz y el sonido son actos de permanencia. \nUna obra retomada diez años después\, donde el tiempo suma cuerpo y memoria. \nMe trasciendo y desafío a la mujer que soy. \n– Valeria – \nFicha técnica: \n– Actúa y produce: Valeria Ballerini \n– Asistencia en dirección y creación: Agustina Basso \n– Diseño e imagen: Nacha Casset \n– Texto original: Lo Stupro\, de Franca Rame. \nLas puertas se abrirán a las 20:15 H \nLa barra estará abierta durante todo el evento. \nLas opciones para la consumición incluída en la entrada serán : cerveza\, vino\, cava\, vermut o refresco. \nLa entrada comprada en puerta el día de la función costará 18€ SIN consumición \nLas entradas compradas con código de descuento NO incluyen bebidas
URL:https://teatrometamorfosis.com/es/event/la-violacion/
ATTACH;FMTTYPE=image/jpeg:https://teatrometamorfosis.com/wp-content/uploads/2026/02/WhatsApp-Image-2026-02-11-at-14.02.22-e1770982659575.jpeg
END:VEVENT
BEGIN:VEVENT
DTSTART;TZID=Europe/Madrid:20260306T190000
DTEND;TZID=Europe/Madrid:20260306T210000
DTSTAMP:20260424T175117
CREATED:20260219T183032Z
LAST-MODIFIED:20260219T183032Z
UID:10002949-1772823600-1772830800@teatrometamorfosis.com
SUMMARY:2-DUAL Música improvisada con escritura libre.
DESCRIPTION:En este 4º encuentro LA PALABRA toma el relevo a los visuales\, la danza y la pintura. En el centro del escenario Mario Catelli nos guiará en este viaje dónde buscaremos un nuevo significado a la narrativa textual\, que se convertirá en música. ¿O será la música la que sugiera palabras a nuestro invitado? \nDescúbrelo con nosotros el próximo viernes 6 de marzo de 2026\, a las 19.00h en el Teatro Metamorfosis. \nMario Catelli\, narrativa proyectada\nJoao Vieira\, bateria\nTomàs Becket\, piano y sintetizador\nJordi Rabascall\, voz y efectos\nLas puertas se abrirán a las 18:45\nLa barra estará abierta durante todo el evento.\nLas opciones para la consumición incluída en la entrada serán : cerveza\, vino\, cava\, vermut o refresco.\nLa entrada comprada en puerta el día del evento costará 8€ pero no incluirá consumición.\nLas entradas compradas con código de descuento NO incluyen bebidas
URL:https://teatrometamorfosis.com/es/event/2-dual-musica-improvisada-con-escritura-libre/
ATTACH;FMTTYPE=image/jpeg:https://teatrometamorfosis.com/wp-content/uploads/2026/02/WhatsApp-Image-2026-02-18-at-07.37.51.jpeg
END:VEVENT
BEGIN:VEVENT
DTSTART;TZID=Europe/Madrid:20260306T210000
DTEND;TZID=Europe/Madrid:20260306T220000
DTSTAMP:20260424T175117
CREATED:20260130T095723Z
LAST-MODIFIED:20260324T203433Z
UID:10002941-1772830800-1772834400@teatrometamorfosis.com
SUMMARY:Coñosplaining
DESCRIPTION:El único splaining que hace falta! \nEn este show especial por el Día de la Mujer\, dos cómicas y hermanas\, Las Negretti se meten sin filtros en todo lo que implica ser mujer hoy: las contradicciones\, las exigencias imposibles\, el feminismo\, la culpa\, el deseo y el cansancio de intentar hacerlo todo bien. \nY además de cada monólogo\, el público participa compartiendo anécdotas personales anónimas que se leen y se comentan en directo. Historias reales\, incómodas\, absurdas o brillantes que generan risa\, identificación y una buena dosis de catarsis colectiva. \nSin solemnidad\, sin lugares comunes y sin discursos correctos. \nVen a compartir una noche de humor directo\, honesto y cercano. Y mucho coñosplaining. \nLas puertas se abrirán a las 20:45 hs \nLa barra estará abierta durante todo el evento. \nLas opciones para la consumición incluída en la entrada serán : cerveza\, vino\, cava\, vermut o refresco. \nLas entradas compradas con código de descuento NO incluyen bebidas
URL:https://teatrometamorfosis.com/es/event/conosplaining-6/
ATTACH;FMTTYPE=image/jpeg:https://teatrometamorfosis.com/wp-content/uploads/2026/01/WhatsApp-Image-2026-03-24-at-08.45.53-1.jpeg
END:VEVENT
BEGIN:VEVENT
DTSTART;TZID=Europe/Madrid:20260307T203000
DTEND;TZID=Europe/Madrid:20260307T220000
DTSTAMP:20260424T175117
CREATED:20260224T183034Z
LAST-MODIFIED:20260224T183034Z
UID:10002953-1772915400-1772920800@teatrometamorfosis.com
SUMMARY:Flamencas por la MUJER
DESCRIPTION:El ATANOR FLAMENCO de Isabel Rivera Cuenca (Badalona)\, es el nombre que escoge la bailaora para titular una función Alquímica en la que se funden tradición con flamenco fusión y en este mes de Marzo con motivo de la celebración de la mujer\, ha reunido a un elenco formado por mujeres FLAMENCAS en todas las disciplinas y que serán acompañadas por el percusionista Chileno Toto Parraguez. en un espectáculo que no dejara indiferente al que lo presencie. \nEn esta ocasión el elenco que la acompaña en su vibrante baile es el toque de la guitarra Flamenca Ángela Zarzuela de Cadiz y la voz de Nerea Marfil de Barcelona.\nLas puertas se abrirán a las 20:15 hs\nLa barra estará abierta durante todo el evento.\nLas opciones para la consumición incluída en la entrada serán : cerveza\, vino\, cava\, vermut o refresco.\nLa entrada comprada en puerta el día del evento costará 18€ pero no incluirá consumición.\nLas entradas compradas con código de descuento NO incluyen bebidas
URL:https://teatrometamorfosis.com/es/event/flamencas-por-la-mujer/
ATTACH;FMTTYPE=image/jpeg:https://teatrometamorfosis.com/wp-content/uploads/2026/02/WhatsApp-Image-2026-02-23-at-15.59.46.jpeg
END:VEVENT
BEGIN:VEVENT
DTSTART;TZID=Europe/Madrid:20260308T130000
DTEND;TZID=Europe/Madrid:20260308T150000
DTSTAMP:20260424T175117
CREATED:20260224T184118Z
LAST-MODIFIED:20260224T184118Z
UID:10002954-1772974800-1772982000@teatrometamorfosis.com
SUMMARY:La Papaya
DESCRIPTION:7 CHICAS · 1 PAPAYA \nLa Papaya es una agrupación musical nacida en Barcelona en 2025\, integrada por siete mujeres de Colombia\, Ecuador\, \nVenezuela\, Chile\, Guatemala\, México y Catalunya. Su música recorre los caminos de la cumbia y los ritmos \nafrolatinos\, tejiendo un sonido propio que combina raíces tradicionales\, arreglos contemporáneos y una energía que desborda el escenario. \nLas puertas se abrirán a las 12:45 \nLa barra estará abierta durante todo el evento. \nLas opciones para la consumición incluída en la entrada serán : cerveza\, vino\, cava\, vermut o refresco. \nLa entrada comprada en puerta el día del evento costará 8€ pero no incluirá consumición. \nLas entradas compradas con código de descuento NO incluyen bebidas
URL:https://teatrometamorfosis.com/es/event/la-papaya/
ATTACH;FMTTYPE=image/jpeg:https://teatrometamorfosis.com/wp-content/uploads/2026/02/WhatsApp-Image-2026-02-24-at-11.22.56.jpeg
END:VEVENT
BEGIN:VEVENT
DTSTART;TZID=Europe/Madrid:20260308T193000
DTEND;TZID=Europe/Madrid:20260308T210000
DTSTAMP:20260424T175117
CREATED:20260223T100557Z
LAST-MODIFIED:20260223T100557Z
UID:10002950-1772998200-1773003600@teatrometamorfosis.com
SUMMARY:Nenucha
DESCRIPTION:Tras la crisis económica argentina de 2001 Nenucha\, un ama de casa de Buenos Aires\, se exilia a Barcelona donde se asienta en el pintoresco barrio de l’Eixample junto a su único hijo\, Rodrigo.Transcurre el año 2005 y ya hace varios meses que Rodrigo ha viajado a Londres. Desde entonces\, su madre no hace más que esperarlo. Hermética en su soledad y casi sin contacto directo con él\, Nenucha recibe una noticia que agrava su amargura. En medio de su melodrama\, una ayuda no deseada y una confirmación muy temida la llevarán a abrir una carta\, desde hace tiempo\, cerrada. El desafío será cambiar la mirada y encontrar el camino hacia el verdadero retorno. \nRodrigo Garbarino \n(Autor y Director General) \nFIICHA TÉCNICA \nAutores: Rodrigo Garbarino\, Marcelo Andino\, Bettina Menegazzo. \nSobre textos originales de Rodrigo Garbarino. \nActúa: Rodrigo Garbarino. \nMaquillaje: Simona Mauggeri. \nFotografía y diseño gráfico: Martín Gonzalez Puig. \nMúsica original: Marcelo Andino. \nProducción general: Rodrigo Garbarino. \nAsistente de dirección: Julián Arenas \nDirección: Rodrigo Garbarino. \nLas opciones para la consumición incluída en la entrada serán : cerveza\, vino\, cava\, vermut o refresco. \nLa entrada comprada en puerta cuesta lo mismo pero SIN consumición \nLas entradas compradas con código de descuento NO incluyen bebidas
URL:https://teatrometamorfosis.com/es/event/nenucha-3/2026-03-08/
ATTACH;FMTTYPE=image/jpeg:https://teatrometamorfosis.com/wp-content/uploads/2026/02/event_m_WhatsApp_Image_2026-01-30_at_08.35.41.jpeg
END:VEVENT
END:VCALENDAR