BEGIN:VCALENDAR
VERSION:2.0
PRODID:-//Teatro Metamorfosis - ECPv6.15.20//NONSGML v1.0//EN
CALSCALE:GREGORIAN
METHOD:PUBLISH
X-WR-CALNAME:Teatro Metamorfosis
X-ORIGINAL-URL:https://teatrometamorfosis.com/es/
X-WR-CALDESC:Eventos para Teatro Metamorfosis
REFRESH-INTERVAL;VALUE=DURATION:PT1H
X-Robots-Tag:noindex
X-PUBLISHED-TTL:PT1H
BEGIN:VTIMEZONE
TZID:Europe/Madrid
BEGIN:DAYLIGHT
TZOFFSETFROM:+0100
TZOFFSETTO:+0200
TZNAME:CEST
DTSTART:20250330T010000
END:DAYLIGHT
BEGIN:STANDARD
TZOFFSETFROM:+0200
TZOFFSETTO:+0100
TZNAME:CET
DTSTART:20251026T010000
END:STANDARD
BEGIN:DAYLIGHT
TZOFFSETFROM:+0100
TZOFFSETTO:+0200
TZNAME:CEST
DTSTART:20260329T010000
END:DAYLIGHT
BEGIN:STANDARD
TZOFFSETFROM:+0200
TZOFFSETTO:+0100
TZNAME:CET
DTSTART:20261025T010000
END:STANDARD
BEGIN:DAYLIGHT
TZOFFSETFROM:+0100
TZOFFSETTO:+0200
TZNAME:CEST
DTSTART:20270328T010000
END:DAYLIGHT
BEGIN:STANDARD
TZOFFSETFROM:+0200
TZOFFSETTO:+0100
TZNAME:CET
DTSTART:20271031T010000
END:STANDARD
END:VTIMEZONE
BEGIN:VEVENT
DTSTART;TZID=Europe/Madrid:20260309T200000
DTEND;TZID=Europe/Madrid:20260309T220000
DTSTAMP:20260424T175123
CREATED:20260111T235028Z
LAST-MODIFIED:20260226T141853Z
UID:10002958-1773086400-1773093600@teatrometamorfosis.com
SUMMARY:Poble Sec jam session
DESCRIPTION:Nueva Jam Session de Jazz en Poble Sec\, abierta al Jazz y otros estilos musicales. Un espacio para la improvisación y la creatividad. \nInvitamos a participar a todos los músicos y amantes de la música en directo! \nA las 20:00 en Teatro Metamorfosis Carrer Tapioles 12\, Poble Sec \nEntrada general 5€ \nMúsicos: 3€ con consumición
URL:https://teatrometamorfosis.com/es/event/poble-sec-jam-session-3-2/2026-03-09/
ATTACH;FMTTYPE=application/pdf:https://teatrometamorfosis.com/wp-content/uploads/2025/08/Jam-Poble-Sec-1.pdf
END:VEVENT
BEGIN:VEVENT
DTSTART;TZID=Europe/Madrid:20260310T190000
DTEND;TZID=Europe/Madrid:20260310T210000
DTSTAMP:20260424T175123
CREATED:20240826T113127Z
LAST-MODIFIED:20241007T201212Z
UID:10001900-1773169200-1773176400@teatrometamorfosis.com
SUMMARY:Curso de actuación
DESCRIPTION:Algunos Items a ver en el curso – Expresión Corporal– Herramientas de interpretación (Cuerpo y Voz)– Improvisación– Juegos Teatrales– Creación de Personaje– Estructura Dramática– Conflicto– ⁠Actitudes Humanas Escribenos para apuntarte +34 604 92 87 50
URL:https://teatrometamorfosis.com/es/event/curso-de-actuacion/2026-03-10/
LOCATION:Teatro Metamofosis\, Carrer de Tapioles 12\, Bajo\, Barcelona\, Barcelona\, 08004\, Spain
ATTACH;FMTTYPE=image/jpeg:https://teatrometamorfosis.com/wp-content/uploads/2024/08/WhatsApp-Image-2024-08-24-at-7.48.20-AM.jpeg
END:VEVENT
BEGIN:VEVENT
DTSTART;TZID=Europe/Madrid:20260312T200000
DTEND;TZID=Europe/Madrid:20260312T220000
DTSTAMP:20260424T175123
CREATED:20251120T231717Z
LAST-MODIFIED:20260130T100532Z
UID:10002916-1773345600-1773352800@teatrometamorfosis.com
SUMMARY:Smut Slam Barcelona
DESCRIPTION:where steamy and storytelling collide \nBarcelona’s only community dirty storytelling open mic is back in town on Thursday\, March 12\, with the theme «EPIC FAIL.» Tell us about the times when things really\, totally\, spectacularly didn’t work. Schedules. Expectations. Toys. Romance. We’re celebrating the best of the worst. \nDoors open at 7pm\, show starts at 8\, arrive early for best choice of seats! \nCreated and hosted by professional perv Cameryn Moore\, Smut Slam features real-life\, first-person sex stories from the audience\, a panel of local judges\, sexy prizes\, and readings from THE FUCKBUCKET (anonymous questions and confessions)! \nIMPORTANT: Smut Slam is queer-friendly\, kink- AND vanilla-friendly\, fat-friendly\, sex worker-friendly\, virgin-friendly\, polyamory-friendly\, and really just friendly! We welcome people with all types and amounts of sexual experiences. We DO NOT welcome stories involving racism\, sexism\, homophobia\, transphobia\, or any other kind of discrimination or nonconsensual objectification or fetishization. CONSENT IS KEY. \nThis event will be in English.\nTickets at the door : 15€
URL:https://teatrometamorfosis.com/es/event/smut-slam-barcelona-2/
ATTACH;FMTTYPE=image/png:https://teatrometamorfosis.com/wp-content/uploads/2025/11/Barcelona-01.2026.png
END:VEVENT
BEGIN:VEVENT
DTSTART;TZID=Europe/Madrid:20260313T200000
DTEND;TZID=Europe/Madrid:20260313T220000
DTSTAMP:20260424T175123
CREATED:20260219T175154Z
LAST-MODIFIED:20260219T175154Z
UID:10002947-1773432000-1773439200@teatrometamorfosis.com
SUMMARY:Musicas Migrantes
DESCRIPTION:Musicas Migrantes es un proyecto musical conformado por Juan Arabel y Joaquin Galván\, dos compositores argentinos. Este concierto une la identidad de Santiago del estero y La Rioja con su folklore tradicional llevado a una evolución sonora de estos nuevos tiempos. Entre el repertorio propuesto se encontrarán diversas versiones de canciones emblemáticas del folklore popular argentino\, como también obras de la música del rock nacional\, y el candombe uruguayo. Se presentará además el más reciente álbum titulado Musicas Migrantes volumen 1 \, más canciones propias y la participación de grandes artistas invitados de la escena de Barcelona \nLas puertas se abrirán a las 19:45\nLa barra estará abierta durante todo el evento.\nLas opciones para la consumición incluída en la entrada serán : cerveza\, vino\, cava\, vermut o refresco.\nLa entrada comprada en puerta el día del evento costará 15€ pero no incluirá consumición.\nLas entradas compradas con código de descuento NO incluyen bebidas
URL:https://teatrometamorfosis.com/es/event/musicas-migrantes/
ATTACH;FMTTYPE=image/jpeg:https://teatrometamorfosis.com/wp-content/uploads/2026/02/WhatsApp-Image-2026-02-18-at-07.32.15.jpeg
END:VEVENT
BEGIN:VEVENT
DTSTART;TZID=Europe/Madrid:20260314T203000
DTEND;TZID=Europe/Madrid:20260314T220000
DTSTAMP:20260424T175123
CREATED:20260226T140632Z
LAST-MODIFIED:20260226T140632Z
UID:10002955-1773520200-1773525600@teatrometamorfosis.com
SUMMARY:Popcorn Singalong – The Greatest Showman!
DESCRIPTION:Hosted by Lady Red Velvet\nStep right up for a spectacular night of movie magic at Teatro Metamorfosis with a special singalong screening of The Greatest Showman! \nSing your heart out to unforgettable songs like This Is Me\, Rewrite the Stars\, and A Million Dreams\, enjoy dazzling live moments during the film\, and of course—plenty of popcorn! \nIt’s the perfect night out with friends\, lovers\, and anyone ready to shine in the spotlight. \nTeatro Metamorfosis\n14th March\n8:30 PM \nDress inspired by The Greatest Showman — circus glamour\, ringmaster elegance\, sparkling costumes\, or bold theatrical fantasy encouraged! \nTickets available via the link in profile! \n⸻ \nPopcorn Singalong – ¡The Greatest Showman! \nPresentado por Lady Red Velvet\nPrepárate para una noche espectacular de magia cinematográfica en Teatro Metamorfosis con una proyección especial singalong de The Greatest Showman.\nCanta a todo pulmón canciones inolvidables como This Is Me\, Rewrite the Stars y A Million Dreams\, disfruta de momentos en vivo durante la película y\, por supuesto—¡muchas palomitas! \nEs la noche perfecta para venir con amigos\, pareja o cualquiera que quiera brillar bajo el reflector. \nTeatro Metamorfosis\n14 de marzo\n20:30 h\nVen vestido inspirado en The Greatest Showman — glamour de circo\, elegancia de ringmaster\, vestuario brillante o fantasía teatral.
URL:https://teatrometamorfosis.com/es/event/popcorn-singalong-the-greatest-showman/
ATTACH;FMTTYPE=image/jpeg:https://teatrometamorfosis.com/wp-content/uploads/2026/02/WhatsApp-Image-2026-02-25-at-15.04.05.jpeg
END:VEVENT
END:VCALENDAR