BEGIN:VCALENDAR
VERSION:2.0
PRODID:-//Teatro Metamorfosis - ECPv6.15.20//NONSGML v1.0//EN
CALSCALE:GREGORIAN
METHOD:PUBLISH
X-WR-CALNAME:Teatro Metamorfosis
X-ORIGINAL-URL:https://teatrometamorfosis.com/es/
X-WR-CALDESC:Eventos para Teatro Metamorfosis
REFRESH-INTERVAL;VALUE=DURATION:PT1H
X-Robots-Tag:noindex
X-PUBLISHED-TTL:PT1H
BEGIN:VTIMEZONE
TZID:Europe/Madrid
BEGIN:DAYLIGHT
TZOFFSETFROM:+0100
TZOFFSETTO:+0200
TZNAME:CEST
DTSTART:20250330T010000
END:DAYLIGHT
BEGIN:STANDARD
TZOFFSETFROM:+0200
TZOFFSETTO:+0100
TZNAME:CET
DTSTART:20251026T010000
END:STANDARD
BEGIN:DAYLIGHT
TZOFFSETFROM:+0100
TZOFFSETTO:+0200
TZNAME:CEST
DTSTART:20260329T010000
END:DAYLIGHT
BEGIN:STANDARD
TZOFFSETFROM:+0200
TZOFFSETTO:+0100
TZNAME:CET
DTSTART:20261025T010000
END:STANDARD
BEGIN:DAYLIGHT
TZOFFSETFROM:+0100
TZOFFSETTO:+0200
TZNAME:CEST
DTSTART:20270328T010000
END:DAYLIGHT
BEGIN:STANDARD
TZOFFSETFROM:+0200
TZOFFSETTO:+0100
TZNAME:CET
DTSTART:20271031T010000
END:STANDARD
END:VTIMEZONE
BEGIN:VEVENT
DTSTART;TZID=Europe/Madrid:20260316T200000
DTEND;TZID=Europe/Madrid:20260316T220000
DTSTAMP:20260424T175124
CREATED:20260111T235028Z
LAST-MODIFIED:20260226T141853Z
UID:10002959-1773691200-1773698400@teatrometamorfosis.com
SUMMARY:Poble Sec jam session
DESCRIPTION:Nueva Jam Session de Jazz en Poble Sec\, abierta al Jazz y otros estilos musicales. Un espacio para la improvisación y la creatividad. \nInvitamos a participar a todos los músicos y amantes de la música en directo! \nA las 20:00 en Teatro Metamorfosis Carrer Tapioles 12\, Poble Sec \nEntrada general 5€ \nMúsicos: 3€ con consumición
URL:https://teatrometamorfosis.com/es/event/poble-sec-jam-session-3-2/2026-03-16/
ATTACH;FMTTYPE=application/pdf:https://teatrometamorfosis.com/wp-content/uploads/2025/08/Jam-Poble-Sec-1.pdf
END:VEVENT
BEGIN:VEVENT
DTSTART;TZID=Europe/Madrid:20260317T190000
DTEND;TZID=Europe/Madrid:20260317T210000
DTSTAMP:20260424T175124
CREATED:20240826T113127Z
LAST-MODIFIED:20241007T201212Z
UID:10001901-1773774000-1773781200@teatrometamorfosis.com
SUMMARY:Curso de actuación
DESCRIPTION:Algunos Items a ver en el curso – Expresión Corporal– Herramientas de interpretación (Cuerpo y Voz)– Improvisación– Juegos Teatrales– Creación de Personaje– Estructura Dramática– Conflicto– ⁠Actitudes Humanas Escribenos para apuntarte +34 604 92 87 50
URL:https://teatrometamorfosis.com/es/event/curso-de-actuacion/2026-03-17/
LOCATION:Teatro Metamofosis\, Carrer de Tapioles 12\, Bajo\, Barcelona\, Barcelona\, 08004\, Spain
ATTACH;FMTTYPE=image/jpeg:https://teatrometamorfosis.com/wp-content/uploads/2024/08/WhatsApp-Image-2024-08-24-at-7.48.20-AM.jpeg
END:VEVENT
BEGIN:VEVENT
DTSTART;TZID=Europe/Madrid:20260318T200000
DTEND;TZID=Europe/Madrid:20260318T220000
DTSTAMP:20260424T175124
CREATED:20260305T151846Z
LAST-MODIFIED:20260305T153812Z
UID:10002964-1773864000-1773871200@teatrometamorfosis.com
SUMMARY:Vicente Oliveira y Andronikos Sotiriou
DESCRIPTION:Vicente Oliveira y Andronikos Sotiriou presentan un concierto con composiciones originales de ambos artistas\, donde el jazz dialoga con el rock\, el blues\, la música clásica y el jazz moderno.\nUn encuentro sonoro marcado por la improvisación\, la escucha profunda y la libertad creativa. \nLas puertas se abrirán a las 19:45\nLa barra estará abierta durante todo el evento.\nLas opciones para la consumición incluída en la entrada serán : cerveza\, vino\, cava\, vermut o refresco.\nLa entrada comprada en puerta el día del evento costará 15€ pero no incluirá consumición.\nLas entradas compradas con código de descuento NO incluyen bebidas
URL:https://teatrometamorfosis.com/es/event/vicente-oliveira-y-andronikos-sotiriou/
ATTACH;FMTTYPE=image/jpeg:https://teatrometamorfosis.com/wp-content/uploads/2026/03/WhatsApp-Image-2026-03-05-at-12.30.14.jpeg
END:VEVENT
BEGIN:VEVENT
DTSTART;TZID=Europe/Madrid:20260320T200000
DTEND;TZID=Europe/Madrid:20260320T220000
DTSTAMP:20260424T175124
CREATED:20251218T150637Z
LAST-MODIFIED:20260102T150135Z
UID:10002923-1774036800-1774044000@teatrometamorfosis.com
SUMMARY:UNBARBIED
DESCRIPTION:UNBARBIED es un viaje sonoro y emocional hacia la esencia más pura de La Barbie Calva\, nombre artístico de Victoria Monique. \nInspirado en los legendarios MTV Unplugged —formatos que creaban un ambiente íntimo y acercaban a la artista al público—\, este concierto permitirá a la lleidatana “desenchufar” su personaje y mostrarse en su forma más real\, vulnerable y entregada. \nEn él\, Victoria Monique interpretará versiones de los discos que marcaron su vida\, acompañada por las voces de Albert Alcadio\, Emery Augusto y Roberto Insa. Entre el R&B\, el soul y el pop de los 90 y 2000\, el espectáculo también abraza canciones recientes que la han hecho redescubrir el placer de escuchar y admirar cómo las nuevas generaciones están reinventando la música. \nUNBARBIED es el reencuentro con la niña que soñaba con cantar aquellas canciones que sonaban en bucle en su reproductor de CDs\, y una invitación a conocer —por fin— a la mujer que hay detrás de la muñeca.
URL:https://teatrometamorfosis.com/es/event/unbarbied/
ATTACH;FMTTYPE=image/jpeg:https://teatrometamorfosis.com/wp-content/uploads/2025/12/Captura-de-pantalla_2-1-2026_115130_.jpeg
END:VEVENT
BEGIN:VEVENT
DTSTART;TZID=Europe/Madrid:20260321T200000
DTEND;TZID=Europe/Madrid:20260321T220000
DTSTAMP:20260424T175124
CREATED:20260312T111920Z
LAST-MODIFIED:20260312T111920Z
UID:10002967-1774123200-1774130400@teatrometamorfosis.com
SUMMARY:EXPANSIÓN
DESCRIPTION:Abstract del espectáculo\nJoaquín Galván y Mono Banegas presentan EXPANSIÓN\, una propuesta artística que entrelaza música\, identidad y legado cultural. En este encuentro\, ambos artistas despliegan una obra que evoca raíces profundas y una proyección contemporánea\, donde la tradición se transforma y continúa. \nJoaquín Galván\nPresentará un repertorio que ha acompañado su trayectoria desde sus inicios como integrante y arreglador de El Perfil\, hasta sus composiciones como solista. Estas obras\, concebidas entre su etapa en Córdoba (Argentina) y su residencia en Barcelona\, surgen del diálogo entre música y poesía\, ofreciendo un recorrido sensible y honesto por su evolución artística. \nMono Banegas\nCon su propuesta Reminiscencia\, explora su identidad a través de una búsqueda sonora y conceptual que une pasado y presente. En su viaje por los orígenes africanos de la chacarera\, Banegas reconstruye mitos\, paisajes y texturas\, generando una experiencia donde la tradición se funde con la experimentación contemporánea. Su trabajo es un acto de introspección y expansión\, donde la música se convierte en memoria viva. \nLas puertas se abrirán a las 19:45\nLa barra estará abierta durante todo el evento.\nLas opciones para la consumición incluída en la entrada serán : cerveza\, vino\, cava\, vermut o refresco.\nLa entrada comprada en puerta el día del evento costará 15€ pero no incluirá consumición.\nLas entradas compradas con código de descuento NO incluyen bebidas
URL:https://teatrometamorfosis.com/es/event/expansion/
ATTACH;FMTTYPE=image/jpeg:https://teatrometamorfosis.com/wp-content/uploads/2026/03/WhatsApp-Image-2026-03-11-at-16.05.54-1.jpeg
END:VEVENT
BEGIN:VEVENT
DTSTART;TZID=Europe/Madrid:20260322T123000
DTEND;TZID=Europe/Madrid:20260322T140000
DTSTAMP:20260424T175124
CREATED:20260308T235004Z
LAST-MODIFIED:20260308T235004Z
UID:10002965-1774182600-1774188000@teatrometamorfosis.com
SUMMARY:ANDY WARHOL
DESCRIPTION:Monólogo teatral sobre el icono del Pop Art. Su vida privada con reflexiones libres sobre su vida amorosa. Sus vínculos con el artisteo del Nueva York años 60 a los 80 y toda la movida de The Factory. Una mirada crítica de América y los inmigrantes y la dificultad de ser diferente. \n«La manada echa fuera al singular »\nFicha técnica :\nAutor y director\nHoracio Ladrón de Guevara\nDirección artística\nManel Vázquez\nInterpretación actoral\nJuan Antonio Pérez\nProducción\nMORFICO \nLas puertas se abrirán 15 minutos antes de las función.\nLa barra estará abierta durante todo el evento.\nLas opciones para la consumición incluída en la entrada serán : cerveza\, vino\, cava\, vermut o refresco.\nLa entrada comprada en puerta el día del evento costará 18€ pero no incluirá consumición.\nLas entradas compradas con código de descuento NO incluyen bebidas
URL:https://teatrometamorfosis.com/es/event/andy-warhol/2026-03-22/
ATTACH;FMTTYPE=image/jpeg:https://teatrometamorfosis.com/wp-content/uploads/2026/03/WhatsApp-Image-2026-03-06-at-11.03.40.jpeg
END:VEVENT
BEGIN:VEVENT
DTSTART;TZID=Europe/Madrid:20260322T193000
DTEND;TZID=Europe/Madrid:20260322T210000
DTSTAMP:20260424T175124
CREATED:20260223T100557Z
LAST-MODIFIED:20260223T100557Z
UID:10002951-1774207800-1774213200@teatrometamorfosis.com
SUMMARY:Nenucha
DESCRIPTION:Tras la crisis económica argentina de 2001 Nenucha\, un ama de casa de Buenos Aires\, se exilia a Barcelona donde se asienta en el pintoresco barrio de l’Eixample junto a su único hijo\, Rodrigo.Transcurre el año 2005 y ya hace varios meses que Rodrigo ha viajado a Londres. Desde entonces\, su madre no hace más que esperarlo. Hermética en su soledad y casi sin contacto directo con él\, Nenucha recibe una noticia que agrava su amargura. En medio de su melodrama\, una ayuda no deseada y una confirmación muy temida la llevarán a abrir una carta\, desde hace tiempo\, cerrada. El desafío será cambiar la mirada y encontrar el camino hacia el verdadero retorno. \nRodrigo Garbarino \n(Autor y Director General) \nFIICHA TÉCNICA \nAutores: Rodrigo Garbarino\, Marcelo Andino\, Bettina Menegazzo. \nSobre textos originales de Rodrigo Garbarino. \nActúa: Rodrigo Garbarino. \nMaquillaje: Simona Mauggeri. \nFotografía y diseño gráfico: Martín Gonzalez Puig. \nMúsica original: Marcelo Andino. \nProducción general: Rodrigo Garbarino. \nAsistente de dirección: Julián Arenas \nDirección: Rodrigo Garbarino. \nLas opciones para la consumición incluída en la entrada serán : cerveza\, vino\, cava\, vermut o refresco. \nLa entrada comprada en puerta cuesta lo mismo pero SIN consumición \nLas entradas compradas con código de descuento NO incluyen bebidas
URL:https://teatrometamorfosis.com/es/event/nenucha-3/2026-03-22/
ATTACH;FMTTYPE=image/jpeg:https://teatrometamorfosis.com/wp-content/uploads/2026/02/event_m_WhatsApp_Image_2026-01-30_at_08.35.41.jpeg
END:VEVENT
END:VCALENDAR